Workbook

Sheet Report to Bond Buyer
C6: Originally | D6: Revised
C7: Reported
A8: Available | B8: 2003 Cap | C8: =Totals!$S$6 -> 1633491975 | D8: =Totals!$S$6 -> 1633491975
B9: Carryforward to 2003 | C9: 1.7989452e+08 | D9: 1.9269452e+08 | E9: (192.7 million was reported for 2002)
B10: Total Capacity | C10: =SUM(C8:C9) -> 1.8133865e+09 | D10: =SUM(D8:D9) -> 1.8261865e+09
A12: Issued and to be Issued | B12: Mortgage Revenue Bonds | C12: 166861717 | D12: 166861717
B13: CF (2002) | D13: 10450000
B14: Multifamily Housing | C14: 556976000 | D14: =SUM(C14-'Carryforward 2003'!$L26-Carryforward2002!$L23-Carryforward2002!$L28) -> 388626000
B15: 2002 CF | C15: 70800000 | D15: =Carryforward2002!L15+Carryforward2002!L23+Carryforward2002!L28 -> 123550000
B16: Housing Not Broken out | C16: 0 | D16: 0
B17: IDBs | C17: 3700000 | D17: 3700000
B18: Exempt Facilities | C18: 3.9147666e+08 | D18: 3.9147666e+08
B19: CF | C19: 22108338 | D19: 22108338
B20: Student Loans | C20: 175000000 | D20: 140000000
B21: Mortgage Credit Certificates | C21: 94206746 | D21: 94209746
B22: Other | C22: 100000000 | D22: 100000000 | H22: 556976000 | L22: Issued
B23: Carryforward Abandoned | C23: 0 | D23: 0 | L23: =Totals!R40 -> 177311717 | M23: MRBs
B24: Carryforward to 2004 | C24: 3.8845403e+08 | D24: =388704030.55-3500000 -> 3.8520403e+08 | E24: 3.5 million pulled per Monica | J24: 556976000 | L24: =Totals!R41 -> 512176000 | M24: MF | N24: 738526000
C25: =SUM(C12:C24) -> 1.9695835e+09 | D25: =SUM(D12:D24) -> 1.8261865e+09 | L25: =Totals!R42 -> 0 | M25: MF CF
L26: =Totals!R43 -> 3700000 | M26: Small IDB
B27: Discrepancy | C27: =SUM(C10-C25) -> -156197000 | D27: =SUM(D10-D25) -> 0 | E27: =SUM(D27/D10) -> 0 | L27: =Totals!R44 -> 3.9147666e+08 | M27: Exempt
L28: =Totals!R45 -> 22108338 | M28: Exempt CF
J29: Authorized | L29: =Totals!R46 -> 175000000 | M29: Student Loans
H30: 2003 Ceiling | J30: 1633491975 | L30: =Totals!R47 -> 94209746 | M30: MCCs
D31: =SUM(D24) -> 3.8520403e+08 | H31: 2002 Carryforward | J31: 1.9269452e+08 | L31: =Totals!R48 -> 100000000 | M31: State Voted
H32: 2003 Total | J32: 1.8261865e+09 | L32: =SUM(L23:L31) -> 1475982463

Sheet Totals
A2: STATUS OF 2003 ALLOCATION PROGRAM AS OF | E2: =TODAY() -> 43335
D5: TOTAL | F5: MRB's | H5: State Voted | J5: IDBs | L5: TDHCA - MF | N5: Local HFC's MF | P5: Student Loan | R5: All Other
A6: 2003 STATE CEILING | D6: =SUM(F6:R6) -> 1633491975 | F6: ='SC1 MRB'!$C$1 -> 483513624 | H6: =+'State Voted'!C1 -> 130679358 | J6: =+'Small Issue IDBs'!C1 -> 75140631 | L6: =+'SC4 MF- TDHCA'!C1 -> 93925789 | N6: ='REGION 1'!C1+'REGION 2'!C1+'REGION 3'!C1+'REGION 4'!C1+'REGION 5'!C1+'REGION 6'!C1+'REGION 7'!C1+'REGION 8A'!C1+'REGION 8B'!C1+'REGION 9'!C1+'REGION 10'!C1 -> 281777366 | P6: =+'Student Loan Bonds'!C1 -> 143747294 | R6: ='SC6 OTHER'!$C$1 -> 424707913 | S6: =SUM(F6:R6) -> 1633491975
A8: REQUESTS TO DATE | D8: =SUM(F8:R8) -> 4.8951906e+09 | F8: ='SC1 MRB'!$D$63 -> 7.8439459e+08 | H8: =+'State Voted'!D16 -> 100000000 | J8: =+'Small Issue IDBs'!D29 -> 25450000 | L8: =+'SC4 MF- TDHCA'!F114 -> 1385100000 | N8: ='REGION 1'!F20+'REGION 2'!F12+'REGION 3'!F50+'REGION 4'!F21+'REGION 5'!F15+'REGION 6'!F84+'REGION 7'!F34+'REGION 8A'!F32+'REGION 8B'!F18+'REGION 9'!F16+'REGION 10'!F15 -> 1774245964 | P8: =+'Student Loan Bonds'!D15 -> 175000000 | R8: ='SC6 OTHER'!$F$39 -> 651000000 | S8: =SUM(F8:R8) -> 4.8951906e+09
A10: RESERVATIONS TO DATE | D10: =SUM(F10:R10) -> 2547382497 | F10: ='SC1 MRB'!$G$63 -> 332135675 | H10: =+'State Voted'!E16 -> 100000000 | J10: =+'Small Issue IDBs'!E29 -> 25450000 | L10: =+'SC4 MF- TDHCA'!G114 -> 515400000 | N10: ='REGION 1'!G20+'REGION 2'!G12+'REGION 3'!G50+'REGION 4'!G21+'REGION 5'!G15+'REGION 6'!G84+'REGION 7'!G34+'REGION 8A'!G32+'REGION 8B'!G18+'REGION 9'!G16+'REGION 10'!G15 -> 823396822 | P10: =+'Student Loan Bonds'!E15 -> 175000000 | R10: ='SC6 OTHER'!$G$39 -> 576000000 | S10: =SUM(F10:R10) -> 2547382497
A12: ALLOCATIONS TO DATE | D12: =SUM(F12:R12) -> 1.5482241e+09 | F12: ='SC1 MRB'!$L$63 -> 321071463 | H12: =+'State Voted'!J16 -> 100000000 | J12: =+'Small Issue IDBs'!J29 -> 3700000 | L12: =+'SC4 MF- TDHCA'!L114 -> 187450000 | N12: ='REGION 1'!L20+'REGION 2'!L12+'REGION 3'!L50+'REGION 4'!L21+'REGION 5'!L15+'REGION 6'!L84+'REGION 7'!L34+'REGION 8A'!L32+'REGION 8B'!L18+'REGION 9'!L16+'REGION 10'!L15 -> 369526000 | P12: =+'Student Loan Bonds'!J15 -> 175000000 | R12: ='SC6 OTHER'!L39 -> 3.9147666e+08 | S12: =SUM(F12:R12) -> 1.5482241e+09
A14: RESERVATIONS RELEASED | D14: =SUM(F14:R14) -> 1.0586584e+09 | F14: ='SC1 MRB'!$M$63 -> 71064212 | H14: =+'State Voted'!K16 -> 0 | J14: =+'Small Issue IDBs'!K29 -> 21750000 | L14: =+'SC4 MF- TDHCA'!M114 -> 327950000 | N14: ='REGION 1'!M20+'REGION 2'!M12+'REGION 3'!M50+'REGION 4'!M21+'REGION 5'!M15+'REGION 6'!M84+'REGION 7'!M34+'REGION 8A'!M32+'REGION 8B'!M18+'REGION 9'!M16+'REGION 10'!M15 -> 453370822 | P14: =+'Student Loan Bonds'!K15 -> 0 | R14: ='SC6 OTHER'!M39 -> 1.8452334e+08 | S14: =SUM(F14:R14) -> 1.0586584e+09
A16: UNSATISFIED REQUESTS | D16: =SUM(F16:R16) -> 2.3478081e+09 | F16: =+F8-F10 -> 4.5225892e+08 | H16: =+H8-H10 -> 0 | J16: =+J8-J10 -> 0 | L16: =+L8-L10 -> 869700000 | N16: =+N8-N10 -> 950849142 | P16: =+P8-P10 -> 0 | R16: =+R8-R10 -> 75000000 | S16: =SUM(F16:R16) -> 2.3478081e+09
A18: AVAILABLE ALLOCATION | D18: =SUM(F18+H18+J18+L18+N18+P18+R18) -> 1.4476785e+08 | F18: =+F6-F10+F14 -> 222442161 | H18: =+H6-H10+H14 -> 30679358 | J18: =+J6-J10+J14 -> 71440631 | L18: =+L6-L10+L14 -> -93524211 | N18: =+N6-N10+N14 -> -88248634 | P18: =+P6-P10+P14 -> -31252706 | R18: =+R6-R10+R14 -> 33231251 | S18: =SUM(F18:R18) -> 1.4476785e+08
N20: =SUM(L12:N12) -> 556976000
F23: =F8/F6 -> 1.6222802 | H23: =H8/H6 -> 0.7652318 | J23: =J8/J6 -> 0.33869825 | L23: =(L8+N8)/(L6+N6) -> 8.4091547 | P23: =P8/P6 -> 1.2174142 | R23: =R8/R6 -> 1.5328182
N27: =N8+L8 -> 3159345964 | P27: req
D29: =D8-D14-'SC1 MRB'!E73 -> 2.8468964e+09 | F29: demand q3
N30: =L14+N14 -> 781320822 | P30: with/canc
N32: 1615887615 | P32: with/canc not counted
P33: released
D34: =D14+'SC1 MRB'!E73 -> 2.0482941e+09 | H34: =L8+N8 -> 3159345964 | N34: =N27-N30-N32 -> 762137527 | P34: demand
H35: ='SC4 MF- TDHCA'!F137+Totals!L14+Totals!N14 -> 970520822
H36: =H34-H35 -> 2188825142 | J36: mfdemand q3
H39: =L12+N12 -> 556976000 | N39: =L12+N12 -> 556976000 | R39: Issued
R40: 177311717 | S40: MRBs
P41: =SUM(L12:N12) -> 556976000 | R41: =52750000+L12+N12-'[1]Carryforward 2003'!L28 -> 512176000 | S41: MF | T41: =SUM(627776000+Carryforward2002!$L35) -> 751326000 | U41: 141000000
S42: MF CF
R43: 3700000 | S43: Small IDB
R44: =$R$12 -> 3.9147666e+08 | S44: Exempt
R45: =Carryforward2002!$F$33 -> 22108338 | S45: Exempt CF
P46: Authorized | R46: 175000000 | S46: Student Loans
N47: 2003 Ceiling | P47: 1633491975 | R47: 94209746 | S47: MCCs
N48: 2002 Carryforward | P48: 1.9269452e+08 | R48: 100000000 | S48: State Voted
D49: =D8 -> 4.8951906e+09 | F49: requests | H49: through q4 | N49: 2003 Total | P49: =SUM(P47:P48) -> 1.8261865e+09 | R49: =SUM(R40:R48) -> 1475982463 | S49: =SUM(P49-R49) -> 3.5020403e+08
D50: ='SC1 MRB'!E73+'SC1 MRB'!F73 -> 1172535749 | F50: with/canc not counted | S50: 3.8845403e+08 | T50: 2003 Carry Forward
D51: =D14 -> 1.0586584e+09 | F51: released | S51: =SUM(S49-S50) -> -38250000
D52: =D49-D50-D51 -> 2.6639964e+09
L53: =D50+D51 -> 2.2311941e+09 | R53: =SUM(P49-388454030.55) -> 1437732463 | S53: 331
S54: 327950000
S55: 331950000
S56: =SUM(S54-S55) -> -4000000
L69: =L8+N8 -> 3159345964 | N69: requests
H70: ='SC4 MF- TDHCA'!F12+'SC4 MF- TDHCA'!F15+'SC4 MF- TDHCA'!F23+'SC4 MF- TDHCA'!F26+'SC4 MF- TDHCA'!F27+'SC4 MF- TDHCA'!F29+'SC4 MF- TDHCA'!F31+'SC4 MF- TDHCA'!F32+'SC4 MF- TDHCA'!F33+'SC4 MF- TDHCA'!F34+'SC4 MF- TDHCA'!F37+'SC4 MF- TDHCA'!F38+'REGION 1'!F9+'REGION 1'!F10+'REGION 1'!F11+'REGION 3'!F15+'REGION 3'!F18+'REGION 3'!F20+'REGION 3'!F21+'REGION 3'!F22+'REGION 3'!F23+'REGION 3'!F27+'REGION 3'!F30+'REGION 3'!F31+'REGION 3'!F32+'REGION 3'!F33+'REGION 3'!F34+'REGION 3'!F35+'REGION 3'!F36+'REGION 3'!F37+'REGION 3'!F38+'REGION 3'!F39+'REGION 4'!F9+'REGION 6'!F10+'REGION 6'!F14+'REGION 6'!F17+'REGION 6'!F19+'REGION 6'!F20+'REGION 6'!F23+'REGION 6'!F24+'REGION 6'!F27+'REGION 6'!F30+'REGION 6'!F31+'REGION 6'!F35+'REGION 6'!F38+'REGION 6'!F39+'REGION 6'!F40+'REGION 6'!F41+'REGION 6'!F42+'REGION 6'!F44+'REGION 6'!F46+'REGION 6'!F47+'REGION 6'!F48+'REGION 6'!F49+'REGION 6'!F51+'REGION 6'!F52+'REGION 6'!F55+'REGION 6'!F56+'REGION 6'!F57+'REGION 6'!F58+'REGION 6'!F59+'REGION 6'!F62+'REGION 6'!F65+'REGION 7'!F23 -> 828440615 | J70: ='REGION 8A'!F14+'REGION 8A'!F16+'REGION 8A'!F17+'REGION 8A'!F18+'REGION 8A'!F19+'REGION 8A'!F20+'REGION 8A'!F21+'REGION 8A'!F22+'REGION 8A'!F23 -> 123400000 | L70: =H70+J70 -> 951840615 | N70: with/canc not counted | R70: =L70+L71 -> 1733161437
L71: =L14+N14 -> 781320822 | N71: released
L72: =L69-L70-L71 -> 1426184527 | N72: mfdemand q4

Sheet Carryforward2002
J1: Certified | K1: Closed | L1: Released
A2: 2630 | B2: CLOSED | C2: Tarrant County HFC | D2: The Park at Sycamore School Apartments | E2: Fort Worth | F2: 12800000 | G2: 12800000 | H2: 36067 | I2: =H2+35 -> 36102 | J2: 12800000 | K2: =H2+120 -> 36187 | L2: 12800000
A3: 2640 | B3: WITHDREW | C3: TDHCA | D3: Walters Apts. Ltd | E3: Houston | F3: 15000000 | G3: 15000000 | H3: 36124 | I3: =+H3+35 -> 36159 | J3: 15000000 | K3: =+H3+120 -> 36244 | L3: 15000000
A4: 2631 | B4: CANCELLED | C4: Southeast Texas HFC | D4: Pearland 518 Apartments | E4: Pearland | F4: 15000000 | G4: 15000000 | H4: 36067 | I4: =H4+35 -> 36102 | J4: 15000000 | K4: =H4+120 -> 36187 | L4: 15000000
A5: 2635 | B5: CLOSED | C5: TDHCA | D5: Reading Rd. Apts. | E5: Rosenberg | F5: 14000000 | G5: 14000000 | H5: 36085 | I5: =+H5+35 -> 36120 | J5: 14000000 | K5: =+H5+120 -> 36205 | L5: 1800000
A6: 2634 | B6: CLOSED | C6: Travis County HFC | D6: Woodway Square Apts. | E6: Austin, TX | F6: 14000000 | G6: 14000000 | H6: 36085 | I6: =H6+35 -> 36120 | J6: 14000000 | K6: =H6+120 -> 36205 | L6: 250000
A7: 2642 | B7: WITHDREW | C7: TDHCA | D7: Groescke Apts. Ltd | E7: Houston | F7: 12000000 | G7: 12000000 | H7: 36125 | I7: =+H7+35 -> 36160 | J7: 12000000 | K7: =+H7+120 -> 36245 | L7: 12000000
A8: 2637 | B8: CLOSED | C8: TDHCA | D8: North Vista Apts. | E8: Houston, | F8: 15000000 | G8: 15000000 | H8: 36116 | I8: =+H8+35 -> 36151 | J8: 15000000 | K8: =+H8+120 -> 36236 | L8: 1000000
A9: 2638 | B9: CANCELLED | C9: TDHCA | D9: Enclave Housing Ltd | E9: Houston | F9: 11000000 | G9: 11000000 | H9: 36118 | I9: =+H9+35 -> 36153 | J9: 11000000 | K9: =+H9+120 -> 36238 | L9: 11000000
A10: 2639 | B10: CANCELLED | C10: TDHCA | D10: Cobblestone Townhomes Ltd | E10: Arlington | F10: 15000000 | G10: 15000000 | H10: 36119 | I10: =+H10+35 -> 36154 | J10: 15000000 | K10: =+H10+120 -> 36239 | L10: 15000000
A11: 2641 | B11: CANCELLED | C11: Capital Area HFC | D11: The Park at Bagdad | E11: Leander, TX | F11: 15000000 | G11: 15000000 | H11: 36125 | I11: =H11+35 -> 36160 | J11: 15000000 | K11: =H11+120 -> 36245 | L11: 15000000
A13: 2633 | B13: CANCELLED | C13: Metropolitan HFC | D13: 19580750 | E13: 0.92 | F13: 18014290 | G13: 18014290 | H13: 36071 | I13: =H13+35 -> 36106 | J13: 18014290 | K13: =SUM(H13+180) -> 36251 | L13: 18014290
A14: 2636 | B14: CLOSED | C14: Amarillo HFC | D14: MRBs | G14: 13771891 | H14: 36090 | I14: =H14+35 -> 36125 | J14: 13771891 | K14: =SUM(H14+180) -> 36270 | L14: 3321891
K15: Closed Only | L15: =SUM(L2+J5-L5+J6-L6+J8-L8) -> 52750000
A17: CF02 used in 03 | L17: Closed | M17: Released
A18: CF022675 | B18: CLOSED | C18: TDHCA | D18: Sphinx at Murdeaux | E18: Dallas, TX | F18: 13400000 | G18: 13400000 | H18: 36175 | I18: =H18+35 -> 36210 | J18: 13400000 | K18: =H18+120 -> 36295 | L18: 13400000 | M18: 0 | N18: 36293
A19: CF022683 | B19: CLOSED | C19: TDHCA | D19: Primrose Houston School | E19: Lancaster, TX | F19: 15000000 | G19: 15000000 | H19: 36183 | I19: =H19+35 -> 36218 | J19: 15000000 | K19: =H19+120 -> 36303 | L19: 15000000 | M19: 0 | N19: 36307
A20: CF022656 | B20: CLOSED | C20: TDHCA | D20: West Virginia Apts. | E20: Dallas, TX | F20: 11100000 | G20: 11100000 | H20: 36167 | I20: =H20+35 -> 36202 | J20: 11100000 | K20: =H20+120 -> 36287 | L20: 9450000 | M20: =J20-L20 -> 1650000 | N20: 36281
A21: CF022709 | B21: CLOSED | C21: TDHCA | D21: Timber Oaks Apts. | E21: Grand Prairie, TX | F21: 10900000 | G21: 10900000 | H21: 36249 | I21: =H21+35 -> 36284 | J21: 10900000 | K21: =H21+120 -> 36369 | L21: 10900000 | M21: 0 | N21: 36370
A22: CF022716 | B22: CLOSED | C22: TDHCA | D22: Ash Creek* | E22: Mesquite, TX | F22: 15000000 | G22: 15000000 | H22: 36281 | I22: =H22+35 -> 36316 | J22: 15000000 | K22: =H22+120 -> 36401 | L22: 7050000 | M22: 0 | N22: 36400
D23: full amount closed $15MM | L23: =SUM(L18:L22) -> 55800000
A26: CF022686 | B26: CLOSED | C26: Capital Area HFC | D26: Caspita Apts. | E26: Cedar Park, TX | F26: 15000000 | G26: 15000000 | H26: 36182 | I26: =H26+35 -> 36217 | J26: 15000000 | K26: =H26+120 -> 36302 | L26: 14750000 | M26: =J26-L26 -> 250000 | N26: 36312
A27: CF022710 | B27: CLOSED | C27: Capital Area HFC | D27: Cedar Park Ranch | E27: Cedar Park, TX | F27: 12000000 | G27: 12000000 | H27: 36253 | I27: =H27+35 -> 36288 | J27: 12000000 | K27: =H27+120 -> 36373 | L27: 250000 | M27: =J27-L27 -> 11750000 | N27: 36377
L28: =SUM(L26:L27) -> 15000000
A32: Traditional carryforwad
A33: CF02-001 | B33: Closed | C33: Brazos River Autority | D33: TXU | F33: 22108338 | G33: 36243
I34: 2003 Cap | J34: 1633491975
I35: 2002 Carry Forward | J35: =SUM(J3:J14)+F33 -> 1.7989452e+08 | L35: =L15+L23+L28 -> 123550000
I36: Total | J36: =SUM(J34:J35) -> 1.8133865e+09
D40: =L3+L5+L7+L8+L9+L10 -> 55800000

Sheet Carryforward 2003
E1: Reserved | F1: 35-day | G1: 3 years | H1: Allocated | I1: Released
A2: 03CF-0001 | B2: Gulf Coast WDA | C2: Waste Corporation of America | D2: 50000000 | E2: 36524 | F2: =E2+35 -> 36559 | G2: =E2+1095 -> 37619
A3: 03CF-0002 | B3: Hale County IDC | C3: Stuikmans Ramona | D3: 3000000 | E3: 36524 | F3: =E3+35 -> 36559 | G3: =E3+1095 -> 37619
A4: 03CF-0003 | B4: Panhandle Plains HEA | C4: Student Loans | D4: 37617850 | E4: 36524 | F4: =E4+35 -> 36559 | G4: =E4+1095 -> 37619 | H4: 37600000 | I4: =D4-H4 -> 17849.55
D5: =SUM(D2:D4) -> 90617850
M7: Released
A8: 2793 | B8: WITHDRAWN | C8: TDHCA | D8: Lake June Park Apts. | E8: Dallas, TX | F8: 15000000 | G8: 15000000 | H8: 36481 | I8: =H8+35 -> 36516 | J8: 15000000 | K8: =H8+120 -> 36601 | M8: 15000000
A9: 2776 | B9: WITHDRAWN | C9: TDHCA | D9: Sundown Village | E9: Katy, TX | F9: 13300000 | G9: 13300000 | H9: 36419 | I9: =H9+35 -> 36454 | J9: 13300000 | K9: =H9+120 -> 36539 | M9: 13300000
A10: 2771 | B10: CANCELLED | C10: Capital Area HFC | D10: Colorado Station Apts. | E10: Smithville, TX | F10: 7500000 | G10: 7500000 | H10: 36407 | I10: =H10+35 -> 36442 | J10: 7500000 | K10: =H10+120 -> 36527 | L10: 0 | M10: 7500000 | N10: 36532
A11: 2775 | B11: CLOSED | C11: TDHCA | D11: Century Park Apartments | E11: Austin, TX | F11: 15000000 | G11: 15000000 | H11: 36418 | I11: =H11+35 -> 36453 | J11: 15000000 | K11: =H11+120 -> 36538 | L11: 13000000 | M11: =J11-L11 -> 2000000 | N11: 36540
A12: 2777 | B12: CLOSED | C12: TDHCA | D12: Addison Park Apts. | E12: Arlington, TX | F12: 15000000 | G12: 15000000 | H12: 36425 | I12: =H12+35 -> 36460 | J12: 15000000 | K12: =H12+120 -> 36545 | L12: 14000000 | M12: 1000000 | N12: 36546
A13: 2778 | B13: CLOSED | C13: TDHCA | D13: Providence at Veteran's Memorial | E13: Houston, TX | F13: 15000000 | G13: 15000000 | H13: 36431 | I13: =H13+35 -> 36466 | J13: 15000000 | K13: =H13+120 -> 36551 | L13: 15000000 | M13: 0 | N13: 36553
A14: 2779 | B14: CLOSED | C14: TDHCA | D14: Providence at Rush Creek II | E14: Arlington, TX | F14: 10000000 | G14: 10000000 | H14: 36438 | I14: =H14+35 -> 36473 | J14: 10000000 | K14: =H14+120 -> 36558 | L14: 10000000 | M14: 0 | N14: 36560
A15: 2780 | B15: CLOSED | C15: Tarrant County HFC | D15: Blue Lake at Marine Creek Apts. | E15: Fort Worth, TX | F15: 11000000 | G15: 11000000 | H15: 36438 | I15: =H15+35 -> 36473 | J15: 11000000 | K15: =H15+120 -> 36558 | L15: 11000000 | M15: 0 | N15: 36564
A16: 2781 | B16: CLOSED | C16: TDHCA | D16: Humble Parkway Apts. | E16: Humble, TX | F16: 15000000 | G16: 15000000 | H16: 36440 | I16: =H16+35 -> 36475 | J16: 15000000 | K16: =H16+120 -> 36560 | L16: 11700000 | M16: =J16-L16 -> 3300000 | N16: 36564
A17: 2782 | B17: CLOSED | C17: Harris County HFC | D17: Wellington Park Apartments | E17: Houston | F17: 13500000 | G17: 13500000 | H17: 36441 | I17: =H17+35 -> 36476 | J17: 13500000 | K17: =H17+120 -> 36561 | L17: 13350000 | M17: =J17-L17 -> 150000 | N17: 36561
A18: 2786 | B18: WITHDRAWN | C18: Travis County HFC | D18: Shadow Apts. | E18: Manor, TX | F18: 15000000 | G18: 15000000 | H18: 36455 | I18: =H18+35 -> 36490 | J18: 15000000 | K18: =H18+120 -> 36575 | L18: 0 | M18: 15000000 | N18: 36572
A19: 2788 | B19: WITHDRAWN | C19: Austin HFC | D19: InterPort Apts. | E19: Austin, TX | F19: 15000000 | G19: 15000000 | H19: 36455 | I19: =H19+35 -> 36490 | J19: 15000000 | K19: =H19+120 -> 36575 | L19: 0 | M19: 15000000 | N19: 36572
A20: 2785 | B20: WITHDRAWN | C20: TDHCA | D20: Bellfort Village Apartments | E20: Houston, TX | F20: 13700000 | G20: 13700000 | H20: 36455 | I20: =H20+35 -> 36490 | J20: 13700000 | K20: =H20+120 -> 36575 | L20: 0 | M20: 13700000 | N20: 36574
A21: 2790 | B21: WITHDRAWN | C21: TDHCA | D21: Woodline Park Apts. | E21: Montgomery Co. | F21: 15000000 | G21: 15000000 | H21: 36469 | I21: =H21+35 -> 36504 | J21: 15000000 | K21: =H21+120 -> 36589 | M21: 15000000 | N21: 36587
A22: 2789 | B22: CANCELLED | C22: Travis County HFC | D22: Cherry Mountain Villas | E22: Lakeway, TX | F22: 15000000 | G22: 15000000 | H22: 36463 | I22: =H22+35 -> 36498 | J22: 15000000 | K22: =H22+120 -> 36583 | L22: 0 | M22: 15000000 | N22: 36595
A23: 2794 | B23: WITHDRAWN | C23: Harris County HFC | D23: Amber Lakes Apts. | E23: Houston, TX | F23: 11000000 | G23: 11000000 | H23: 36494 | I23: =H23+35 -> 36529 | J23: 11000000 | K23: =H23+120 -> 36614 | L23: 0 | M23: 11000000 | N23: 36595
A24: 2792 | B24: CLOSED | C24: Houston HFC | D24: Mayfair Apts. | E24: Houston, TX | F24: 11500000 | G24: 11500000 | H24: 36481 | I24: =H24+35 -> 36516 | J24: 11500000 | K24: =H24+120 -> 36601 | L24: 9500000 | M24: 2000000 | N24: 36603
J26: =SUM(J8:J24) -> 226500000 | L26: =SUM(L8:L24) -> 97550000
A27: 2793 | B27: CLOSED | C27: South Texas HEA | F27: 35000000 | G27: 35000000 | H27: 36481 | I27: =H27+35 -> 36516 | J27: 35000000 | K27: =H27+120 -> 36601 | L27: 35000000 | M27: 0 | N27: 36566
A28: 2002 CF
A29: 2631 | B29: CANCELLED | C29: Southeast Texas HFC | D29: Pearland 518 Apartments | F29: 15000000
A30: 2633 | B30: CANCELLED | C30: Metropolitan HFC | D30: MRBs | F30: 18014290
A31: 2636 | B31: CLOSED | C31: Amarillo HFC | D31: MRBs | F31: 3321891 | J31: =J26+D5 -> 3.1711785e+08 | L31: =L26+F5 -> 97550000
A32: 2634 | B32: CLOSED | C32: Travis County HFC | D32: Woodway Square Apts. | E32: Austin, TX | F32: 250000
F33: =SUM(F29:F32) -> 36586181
H36: =SUM(G11:G27)+G24 -> 237200000 | I36: =F33+J26+D5 -> 3.5370403e+08

Sheet SC1 MRB
A1: SUBCEILING #1 | C1: 483513624 | D1: 18014290 | E1: MetroHFC | G1: LOCALS = | H1: =C1-H2-H3 -> 297342416 | N1: =NOW() -> 43335.607
A2: MORTGAGE REVENUE BONDS | E2: 2002 CF | G2: TDHCA (1/3) = | H2: =SUM(C1/3*1) -> 161171208
D3: 3321891 | E3: Amarillo HFC | G3: TSAHC= | H3: 25000000
E4: 2002 CF
A9: DOCKET# | B9: STATUS | C9: ISSUER | D9: REQUESTED | E9: UTILIZATION | F9: ELLIGIBLE | G9: RESERVED | H9: RESERVATION | I9: 35-DAY | J9: CERTIFIED | K9: 180-DAY | L9: ALLOCATION | M9: RELEASED | N9: RELEASE/
A10: or | C10: PROJECT | D10: AMOUNT | E10: PERCENTAGE | F10: AMOUNT | G10: AMOUNT | H10: DATE | I10: DEADLINE | J10: AMOUNT | K10: DEADLINE | L10: AMOUNT | M10: AMOUNT | N10: UPDATE
A11: LOT # | C11: LOCATION | N11: DATE
A12: PRIORITY 1
A13: 120 | B13: WITHDRAWN | C13: Pineywoods HFC | D13: 5000000 | E13: NA | F13: 5000000 | H13: 36161 | I13: =H13+35 -> 36196 | K13: =H13+180 -> 36341
A14: 215 | B14: WITHDRAWN | C14: Odessa HFC | D14: 13641450 | E14: 0.689 | F14: =D14*E14 -> 9398959 | H14: 36161 | I14: =H14+35 -> 36196 | K14: =H14+180 -> 36341
A15: 2643 | B15: WITHDRAWN | C15: Northeast Texas HFC | D15: 21585530 | E15: 0.8507 | F15: =D15*E15 -> 18362810 | G15: 18362810 | H15: 36161 | I15: =H15+35 -> 36196 | J15: 18362810 | K15: =H15+180 -> 36341 | M15: 18362810
A16: 2644 | B16: CLOSED | C16: Jefferson Co. HFC | D16: 21171147 | E16: 0.4997 | F16: =D16*E16 -> 10579222 | G16: 10579222 | H16: 36161 | I16: =H16+35 -> 36196 | J16: 10579222 | K16: =H16+180 -> 36341 | L16: 10450000 | M16: =J16-L16 -> 129222 | N16: 36343
A17: 2657 | B17: CLOSED | C17: Golden Crescent HFC (MCCs) | D17: 1573450 | E17: 0.1002 | F17: 1573450 | G17: 1573450 | H17: 36168 | I17: =H17+35 -> 36203 | J17: 1573450 | K17: =H17+180 -> 36348 | L17: 1573450 | M17: 0 | N17: 36350
A18: 2658 | B18: CLOSED | C18: East Texas HFC | D18: 25000000 | E18: 0.7744 | F18: =D18*E18 -> 19360000 | G18: 19360000 | H18: 36168 | I18: =H18+35 -> 36203 | J18: 19360000 | K18: =H18+180 -> 36348 | L18: 10450000 | M18: =J18-L18 -> 8910000 | N18: 36341
A19: 2659 | B19: CLOSED | C19: Panhandle Regional HFC (MCCs) | D19: 10893581 | E19: 0.5441 | F19: 10893581 | G19: 10893581 | H19: 36168 | I19: =H19+35 -> 36203 | J19: 10893581 | K19: =H19+180 -> 36348 | L19: 10893581 | M19: 0 | N19: 36340
A20: 2660 | B20: CANCELLED | C20: South Plains HFC | D20: 18897550 | E20: 1 | F20: =D20 -> 18897550 | G20: 18897550 | H20: 36168 | I20: =H20+35 -> 36203 | J20: 18897550 | K20: =H20+180 -> 36348 | M20: 18897550 | N20: 36356
A21: 2670 | B21: CLOSED | C21: North Central Texas HFC | D21: 24015302 | E21: 0.8686 | F21: =D21*E21 -> 20859692 | G21: 20859692 | H21: 36175 | I21: =H21+35 -> 36210 | J21: 20859692 | K21: =H21+180 -> 36355 | L21: 20859692 | M21: 0 | N21: 36342
A22: 2671 | B22: CLOSED | C22: Northwest Central Texas Housing Finance Corp. | D22: 22651462 | E22: na | F22: 22761472 | G22: 22761472 | H22: 36175 | I22: =H22+35 -> 36210 | J22: 22761472 | K22: =H22+180 -> 36355 | L22: 9405000 | M22: =J22-L22 -> 13356472 | N22: 36355
A23: 2672 | B23: CANCELLED | C23: Concho Valley HFC | D23: 11391755 | E23: 0.6543 | F23: =D23 -> 11391755 | G23: 11391755 | H23: 36175 | I23: =H23+35 -> 36210 | J23: 11391755 | K23: =H23+180 -> 36355 | M23: 11391755 | N23: 36370
A24: 2673 | B24: CLOSED | C24: West Central Texas Regional HFC | D24: 22780136 | E24: 0.6353 | F24: =D24*E24 -> 14472220 | G24: 14472220 | H24: 36175 | I24: =H24+35 -> 36210 | J24: 14472220 | K24: =H24+180 -> 36355 | L24: 14468025 | M24: =J24-L24 -> 4195 | N24: 36281
A25: 161 | B25: WITHDRAWN | C25: Coastal Bend HFC | D25: 21304640 | E25: so | F25: =D25*E25 -> #VALUE! | H25: 36182 | I25: =H25+35 -> 36217 | K25: =H25+180 -> 36362
A26: 2682 | B26: CLOSED | C26: Corpus Christi HFC (MCCs) | D26: 21742715 | E26: 1 | F26: =D26*E26 -> 21742715 | G26: 21742715 | H26: 36183 | I26: =H26+35 -> 36218 | J26: 21742715 | K26: =H26+180 -> 36363 | L26: 21742715 | M26: 0 | N26: 36214
A27: 48 | B27: WITHDRAWN | C27: Galveston County HFC | D27: 9864150 | E27: so | F27: =D27*E27 -> #VALUE! | H27: 36182 | I27: =H27+35 -> 36217 | K27: =H27+180 -> 36362
A28: 107 | B28: WITHDRAWN | C28: Grand Prairie HFC | D28: 16371350 | E28: so | F28: =D28*E28 -> #VALUE! | H28: 36189 | I28: =H28+35 -> 36224 | K28: =H28+180 -> 36369
A29: 195 | B29: WITHDRAWN | C29: City of Dallas HFC | D29: 25000000 | E29: so | F29: =D29*E29 -> #VALUE! | H29: 36189 | I29: =H29+35 -> 36224 | K29: =H29+180 -> 36369
A30: 126 | B30: WITHDRAWN | C30: Harris County HFC | D30: 25000000 | E30: so | F30: =D30*E30 -> #VALUE!
A31: 79 | B31: WITHDRAWN | C31: Brazos County HFC | D31: 21509412 | E31: so | F31: =D31*E31 -> #VALUE!
A32: 2745 | B32: CLOSED | C32: TDHCA- MCC 's & MRBs | D32: 161171208 | F32: 161171208 | G32: 161171208 | H32: 36382 | I32: =H32+35 -> 36417 | J32: 161171208 | K32: =H32+180 -> 36562 | L32: =60000000+101171000 -> 161171000 | M32: =J32-L32 -> 208
A34: - | C34: Grand Prairie HFC | D34: 16371350 | E34: 0.7052 | F34: =D34*E34 -> 11545076
A35: - | C35: Southeast Texas HFC | D35: 25000000 | E35: so
C36: Coastal Bend HFC | D36: 21304640 | E36: 0.8241 | F36: =D36*E36 -> 17557154
C37: City of Dallas HFC | D37: 25000000 | E37: 0.6 | F37: =D37*E37 -> 15000000
C38: Galveston County HFC | D38: 9864415 | E38: so
C39: Lubbock HFC | D39: 19978200 | E39: 1 | F39: =D39*E39 -> 19978200
C40: Harris County HFC | D40: 25000000 | E40: so
C41: Fort Bend County HFC | D41: 22737015 | E41: 0.43 | F41: =D41*E41 -> 9776916.4
C42: Austin HFC | D42: 25000000 | E42: 0.5 | F42: =D42*E42 -> 12500000 | K42: =L17+L19+L26+L42 -> 94209746 | L42: 60000000
C43: Hidalgo Willacy HFC | D43: 25000000 | E43: 0.4717 | F43: =D43*E43 -> 11792500
A49: PRIORITY 2 | F49: =D49*E49 -> 0
A50: 252 | B50: WITHDRAWN | C50: Lubbock HFC | D50: 19978200 | E50: 1 | F50: =D50 -> 19978200
A51: 232 | B51: WITHDRAWN | C51: Alamo Area HFC c/o Alamo Area COG | D51: 23525932 | E51: so
A52: 44 | B52: WITHDRAWN | C52: Southeast Texas HFC | D52: 25000000 | E52: so | F52: =#REF!*E52 -> #REF!
A53: 2747 | B53: CLOSED | C53: Texoma HFC (MCCs) | D53: 70000 | G53: 70000 | H53: 36385 | I53: =H53+35 -> 36420 | J53: 70000 | K53: =H53+180 -> 36565 | L53: 58000 | M53: =J53-L53 -> 12000 | N53: 36441
B54: IN-LINE | F54: =D54*E54 -> 0
B55: IN-LINE
B56: IN-LINE
B57: IN-LINE
A58: na
C63: TOTALS | D63: =SUM(D12:D58) -> 7.8439459e+08 | F63: =SUM(F12:F54) -> #VALUE! | G63: =SUM(G12:G54) -> 332135675 | J63: =SUM(J12:J54) -> 332135675 | L63: =SUM(L12:L54) -> 321071463 | M63: =SUM(M12:M54) -> 71064212
C65: In-Line | D65: =D63-G63 -> 4.5225892e+08
C67: Available | D67: =C1-G63+M63 -> 222442161
E73: =D13+D14+D25+D27+D28+D29+D30+D31+D50+D51+D52+'SC4 MF- TDHCA'!F12+'SC4 MF- TDHCA'!F15+'SC4 MF- TDHCA'!F23+'SC4 MF- TDHCA'!F26+'SC4 MF- TDHCA'!F27+'SC4 MF- TDHCA'!F29+'SC4 MF- TDHCA'!F31+'SC4 MF- TDHCA'!F32+'SC4 MF- TDHCA'!F33+'SC4 MF- TDHCA'!F34+'SC4 MF- TDHCA'!F37+'SC4 MF- TDHCA'!F38+'REGION 1'!F9+'REGION 1'!F10+'REGION 1'!F11+'REGION 3'!F15+'REGION 3'!F18+'REGION 3'!F20+'REGION 3'!F21+'REGION 3'!F22+'REGION 3'!F23+'REGION 3'!F27+'REGION 3'!F30+'REGION 3'!F31+'REGION 3'!F32+'REGION 3'!F33+'REGION 3'!F34+'REGION 3'!F35+'REGION 3'!F36+'REGION 3'!F37+'REGION 3'!F38+'REGION 3'!F39+'REGION 6'!F10+'REGION 6'!F14+'REGION 6'!F17+'REGION 6'!F19+'REGION 6'!F20+'REGION 6'!F23+'REGION 6'!F24+'REGION 6'!F27+'REGION 6'!F30+'REGION 6'!F31+'REGION 6'!F35+'REGION 6'!F38+'REGION 6'!F39+'REGION 6'!F40+'REGION 6'!F41+'REGION 6'!F42+'REGION 6'!F44+'REGION 6'!F46+'REGION 6'!F47+'REGION 6'!F48+'REGION 6'!F49+'REGION 6'!F51+'REGION 6'!F52+'REGION 6'!F55+'REGION 6'!F56+'REGION 6'!F57+'REGION 6'!F58 -> 989635749 | F73: ='REGION 6'!F59+'REGION 6'!F62+'REGION 6'!F65+'REGION 7'!F23+'REGION 8A'!F14+'REGION 8A'!F16+'REGION 8A'!F17+'REGION 8A'!F18+'REGION 8A'!F19+'REGION 8A'!F20+'REGION 8A'!F21+'REGION 8A'!F22+'REGION 8A'!F23+'SC6 OTHER'!F32 -> 182900000

Sheet State Voted
A1: SUBCEILING #2 | C1: 130679358 | L1: ='SC1 MRB'!N1 -> 43335.607
A2: STATE VOTED ISSUES
A3: DOCKET# | B3: STATUS | C3: ISSUER | D3: REQUESTED | E3: RESERVED | F3: RESERVATION | G3: 35-DAY | H3: CERTIFIED | I3: 120-DAY | J3: ALLOCATION | K3: RELEASED | L3: RELEASE/
A4: or | C4: PROJECT | D4: AMOUNT | E4: AMOUNT | F4: DATE | G4: DEADLINE | H4: AMOUNT | I4: DEADLINE | J4: AMOUNT | K4: AMOUNT | L4: UPDATE
A5: LOT # | C5: LOCATION | L5: DATE
A7: 2645 | B7: CLOSED | C7: TWDB | D7: 25000000 | E7: 25000000 | F7: 36161 | G7: =F7+35 -> 36196 | H7: 25000000 | I7: =F7+120 -> 36281 | J7: 25000000 | K7: 0 | L7: 36280
A9: 2655 | B9: CLOSED | C9: THECB | D9: 75000000 | E9: 75000000 | F9: 36161 | G9: =F9+35 -> 36196 | H9: 75000000 | I9: =F9+120 -> 36281 | J9: 75000000 | K9: 0 | L9: 36210
C16: TOTALS | D16: =SUM(D7:D15) -> 100000000 | E16: =SUM(E7:E14) -> 100000000 | H16: =SUM(H7:H14) -> 100000000 | J16: =SUM(J7:J14) -> 100000000 | K16: =SUM(K7:K14) -> 0
C18: In-Line | D18: =SUM(D16-E16) -> 0
C20: Available | D20: =C1-E16+K16 -> 30679358

Sheet Small Issue IDBs
A1: SUBCEILING #3 | C1: 75140631 | G1: LOCALS = | H1: =C1-H2 -> 50093754 | L1: ='SC1 MRB'!N1 -> 43335.607
A2: QUALIFIED SMALL ISSUE | G2: TAFA (1/3) = | H2: =SUM(C1/3*1) -> 25046877 | I2: until June 1
A6: DOCKET# | B6: STATUS | C6: ISSUER | D6: REQUESTED | E6: RESERVED | F6: RESERVATION | G6: 35-DAY | H6: CERTIFIED | I6: 120-DAY | J6: ALLOCATION | K6: RELEASED | L6: RELEASE/
A7: or | C7: PROJECT | D7: AMOUNT | E7: AMOUNT | F7: DATE | G7: DEADLINE | H7: AMOUNT | I7: DEADLINE | J7: AMOUNT | K7: AMOUNT | L7: UPDATE
A8: LOT # | C8: LOCATION | L8: DATE
A10: 2646 | B10: CLOSED | C10: Wichita County IDC | D10: 700000 | E10: 700000 | F10: 36161 | G10: =F10+35 -> 36196 | H10: 700000 | I10: =F10+120 -> 36281 | J10: 700000 | K10: 0 | L10: 36253
C11: Covercraft Industries
A13: 2674 | B13: CANCELLED | C13: Mesquite IDC | D13: 9750000 | E13: 9750000 | F13: 36175 | G13: =F13+35 -> 36210 | H13: 9750000 | I13: =F13+120 -> 36295 | K13: 9750000 | L13: 36306
C14: Trio Industries Holdings
A16: 2734 | B16: CANCELLED | C16: Mission EDC | D16: 7000000 | E16: 7000000 | F16: 36340 | G16: =F16+35 -> 36375 | H16: 7000000 | I16: =F16+120 -> 36460 | K16: 7000000 | L16: 36468
C17: HTP Rio Grande LP
A19: 2743 | B19: CLOSED | C19: Colorado County IDC | D19: 3000000 | E19: 3000000 | F19: 36377 | G19: =F19+35 -> 36412 | H19: 3000000 | I19: =F19+120 -> 36497 | J19: 3000000 | K19: 0 | L19: 36494
C20: Southwest Concrete
A23: 2746 | B23: CANCELLED | C23: Robstown IDC | D23: 5000000 | E23: 5000000 | F23: 36384 | G23: =F23+35 -> 36419 | H23: 5000000 | I23: =F23+120 -> 36504 | K23: 5000000 | L23: 36515
C24: Tex-Wave Industries, LP
C29: TOTALS | D29: =SUM(D9:D27) -> 25450000 | E29: =SUM(E9:E27) -> 25450000 | H29: =SUM(H9:H27) -> 25450000 | J29: =SUM(J9:J27) -> 3700000 | K29: =SUM(K9:K27) -> 21750000
C31: In-Line | D31: =SUM(D29-E29) -> 0
C33: Available | D33: =+C1-E29+K29 -> 71440631

Sheet Monica
A1: SUBCEILING #4 | C1: 215034394 | E1: 1.5941728e+08 | L1: 35651
A2: RESIDENTIAL RENTAL PROJECTS
A4: DOCKET# | B4: STATUS | C4: ISSUER | D4: REQUESTED | E4: RESERVED | F4: RESERVATION | G4: 35-DAY | H4: CERTIFIED | I4: 120-DAY | J4: ALLOCATION | K4: RELEASED | L4: RELEASE/ | M4: not | N4: Cumlative | O4: Currently
A5: or | C5: PROJECT | D5: AMOUNT | E5: AMOUNT | F5: DATE | G5: DEADLINE | H5: AMOUNT | I5: DEADLINE | J5: AMOUNT | K5: AMOUNT | L5: UPDATE | M5: withdrawn | N5: Total | O5: Remaining
A6: LOT# | C6: LOCATION | L6: DATE
A7: PRIORITY 1
A9: 01-211 | B9: ='SC4 MF- TDHCA'!B9 -> CLOSED | C9: Austin HFC | D9: 15000000 | L9: 35363
B10: ='SC4 MF- TDHCA'!B10 -> CLOSED | C10: Pioneer Villas Apts
B11: ='SC4 MF- TDHCA'!B11 -> WITHDRAWN | C11: Austin
B12: ='SC4 MF- TDHCA'!B12 -> WITHDRAWN
A13: 2382 | B13: ='SC4 MF- TDHCA'!B13 -> WITHDRAWN | C13: City of Dallas HFC | D13: 4510000 | E13: 4510000 | F13: 35431 | G13: =+F13+35 -> 35466 | H13: 4510000 | I13: =+F13+120 -> 35551 | K13: 4510000 | L13: 35537
B14: ='SC4 MF- TDHCA'!B14 -> WITHDRAWN | C14: Trail Glen Apts
B15: ='SC4 MF- TDHCA'!B15 -> WITHDRAWN | C15: Dallas
B16: ='SC4 MF- TDHCA'!B16 -> CLOSED
A17: 11 | B17: ='SC4 MF- TDHCA'!B17 -> WITHDRAWN | C17: Bexar County HFC | D17: 15000000 | L17: 35438
B18: ='SC4 MF- TDHCA'!B18 -> WITHDRAWN | C18: Pearsall Road
B19: ='SC4 MF- TDHCA'!B19 -> WITHDRAWN | C19: San Antonio
B20: ='SC4 MF- TDHCA'!B20 -> WITHDRAWN
A21: 2415 | B21: ='SC4 MF- TDHCA'!B21 -> CLOSED | C21: Harris County HFC | D21: 7200000 | E21: 7200000 | F21: 35445 | G21: =+F21+35 -> 35480 | H21: 7200000 | I21: =+F21+120 -> 35565 | J21: 7200000 | K21: 0 | L21: 35570
B22: ='SC4 MF- TDHCA'!B22 -> WITHDRAWN | C22: Palomino Place Apts
B23: =#REF! -> #REF! | C23: Houston
B24: ='SC4 MF- TDHCA'!B24 -> CLOSED
A25: 2416 | B25: ='SC4 MF- TDHCA'!B25 -> CLOSED | C25: North Central TX HFC | D25: 13400000 | E25: 13400000 | F25: 35445 | G25: =+F25+35 -> 35480 | H25: 13400000 | I25: =+F25+120 -> 35565 | J25: 12400000 | K25: 1000000 | L25: 35560
B26: ='SC4 MF- TDHCA'!B26 -> WITHDRAWN | C26: Bent Tree Apts
B27: ='SC4 MF- TDHCA'!B27 -> WITHDRAWN | C27: Waxahachie
B28: ='SC4 MF- TDHCA'!B28 -> CLOSED
A29: 2383 | B29: ='SC4 MF- TDHCA'!B29 -> WITHDRAWN | C29: Housing Options, Inc. | D29: 6425000 | E29: 6425000 | F29: 35431 | G29: =+F29+35 -> 35466 | H29: 6425000 | I29: =+F29+120 -> 35551 | J29: 6425000 | K29: 0 | L29: 35550
B30: ='SC4 MF- TDHCA'!B30 -> CANCELLED | C30: Roseland Fellowship LP
B31: ='SC4 MF- TDHCA'!B31 -> WITHDRAWN | C31: Dallas
B32: ='SC4 MF- TDHCA'!B32 -> WITHDRAWN
A33: 22 | B33: ='SC4 MF- TDHCA'!B33 -> WITHDRAWN | C33: Laredo HFC | D33: 12500000 | L33: 35438
B34: ='SC4 MF- TDHCA'!B34 -> WITHDRAWN | C34: Cielito Lindo Apts
B35: ='SC4 MF- TDHCA'!B35 -> CLOSED | C35: Laredo
B36: ='SC4 MF- TDHCA'!B36 -> WITHDRAWN
A37: 2405 | B37: ='SC4 MF- TDHCA'!B38 -> CANCELLED | C37: TDHCA | D37: 9000000 | E37: 9000000 | F37: 35438 | G37: =+F37+35 -> 35473 | H37: 9000000 | I37: =+F37+120 -> 35558 | K37: 9000000 | L37: 35515
B38: ='SC4 MF- TDHCA'!B39 -> WITHDRAWN | C38: Hays Villas
B39: ='SC4 MF- TDHCA'!B40 -> WITHDRAWN | C39: Leander
B40: ='SC4 MF- TDHCA'!B41 -> WITHDRAWN
A41: 26 | B41: ='SC4 MF- TDHCA'!B42 -> 0 | C41: North Central TX HFC | D41: 13600000 | L41: 35431
B42: ='SC4 MF- TDHCA'!B43 -> 0 | C42: Clear Brook Apts
B43: ='SC4 MF- TDHCA'!B44 -> 0 | C43: Cleburne
B44: ='SC4 MF- TDHCA'!B45 -> WITHDRAWN
A45: 2424 | B45: ='SC4 MF- TDHCA'!B46 -> WITHDRAWN | C45: Brazos County HFC | D45: 7000000 | E45: 7000000 | F45: 35452 | G45: =+F45+35 -> 35487 | H45: 7000000 | I45: =+F45+120 -> 35572 | J45: 7000000 | K45: 0 | L45: 35579
B46: ='SC4 MF- TDHCA'!B47 -> WITHDRAWN | C46: Southgate Village Apts
B47: ='SC4 MF- TDHCA'!B48 -> WITHDRAWN | C47: College Station
B48: ='SC4 MF- TDHCA'!B49 -> WITHDRAWN
A49: 2384 | B49: ='SC4 MF- TDHCA'!B50 -> CLOSED | C49: San Antonio HFC | D49: 15000000 | E49: 15000000 | F49: 35431 | G49: =+F49+35 -> 35466 | I49: =+F49+120 -> 35551 | K49: 15000000 | L49: 35467
B50: ='SC4 MF- TDHCA'!B51 -> CLOSED | C50: Crown Meadow Apts
B51: ='SC4 MF- TDHCA'!B52 -> CANCELLED | C51: San Antonio
B52: ='SC4 MF- TDHCA'!B53 -> CANCELLED
A53: 2417 | B53: ='SC4 MF- TDHCA'!B54 -> WITHDRAWN | C53: Houston HFC | D53: 8000000 | E53: 8000000 | F53: 35445 | G53: =+F53+35 -> 35480 | H53: 8000000 | I53: =+F53+120 -> 35565 | J53: 7450000 | K53: 550000 | L53: 35572
B54: ='SC4 MF- TDHCA'!B55 -> CLOSED | C54: Newport Apts
B55: ='SC4 MF- TDHCA'!B56 -> WITHDRAWN | C55: Houston
B56: ='SC4 MF- TDHCA'!B57 -> CLOSED
A57: 2406 | B57: ='SC4 MF- TDHCA'!B58 -> CLOSED | C57: Jefferson County HFC | D57: 3550000 | E57: 3550000 | F57: 35438 | G57: =+F57+35 -> 35473 | H57: 3550000 | I57: =+F57+120 -> 35558 | J57: 3550000 | K57: 0 | L57: 35565
B58: ='SC4 MF- TDHCA'!B59 -> WITHDRAWN | C58: Starcrest Apts
B59: ='SC4 MF- TDHCA'!B60 -> WITHDRAWN | C59: Beaumont
B60: ='SC4 MF- TDHCA'!B61 -> CLOSED
A61: 2385 | B61: ='SC4 MF- TDHCA'!B62 -> WITHDRAWN | C61: Houston HFC | D61: 11000000 | E61: 11000000 | F61: 35431 | G61: =+F61+35 -> 35466 | H61: 11000000 | I61: =+F61+120 -> 35551 | J61: 10000000 | K61: 1000000 | L61: 35556
B62: ='SC4 MF- TDHCA'!B63 -> CANCELLED | C62: Bellfort Pines Apts
B63: ='SC4 MF- TDHCA'!B108 -> IN-LINE | C63: Houston
B64: ='SC4 MF- TDHCA'!B109 -> IN-LINE
A65: 2418 | B65: ='SC4 MF- TDHCA'!B110 -> IN-LINE | C65: Houston HFC | D65: 9520000 | E65: 9520000 | F65: 35445 | G65: =+F65+35 -> 35480 | H65: 9520000 | I65: =+F65+120 -> 35565 | J65: 9520000 | K65: 0 | L65: 35563
B66: ='SC4 MF- TDHCA'!B111 -> IN-LINE | C66: Cullen Park Apts
B67: ='SC4 MF- TDHCA'!#REF! -> #REF! | C67: Houston
B68: ='SC4 MF- TDHCA'!#REF! -> #REF!
A69: 41 | B69: ='SC4 MF- TDHCA'!#REF! -> #REF! | C69: Bexar County HFC | D69: 3100000 | L69: 35452
B70: ='SC4 MF- TDHCA'!#REF! -> #REF! | C70: San Antonio Alternative Hsg
B71: ='SC4 MF- TDHCA'!#REF! -> #REF! | C71: San Antonio
B72: ='SC4 MF- TDHCA'!#REF! -> #REF!
A73: 2433 | B73: ='SC4 MF- TDHCA'!#REF! -> #REF! | C73: North Central TX HFC | D73: 13530000 | E73: 13530000 | F73: 35459 | G73: =+F73+35 -> 35494 | H73: 13530000 | I73: =+F73+120 -> 35579 | J73: 12400000 | K73: 1130000 | L73: 35560
B74: ='SC4 MF- TDHCA'!#REF! -> #REF! | C74: Silverton Apts
B75: ='SC4 MF- TDHCA'!#REF! -> #REF! | C75: Ennis
B76: ='SC4 MF- TDHCA'!#REF! -> #REF!
A77: 2407 | B77: ='SC4 MF- TDHCA'!#REF! -> #REF! | C77: TDHCA | D77: 12250000 | E77: 12250000 | F77: 35438 | G77: =+F77+35 -> 35473 | I77: =+F77+120 -> 35558 | K77: 12250000 | L77: 35473
B78: ='SC4 MF- TDHCA'!#REF! -> #REF! | C78: Ewing Villas Apts
B79: ='SC4 MF- TDHCA'!#REF! -> #REF! | C79: Dallas
B80: ='SC4 MF- TDHCA'!#REF! -> #REF!
A81: 2402 | B81: ='SC4 MF- TDHCA'!#REF! -> #REF! | C81: Travis County HFC | D81: 15000000 | E81: 15000000 | F81: 35437 | G81: =+F81+35 -> 35472 | H81: 15000000 | I81: =+F81+120 -> 35557 | J81: 0 | K81: 15000000 | L81: 35558
B82: ='SC4 MF- TDHCA'!#REF! -> #REF! | C82: Stonebridge Apts
B83: ='SC4 MF- TDHCA'!#REF! -> #REF! | C83: Austin
B84: ='SC4 MF- TDHCA'!#REF! -> #REF!
A85: 2390 | B85: ='SC4 MF- TDHCA'!#REF! -> #REF! | C85: TDHCA | D85: 14100000 | E85: 14100000 | F85: 35432 | G85: =+F85+35 -> 35467 | H85: 14100000 | I85: =+F85+120 -> 35552 | J85: 13750000 | K85: 350000 | L85: 35559
B86: ='SC4 MF- TDHCA'!#REF! -> #REF! | C86: Knollwood Villas
B87: ='SC4 MF- TDHCA'!#REF! -> #REF! | C87: Denton
B88: ='SC4 MF- TDHCA'!#REF! -> #REF!
A89: 2391 | B89: ='SC4 MF- TDHCA'!#REF! -> #REF! | C89: Montgomery Cnty HFC | D89: 8000000 | E89: 8000000 | F89: 35432 | G89: =+F89+35 -> 35467 | H89: 8000000 | I89: =+F89+120 -> 35552 | J89: 7500000 | K89: 500000 | L89: 35559
B90: ='SC4 MF- TDHCA'!#REF! -> #REF! | C90: Montgomery Trace Apts
B91: ='SC4 MF- TDHCA'!#REF! -> #REF! | C91: Conroe
B92: ='SC4 MF- TDHCA'!#REF! -> #REF!
A93: 2392 | B93: ='SC4 MF- TDHCA'!#REF! -> #REF! | C93: TDHCA | D93: 14100000 | E93: 14100000 | F93: 35432 | G93: =+F93+35 -> 35467 | H93: 14100000 | I93: =+F93+120 -> 35552 | J93: 10700000 | K93: 3400000 | L93: 35559
B94: ='SC4 MF- TDHCA'!#REF! -> #REF! | C94: Bluffview Senior
B95: ='SC4 MF- TDHCA'!#REF! -> #REF! | C95: Denton
B96: ='SC4 MF- TDHCA'!#REF! -> #REF!
A97: 2393 | B97: ='SC4 MF- TDHCA'!#REF! -> #REF! | C97: TDHCA | D97: 13045000 | E97: 13045000 | F97: 35432 | G97: =+F97+35 -> 35467 | I97: =+F97+120 -> 35552 | K97: 13045000 | L97: 35462
B98: ='SC4 MF- TDHCA'!#REF! -> #REF! | C98: Ascot Park Townhomes
B99: ='SC4 MF- TDHCA'!#REF! -> #REF! | C99: Denton
B100: ='SC4 MF- TDHCA'!#REF! -> #REF!
A101: 58 | B101: ='SC4 MF- TDHCA'!#REF! -> #REF! | C101: San Antonio HFC | D101: 7250000 | L101: 35434
B102: ='SC4 MF- TDHCA'!#REF! -> #REF! | C102: Science Park II Apts
...

Sheet SC4 MF- TDHCA
A1: SUBCEILING #4 | C1: 93925789 | G1: =16800000+12000000+1000000+11000000+15000000 -> 55800000 | H1: 2002 CF | N1: ='SC1 MRB'!N1 -> 43335.607
A2: RESIDENTIAL RENTAL PROJECTS
A4: DOCKET# | B4: STATUS | C4: ISSUER | D4: PROJECT | E4: LOCATION | F4: REQUESTED | G4: RESERVED | H4: RESERVATION | I4: 35-DAY | J4: CERTIFIED | K4: 120-DAY | L4: ALLOCATION | M4: RELEASED | N4: RELEASE/
A5: or | F5: AMOUNT | G5: AMOUNT | H5: DATE | I5: DEADLINE | J5: AMOUNT | K5: DEADLINE | L5: AMOUNT | M5: AMOUNT | N5: UPDATE
A6: LOT# | N6: DATE
A7: PRIORITY 1
A9: 2675 | B9: CLOSED | C9: TDHCA | D9: Sphinx at Murdeaux | E9: Dallas, TX | F9: 13400000 | G9: 13400000 | H9: 36175 | I9: =H9+35 -> 36210 | J9: 13400000 | K9: =H9+120 -> 36295 | L9: 13400000 | M9: =SUM(G9-L9) -> 0 | N9: 36293
A10: 2683 | B10: CLOSED | C10: TDHCA | D10: Primrose Houston School | E10: Lancaster, TX | F10: 15000000 | G10: 15000000 | H10: 36183 | I10: =H10+35 -> 36218 | J10: 15000000 | K10: =H10+120 -> 36303 | L10: 15000000 | M10: =SUM(G10-L10) -> 0 | N10: 36307
A11: 2684 | B11: WITHDRAWN | C11: TDHCA | D11: Meadow Crossing Annex | E11: Mesquite, TX | F11: 15000000 | G11: 15000000 | H11: 36183 | I11: =H11+35 -> 36218 | J11: 15000000 | K11: =H11+120 -> 36303 | M11: =SUM(G11-L11) -> 15000000 | N11: 36277
A12: 16 | B12: WITHDRAWN | C12: TDHCA | D12: Magnolia Park Apts | E12: Fort Worth, TX | F12: 13000000 | H12: 36161 | I12: =H12+35 -> 36196 | K12: =H12+120 -> 36281 | M12: =SUM(G12-L12) -> 0
A13: 2661 | B13: WITHDRAWN | C13: TDHCA | D13: Hillery Garden Villas | E13: Burleson, TX | F13: 15000000 | G13: 15000000 | H13: 36168 | I13: =H13+35 -> 36203 | J13: 15000000 | K13: =H13+120 -> 36288 | M13: =SUM(G13-L13) -> 15000000 | N13: 36277
A14: 2694 | B14: WITHDRAWN | C14: TDHCA | D14: Arbor Bend Villas | E14: Fort Worth, TX | F14: 12100000 | G14: 12100000 | H14: 36189 | I14: =H14+35 -> 36224 | J14: 12100000 | K14: =H14+120 -> 36309 | L14: 0 | M14: =SUM(G14-L14) -> 12100000 | N14: 36307
A15: 66 | B15: WITHDRAWN | C15: TDHCA | D15: Alsbury Place | E15: Burleson, TX | F15: 14700000 | H15: 36161 | I15: =H15+35 -> 36196 | K15: =H15+120 -> 36281
A16: 2656 | B16: CLOSED | C16: TDHCA | D16: West Virginia Apts. | E16: Dallas, TX | F16: 11100000 | G16: 11100000 | H16: 36167 | I16: =H16+35 -> 36202 | J16: 11100000 | K16: =H16+120 -> 36287 | L16: 9450000 | M16: =SUM(G16-L16) -> 1650000 | N16: 36281
A17: 2701 | B17: WITHDRAWN | C17: TDHCA | D17: Primrose Langdon | E17: Dallas, TX | F17: 15000000 | G17: 15000000 | H17: 36190 | I17: =H17+35 -> 36225 | K17: =H17+120 -> 36310 | M17: =SUM(G17-L17) -> 15000000
A18: 2705 | B18: WITHDRAWN | C18: TDHCA | D18: Stonebrook Villas | E18: McKinney, TX | F18: 15000000 | G18: 15000000 | H18: 36223 | I18: =H18+35 -> 36258 | J18: 15000000 | K18: =H18+120 -> 36343 | M18: =SUM(G18-L18) -> 15000000 | N18: 36335
A19: 2706 | B19: WITHDRAWN | C19: TDHCA | D19: Fountain Circle | E19: Austin, TX | F19: 14000000 | G19: 14000000 | H19: 36223 | I19: =H19+35 -> 36258 | J19: 11750000 | K19: =H19+120 -> 36343 | L19: 0 | M19: =SUM(G19-L19) -> 14000000 | N19: 36340
A20: 2708 | B20: WITHDRAWN | C20: TDHCA | D20: Center Square Villas | E20: Fort Worth, TX | F20: 15000000 | G20: 15000000 | H20: 36244 | I20: =H20+35 -> 36279 | K20: =H20+120 -> 36364 | M20: =SUM(G20-L20) -> 15000000 | N20: 36277
A21: 2709 | B21: CLOSED | C21: TDHCA | D21: Timber Oaks Apts. | E21: Grand Prairie, TX | F21: 10900000 | G21: 10900000 | H21: 36249 | I21: =H21+35 -> 36284 | J21: 10900000 | K21: =H21+120 -> 36369 | L21: 10900000 | M21: =SUM(G21-L21) -> 0 | N21: 36370
A22: 2711 | B22: WITHDRAWN | C22: TDHCA | D22: Mesa Villas | E22: Houston, TX | F22: 15000000 | G22: 15000000 | H22: 36258 | I22: =H22+35 -> 36293 | J22: 15000000 | K22: =H22+120 -> 36378 | M22: =SUM(G22-L22) -> 15000000
A23: 124 | B23: WITHDRAWN | C23: TDHCA | D23: Johnny Morris Apts. | E23: Austin, TX | F23: 14600000 | M23: =SUM(G23-L23) -> 0
A24: 2715 | B24: CLOSED | C24: TDHCA | D24: The Peninsula Apts. | E24: Houston, TX | F24: 12000000 | G24: 12000000 | H24: 36281 | I24: =H24+35 -> 36316 | J24: 12000000 | K24: =H24+120 -> 36401 | L24: 12000000 | M24: =SUM(G24-L24) -> 0 | N24: 36404
A25: 2716 | B25: CLOSED | C25: TDHCA | D25: Ash Creek | E25: Mesquite, TX | F25: 15000000 | G25: 15000000 | H25: 36281 | I25: =H25+35 -> 36316 | J25: 15000000 | K25: =H25+120 -> 36401 | L25: 15000000 | M25: =SUM(G25-L25) -> 0 | N25: 36400
A26: 160 | B26: WITHDRAWN | C26: TDHCA | D26: Primrose Hickory | E26: Frisco, TX | F26: 15000000 | M26: =SUM(G26-L26) -> 0
A27: 166 | B27: WITHDRAWN | C27: TDHCA | D27: Freeway Villas | E27: Fort Worth, TX | F27: 15000000 | M27: =SUM(G27-L27) -> 0
A28: 2719 | B28: CLOSED | C28: TDHCA | D28: Mesquite Senior Apartment Community | E28: Mesquite, TX | F28: 11000000 | G28: 11000000 | H28: 36288 | I28: =H28+35 -> 36323 | J28: 11000000 | K28: =H28+120 -> 36408 | L28: 11000000 | M28: =SUM(G28-L28) -> 0 | N28: 36404
A29: 201 | B29: WITHDRAWN | C29: TDHCA | D29: 100 May Development | E29: Fort Worth, TX | F29: 14000000 | M29: =SUM(G29-L29) -> 0 | N29: 36312
A30: 2730 | B30: CANCELLED | C30: TDHCA | D30: Greystone Ridge Apts. | E30: Dallas, TX | F30: 14000000 | G30: 14000000 | H30: 36315 | I30: =H30+35 -> 36350 | K30: =H30+120 -> 36435 | M30: =SUM(G30-L30) -> 14000000 | N30: 36351
A31: 216 | B31: WITHDRAWN | C31: TDHCA | D31: 8100 Crowley Development | E31: Fort Worth, TX | F31: 14400000 | M31: =SUM(G31-L31) -> 0
A32: 223 | B32: WITHDRAWN | C32: TDHCA | D32: Parks at Riverplace | E32: Fort Worth, TX | F32: 15000000 | H32: 36403 | M32: =SUM(G32-L32) -> 0
A33: 226 | B33: WITHDRAWN | C33: TDHCA | D33: Sphinx at Oakwood Villas | E33: Dallas, TX | F33: 13400000 | M33: =SUM(G33-L33) -> 0
A34: 238 | B34: WITHDRAWN | C34: TDHCA | D34: Meadow Crossing | E34: Mesquite, TX | F34: 15000000 | M34: =SUM(G34-L34) -> 0
A35: 2736 | B35: CLOSED | C35: TDHCA | D35: Hampton Villas | E35: Arlington, TX | F35: 15000000 | G35: 15000000 | H35: 36347 | I35: =H35+35 -> 36382 | J35: 15000000 | K35: =H35+120 -> 36467 | L35: 15000000 | M35: =SUM(G35-L35) -> 0 | N35: 36469
A36: 2737 | B36: WITHDRAWN | C36: TDHCA | D36: Wylie Senior Apartment Community | E36: Wylie, TX | F36: 8200000 | G36: 8200000 | H36: 36347 | I36: =H36+35 -> 36382 | J36: 8200000 | K36: =H36+120 -> 36467 | M36: =SUM(G36-L36) -> 8200000
A37: 256 | B37: WITHDRAWN | C37: TDHCA | D37: Primrose Mesquite I | E37: Mesquite, TX | F37: 15000000 | M37: =SUM(G37-L37) -> 0
A38: 263 | B38: CANCELLED | C38: TDHCA | D38: 51 Keeneland Development | E38: Dallas, TX | F38: 14800000 | M38: =SUM(G38-L38) -> 0
A39: 2739 | B39: WITHDRAWN | C39: TDHCA | D39: Martindale Villas | E39: Houston, TX | F39: 15000000 | G39: 15000000 | H39: 36356 | I39: =H39+35 -> 36391 | J39: 15000000 | K39: =H39+120 -> 36476 | M39: =SUM(G39-L39) -> 15000000
A40: 2741 | B40: WITHDRAWN | C40: TDHCA | D40: Green Pines II Apts. | E40: Houston, TX | F40: 11000000 | G40: 11000000 | H40: 36358 | I40: =H40+35 -> 36393 | J40: 15000000 | K40: =H40+120 -> 36478 | M40: =SUM(G40-L40) -> 11000000
A41: 2742 | B41: WITHDRAWN | C41: TDHCA | D41: Riverbend Apts. | E41: Houston, TX | F41: 12000000 | G41: 12000000 | H41: 36358 | I41: =H41+35 -> 36393 | K41: =H41+120 -> 36478 | M41: =SUM(G41-L41) -> 12000000 | N41: 36393
M42: =SUM(G42-L42) -> 0
A43: PRIORITY 2 | M43: =SUM(G43-L43) -> 0
M44: =SUM(G44-L44) -> 0
A45: 10 | B45: WITHDRAWN | C45: TDHCA | D45: West Point Two Apts. | E45: Fort Worth, TX | F45: 14000000 | M45: =SUM(G45-L45) -> 0
A46: 2767 | B46: WITHDRAWN | C46: TDHCA | D46: Highland Apts. | E46: Baytown, TX | F46: 14700000 | G46: 14700000 | H46: 36405 | I46: =H46+35 -> 36440 | K46: =H46+120 -> 36525 | M46: =SUM(G46-L46) -> 14700000
A47: 18 | B47: WITHDRAWN | C47: TDHCA | D47: FM1960 Apts. | F47: 15000000 | M47: =SUM(G47-L47) -> 0
A48: 2768 | B48: WITHDRAWN | C48: TDHCA | D48: Fallbrook Belt 8 Apts. | E48: Houston, TX | F48: 13100000 | G48: 13100000 | H48: 36406 | I48: =H48+35 -> 36441 | K48: =H48+120 -> 36526 | M48: =SUM(G48-L48) -> 13100000
A49: 31 | B49: WITHDRAWN | C49: TDHCA | D49: AlBender West Apts | E49: Houston, TX | F49: 14200000 | M49: =SUM(G49-L49) -> 0
A50: 2770 | B50: CLOSED | C50: TDHCA | D50: Parkview Townhomes | E50: Arlington, TX | F50: 15000000 | G50: 15000000 | H50: 36407 | I50: =H50+35 -> 36442 | J50: 15000000 | K50: =H50+120 -> 36527 | L50: 15000000 | M50: =SUM(G50-L50) -> 0 | N50: 36526
A51: 2772 | B51: CLOSED | C51: TDHCA | D51: Timber Ridge II | E51: Houston, TX | F51: 7000000 | G51: 7000000 | H51: 36410 | I51: =H51+35 -> 36445 | J51: 7000000 | K51: =H51+120 -> 36530 | L51: 7000000 | M51: =SUM(G51-L51) -> 0 | N51: 36532
A52: 41 | B52: CANCELLED | C52: TDHCA | D52: Ashford Pointe Development | E52: Houston, TX | F52: 15000000 | M52: =SUM(G52-L52) -> 0
A53: 46 | B53: CANCELLED | C53: TDHCA | D53: West Point One Apts. | E53: Fort Worth, TX | F53: 15000000 | M53: =SUM(G53-L53) -> 0
A54: 2773 | B54: WITHDRAWN | C54: TDHCA | D54: Yager One Apts. | E54: Austin, TX | F54: 15000000 | G54: 15000000 | H54: 36414 | I54: =H54+35 -> 36449 | K54: =H54+120 -> 36534 | M54: =SUM(G54-L54) -> 15000000 | N54: 36449
A55: 2775 | B55: CLOSED | C55: TDHCA | D55: Century Park Apartments | E55: Austin, TX | F55: 15000000 | G55: 15000000 | H55: 36418 | I55: =H55+35 -> 36453 | J55: 15000000 | K55: =H55+120 -> 36538 | L55: 13000000 | M55: =SUM(G55-L55) -> 2000000 | N55: 36540
A56: 2776 | B56: WITHDRAWN | C56: TDHCA | D56: Sundown Village | E56: Katy, TX | F56: 13300000 | G56: 13300000 | H56: 36419 | I56: =H56+35 -> 36454 | J56: 13300000 | K56: =H56+120 -> 36539 | M56: =SUM(G56-L56) -> 13300000 | N56: 36529
A57: 2777 | B57: CLOSED | C57: TDHCA | D57: Addison Park Apts. | E57: Arlington, TX | F57: 15000000 | G57: 15000000 | H57: 36425 | I57: =H57+35 -> 36460 | J57: 15000000 | K57: =H57+120 -> 36545 | L57: 14000000 | M57: =SUM(G57-L57) -> 1000000 | N57: 36546
A58: 2778 | B58: CLOSED | C58: TDHCA | D58: Providence at Veteran's Memorial | E58: Houston, TX | F58: 15000000 | G58: 15000000 | H58: 36431 | I58: =H58+35 -> 36466 | J58: 15000000 | K58: =H58+120 -> 36551 | L58: 15000000 | M58: =SUM(G58-L58) -> 0 | N58: 36553
A59: 85 | B59: WITHDRAWN | C59: TDHCA | D59: Sycamore Creek Park One Apts. | E59: Fort Worth, TX | F59: 12200000 | M59: =SUM(G59-L59) -> 0
A60: 88 | B60: WITHDRAWN | C60: TDHCA | D60: Sycamore Creek Park Two Apts. | E60: Fort Worth, TX | F60: 12200000 | M60: =SUM(G60-L60) -> 0
A61: 2779 | B61: CLOSED | C61: TDHCA | D61: Providence at Rush Creek II | E61: Arlington, TX | F61: 10000000 | G61: 10000000 | H61: 36438 | I61: =H61+35 -> 36473 | J61: 10000000 | K61: =H61+120 -> 36558 | L61: 10000000 | M61: =SUM(G61-L61) -> 0 | N61: 36560
A62: 92 | B62: WITHDRAWN | C62: TDHCA | D62: Wittershaw Apts. | E62: Houston, TX | F62: 13100000 | M62: =SUM(G62-L62) -> 0
A63: 95 | B63: CANCELLED | C63: TDHCA | D63: North Vista Apartments | F63: 15000000 | M63: =SUM(G63-L63) -> 0
A64: 96 | B64: CANCELLED | C64: TDHCA | D64: Yager Two Apts. | E64: Austin, TX | F64: 15000000 | M64: =SUM(G64-L64) -> 0
A65: 103 | B65: CANCELLED | C65: TDHCA | D65: Derby House | E65: Baytown, TX | F65: 13800000 | M65: =SUM(G65-L65) -> 0
A66: 109 | B66: WITHDRAWN | C66: TDHCA | D66: Surrey Station | E66: Pflugerville, TX | F66: 15000000 | M66: =SUM(G66-L66) -> 0
A67: 2781 | B67: CLOSED | C67: TDHCA | D67: Humble Parkway Apts. | E67: Humble, TX | F67: 15000000 | G67: 15000000 | H67: 36440 | I67: =H67+35 -> 36475 | J67: 15000000 | K67: =H67+120 -> 36560 | L67: 11700000 | M67: =SUM(G67-L67) -> 3300000 | N67: 36564
A68: 2783 | B68: WITHDRAWN | C68: TDHCA | D68: Median Way Park Apts. | E68: Arlington, TX | F68: 14900000 | G68: 14900000 | H68: 36445 | I68: =H68+35 -> 36480 | K68: =H68+120 -> 36565 | M68: =SUM(G68-L68) -> 14900000
A69: 2784 | B69: WITHDRAWN | C69: TDHCA | D69: Main Street Apts | E69: Baytown, TX | F69: 15000000 | G69: 15000000 | H69: 36445 | I69: =H69+35 -> 36480 | K69: =H69+120 -> 36565 | M69: =SUM(G69-L69) -> 15000000 | N69: 36468
A70: 130 | B70: WITHDRAWN | C70: TDHCA | D70: Granbury Park Apts. | E70: Fort Worth, TX | F70: 15000000 | M70: =SUM(G70-L70) -> 0
A71: 135 | B71: WITHDRAWN | C71: TDHCA | D71: Brookglen Park Apartments | F71: 15000000 | M71: =SUM(G71-L71) -> 0
A72: 146 | B72: CANCELLED | C72: TDHCA | D72: Alemeda Apartments | E72: Houston, TX | F72: 14800000 | M72: =SUM(G72-L72) -> 0
A73: 148 | B73: WITHDRAWN | C73: TDHCA | D73: Stuebner One Apts. | F73: 15000000 | M73: =SUM(G73-L73) -> 0
A74: 149 | B74: WITHDRAWN | C74: TDHCA | D74: Walters Apts. | F74: 15000000 | M74: =SUM(G74-L74) -> 0
A75: 155 | B75: CANCELLED | C75: TDHCA | D75: Parmer Park Apts. | E75: Austin, TX | F75: 15000000 | M75: =SUM(G75-L75) -> 0
A76: 159 | B76: WITHDRAWN | C76: TDHCA | D76: Peppertree Apts. | E76: Rosenberg, TX | F76: 15000000 | M76: =SUM(G76-L76) -> 0
A77: 162 | B77: WITHDRAWN | C77: TDHCA | D77: Pineview Townhomes | E77: Houston, TX | F77: 14200000 | M77: =SUM(G77-L77) -> 0
A78: 165 | B78: CANCELLED | C78: TDHCA | D78: AlBender East Apts | E78: Houston, TX | F78: 14200000 | M78: =SUM(G78-L78) -> 0
A79: 2785 | B79: WITHDRAWN | C79: TDHCA | D79: Bellfort Village Apartments | E79: Houston, TX | F79: 13700000 | G79: 13700000 | H79: 36455 | I79: =H79+35 -> 36490 | J79: 13700000 | K79: =H79+120 -> 36575 | L79: 0 | M79: =SUM(G79-L79) -> 13700000 | N79: 36574
A80: 2787 | B80: WITHDRAWN | C80: TDHCA | D80: Eagle Glen Apts. | E80: Houston, TX | F80: 14000000 | G80: 14000000 | H80: 36455 | I80: =H80+35 -> 36490 | K80: =H80+120 -> 36575 | M80: =SUM(G80-L80) -> 14000000 | N80: 36475
A81: 176 | B81: WITHDRAWN | C81: TDHCA | D81: Goose Creek Apts. | E81: Baytown, TX | F81: 14700000 | M81: =SUM(G81-L81) -> 0
A82: 184 | B82: WITHDRAWN | C82: TDHCA | D82: Meadow Brook Apts | E82: Houston, TX | F82: 15000000 | M82: =SUM(G82-L82) -> 0
A83: 187 | B83: CANCELLED | C83: TDHCA | D83: Amber Ridge Apts | E83: Kyle, TX | F83: 15000000 | M83: =SUM(G83-L83) -> 0
A84: 192 | B84: CANCELLED | C84: TDHCA | D84: Cooks Lane Park Apts. | E84: Fort Worth, TX | F84: 15000000 | M84: =SUM(G84-L84) -> 0
A85: 199 | B85: CANCELLED | C85: TDHCA | D85: Waterford Park Apts. | E85: Houston, TX | F85: 15000000 | M85: =SUM(G85-L85) -> 0
A86: 200 | B86: WITHDRAWN | C86: TDHCA | D86: Lincoln Park Apts | E86: Arlington, TX | F86: 15000000 | M86: =SUM(G86-L86) -> 0
A87: 202 | B87: CANCELLED | C87: TDHCA | D87: Park 10 Barker Cypress Apts. | E87: Houston, TX | F87: 15000000 | M87: =SUM(G87-L87) -> 0
A88: 204 | B88: CANCELLED | C88: TDHCA | D88: Kensington Apts. | E88: Houston, TX | F88: 14800000 | M88: =SUM(G88-L88) -> 0
A89: 2790 | B89: WITHDRAWN | C89: TDHCA | D89: Woodline Park Apts. | E89: Montgomery Co. | F89: 15000000 | G89: 15000000 | H89: 36469 | I89: =H89+35 -> 36504 | J89: 15000000 | K89: =H89+120 -> 36589 | M89: =SUM(G89-L89) -> 15000000 | N89: 36587
A90: 209 | B90: CANCELLED | C90: TDHCA | D90: Wood Hollow Apts. | E90: Cedar Park, TX | F90: 15000000 | M90: =SUM(G90-L90) -> 0
A91: 214 | B91: CANCELLED | C91: TDHCA | D91: Parkside Village Apts | E91: Arlington, TX | F91: 11000000 | M91: =SUM(G91-L91) -> 0
A92: 221 | B92: CANCELLED | C92: TDHCA | D92: Brookglen Village Apartments | E92: Houston, TX | F92: 11600000 | M92: =SUM(G92-L92) -> 0
A93: 2793 | B93: WITHDRAWN | C93: TDHCA | D93: Lake June Park Apts. | E93: Dallas, TX | F93: 15000000 | G93: 15000000 | H93: 36481 | I93: =H93+35 -> 36516 | J93: 15000000 | K93: =H93+120 -> 36601 | M93: =SUM(G93-L93) -> 15000000 | N93: 36529
A94: 235 | B94: CANCELLED | C94: TDHCA | D94: West Montgomery Apts. | F94: 15000000
A95: 240 | B95: CANCELLED | C95: TDHCA | D95: Park at Steeplechase | E95: Houston, TX | F95: 15000000
A96: 246 | B96: CANCELLED | C96: TDHCA | D96: Bagdad Park Apartments | E96: Leander, TX | F96: 15000000
A97: 247 | B97: CANCELLED | C97: TDHCA | D97: Chapel Creek Park One Apts. | E97: Fort Worth, TX | F97: 11900000
A98: 254 | B98: CANCELLED | C98: TDHCA | D98: Chapel Creek Park Two Apts. | E98: Fort Worth, TX | F98: 7000000
A99: 257 | B99: CANCELLED | C99: TDHCA | D99: Stafford Apts. | F99: 15000000
A100: 259 | B100: IN-LINE | C100: TDHCA | D100: Coughtrey Estates | E100: Grand Prairie, TX | F100: 10000000
A101: 260 | B101: IN-LINE | C101: TDHCA | D101: Southpark Apts. | E101: Austin,TX | F101: 11000000
A102: 264 | B102: IN-LINE | C102: TDHCA | D102: Silver Spring Apts | E102: Houston, TX | F102: 15000000
...

Sheet REGION 1
A1: SUBCEILING #4 | C1: 10538473 | N1: ='SC1 MRB'!N1 -> 43335.607
A2: REGION 1
A4: DOCKET# | B4: STATUS | C4: ISSUER | D4: PROJECT | E4: LOCATION | F4: REQUESTED | G4: RESERVED | H4: RESERVATION | I4: 35-DAY | J4: CERTIFIED | K4: 120-DAY | L4: ALLOCATION | M4: RELEASED | N4: RELEASE/
A5: or | F5: AMOUNT | G5: AMOUNT | H5: DATE | I5: DEADLINE | J5: AMOUNT | K5: DEADLINE | L5: AMOUNT | M5: AMOUNT | N5: UPDATE
A6: LOT# | N6: DATE
A7: PRIORITY 2
A8: 2696 | B8: WITHDRAWN | C8: Panhandle Regional HFC | D8: Residences at Wolflin Park | E8: Amarillo, TX | F8: 8400000 | G8: 8400000 | H8: 36189 | I8: =H8+35 -> 36224 | J8: 8400000 | K8: =H8+120 -> 36309 | M8: 8400000 | N8: 36308
A9: 151 | B9: WITHDRAWN | C9: Lubbock HFC | D9: Castle Garden Apts | E9: Lubbock, TX | F9: 4800000
A10: 183 | B10: WITHDRAWN | C10: Panhandle Regional HFC | D10: West Amarillo Senior Housing | E10: Amarillo, TX | F10: 8400000
A11: - | B11: WITHDRAWN | C11: Panhandle Regional HFC | D11: The Park Apts | E11: Amarillo, TX | F11: 1500000
A12: 2724 | B12: CLOSED | C12: Panhandle Regional HFC | D12: Glenwood of Amarillo | E12: Amarillo, TX | F12: 9000000 | G12: 5738473 | H12: 36309 | I12: =H12+35 -> 36344 | J12: 5738473 | K12: =H12+120 -> 36429 | L12: 5736000 | M12: =J12-L12 -> 2473 | N12: 36434
C20: TOTALS | F20: =SUM(F7:F17) -> 32100000 | G20: =SUM(G7:G17) -> 14138473 | J20: =SUM(J7:J18) -> 14138473 | L20: =SUM(L7:L18) -> 5736000 | M20: =SUM(M7:M18) -> 8402473
C22: In-Line | F22: =SUM(F20-G20) -> 17961527
C24: Available | F24: =+C1-G20+M20 -> 4802473 | H24: =F24-F9 -> 2473

Sheet REGION 2
A1: SUBCEILING #4 | C1: 7410745 | N1: ='SC1 MRB'!N1 -> 43335.607
A2: REGION 2
A4: DOCKET# | B4: STATUS | C4: ISSUER | F4: REQUESTED | G4: RESERVED | H4: RESERVATION | I4: 35-DAY | J4: CERTIFIED | K4: 120-DAY | L4: ALLOCATION | M4: RELEASED | N4: RELEASE/
A5: or | C5: PROJECT | F5: AMOUNT | G5: AMOUNT | H5: DATE | I5: DEADLINE | J5: AMOUNT | K5: DEADLINE | L5: AMOUNT | M5: AMOUNT | N5: UPDATE
A6: LOT# | C6: LOCATION | N6: DATE
B8: No applicants
C12: TOTALS | F12: =SUM(F7:F10) -> 0 | G12: =SUM(G7:G10) -> 0 | J12: =SUM(J7:J10) -> 0 | L12: =SUM(L7:L10) -> 0 | M12: =SUM(M7:M10) -> 0
C14: In-Line | F14: =SUM(F12-G12) -> 0
C16: Available | F16: =+C1-G12+M12 -> 7410745

Sheet REGION 3
A1: SUBCEILING #4 | C1: 74163803 | N1: ='SC1 MRB'!N1 -> 43335.607
A2: REGION 3 | C2: 71716397 | D2: metro
C3: =C1-C2 -> 2447406 | D3: non-metro
A6: DOCKET# | B6: STATUS | C6: ISSUER | D6: PROJECT | E6: LOCATION | F6: REQUESTED | G6: RESERVED | H6: RESERVATION | I6: 35-DAY | J6: CERTIFIED | K6: 120-DAY | L6: ALLOCATION | M6: RELEASED | N6: RELEASE/
A7: or | F7: AMOUNT | G7: AMOUNT | H7: DATE | I7: DEADLINE | J7: AMOUNT | K7: DEADLINE | L7: AMOUNT | M7: AMOUNT | N7: UPDATE
A8: LOT# | N8: DATE
A9: PRIORITY 1
A11: 2647 | B11: CLOSED | C11: Northwest Central Texas Housing Finance Corp. | D11: Cypress View Villas | E11: Weatherford, Tx. | F11: 10000000 | G11: 10000000 | H11: 36161 | I11: =H11+35 -> 36196 | J11: 10000000 | K11: =H11+120 -> 36281 | L11: 10000000 | M11: 0 | N11: 36284
A12: 2676 | B12: CLOSED | C12: City of Dallas HFC | D12: The Oaks IIl | E12: Dallas, TX | F12: 15000000 | G12: 15000000 | H12: 36175 | I12: =H12+35 -> 36210 | J12: 15000000 | K12: =H12+120 -> 36295 | L12: 12660000 | M12: =J12-L12 -> 2340000 | N12: 36299
A13: 2662 | B13: CLOSED | C13: Denton County HFC | D13: Quail Creek North | E13: Denton, TX | F13: 14300000 | G13: 14300000 | H13: 36168 | I13: =H13+35 -> 36203 | J13: 14300000 | K13: =H13+120 -> 36288 | L13: 14300000 | M13: 0 | N13: 36281
A14: 2685 | B14: CANCELLED | C14: City of Dallas HFC | D14: Timber Creek | E14: Dallas, TX | F14: 15000000 | G14: 15000000 | H14: 36183 | I14: =H14+35 -> 36218 | K14: =H14+120 -> 36303 | M14: 15000000 | N14: 36221
A15: 39 | B15: CANCELLED | C15: City of Dallas HFC | D15: The Oaks II | E15: Dallas, TX | F15: 15000000 | H15: 36189 | I15: =H15+35 -> 36224 | K15: =H15+120 -> 36309
A16: 2702 | B16: CLOSED | C16: Tarrant County HFC | D16: 2000 Sycamore Development | E16: Fort Worth, TX | F16: 14394115 | G16: 14394115 | H16: 36195 | I16: =H16+35 -> 36230 | J16: 14394115 | K16: =H16+120 -> 36315 | L16: 13350000 | M16: =J16-L16 -> 1044115 | N16: 36316
A17: 2707 | B17: CLOSED | C17: Tarrant County HFC | D17: 3000 Alemeda Development | E17: Fort Worth, TX | F17: 12365792 | G17: 12365792 | H17: 36224 | I17: =H17+35 -> 36259 | J17: 12365792 | K17: =H17+120 -> 36344 | L17: 11230000 | M17: =J17-L17 -> 1135792 | N17: 36347
A18: 68 | B18: WITHDRAWN | C18: Tarrant County HFC | D18: Continental Terrace Apts. | E18: Fort Worth, TX | F18: 8000000
A19: 2732 | B19: CLOSED | C19: City of Dallas HFC | D19: Hickory Creek D Housing_x000B_ | E19: Dallas, TX | F19: 15000000 | G19: 15000000 | H19: 36321 | I19: =H19+35 -> 36356 | J19: 15000000 | K19: =H19+120 -> 36441 | L19: 15000000 | M19: 0 | N19: 36445
A20: 102 | B20: WITHDRAWN | C20: City of Dallas HFC | D20: Primrose at Legendary Lane | E20: Dallas, TX | F20: 15000000
A21: 117 | B21: WITHDRAWN | C21: City of Dallas HFC | D21: Primose Langdon II | E21: Dallas, TX | F21: 15000000
A22: 118 | B22: CANCELLED | C22: North Central Texas HFC | D22: Primrose Houston School II | E22: Lancaster, TX | F22: 15000000
A23: 119 | B23: CANCELLED | C23: North Central Texas HFC | D23: Brook Hollow Town Homes | E23: Ennis, TX | F23: 13600000
A24: 2750 | B24: CLOSED | C24: City of Dallas HFC | D24: Southern Terrace | E24: Dallas, TX | F24: 15000000 | G24: 15000000 | H24: 36392 | I24: =H24+35 -> 36427 | J24: 15000000 | K24: =H24+120 -> 36512 | L24: 14740000 | M24: =J24-L24 -> 260000 | N24: 36526
A25: 2751 | B25: CANCELLED | C25: HFC of Ennis | D25: Ennis Senior Estates | E25: Ennis | F25: 13000000 | G25: 13000000 | H25: 36392 | I25: =H25+35 -> 36427 | K25: =H25+120 -> 36512 | M25: 13000000 | N25: 36428
A26: 2752 | B26: CANCELLED | C26: City of Dallas HFC | D26: Hickory Creek A Housing_x000B_ | E26: Dallas, TX | F26: 15000000 | G26: 15000000 | H26: 36392 | I26: =H26+35 -> 36427 | K26: =H26+120 -> 36512 | M26: 15000000 | N26: 36428
A27: 152 | B27: CANCELLED | C27: City of Dallas HFC | D27: Villas of St. Augustine | E27: Dallas, TX | F27: 14805000
A28: 2753 | B28: CLOSED | C28: City of Dallas HFC | D28: Preakness Ranch Seniors | E28: Dallas, TX | F28: 15000000 | G28: 15000000 | H28: 36392 | I28: =H28+35 -> 36427 | J28: 15000000 | K28: =H28+120 -> 36512 | L28: 14145000 | M28: =J28-L28 -> 855000 | N28: 36523
A29: 2756 | B29: WITHDRAWN | C29: Denton County HFC | D29: Quail Creek South | E29: Denton, TX | F29: 14300000 | G29: 14300000 | H29: 36392 | I29: =H29+35 -> 36427 | J29: 14300000 | K29: =H29+120 -> 36512 | M29: 14300000 | N29: 36463
A30: 181 | B30: WITHDRAWN | C30: Tarrant County HFC | D30: 1100 Sycamore Development | E30: Fort Worth, TX | F30: 14394115
A31: 186 | B31: CANCELLED | C31: Northwest Central Texas Housing Finance Corp. | D31: Stagecoach Villas | E31: Willow Park, TX | F31: 10000000
A32: 198 | B32: WITHDRAWN | C32: City of Dallas HFC | D32: Parks at Prairie Creek | E32: Dallas, TX | F32: 15000000
A33: 203 | B33: CANCELLED | C33: City of Dallas HFC | D33: Mission Verde Ranch Seniors | E33: Dallas, TX | F33: 15000000
A34: 213 | B34: WITHDRAWN | C34: City of Dallas HFC | D34: Hickory Creek BHousing_x000B_ | E34: Dallas, TX | F34: 15000000
A35: 227 | B35: CANCELLED | C35: North Central Texas HFC | D35: Forest Park Town Homes | E35: Waxahachie, TX | F35: 13800000
A36: 251 | B36: CANCELLED | C36: HFC of Ennis | D36: Ennis Senior Estates II | E36: Ennis | F36: 7000000
A37: 255 | B37: CANCELLED | C37: City of Dallas HFC | D37: Wheatland Ranch | E37: Dallas, TX | F37: 15000000
A38: 270 | B38: CANCELLED | C38: City of Dallas HFC | D38: Valley Ranch Villas Seniors | E38: Dallas, TX | F38: 15000000
A39: 284 | B39: WITHDRAWN | C39: City of Dallas HFC | D39: Hickory Creek C Housing_x000B_ | E39: Dallas, TX | F39: 15000000
A41: PRIORITY 2
A43: 21 | B43: WITHDRAWN | C43: Tarrant County HFC | D43: Bella Vista Apts. | E43: Fort Worth, TX | F43: 13800000
A44: 2780 | B44: CLOSED | C44: Tarrant County HFC | D44: Blue Lake at Marine Creek Apts. | E44: Fort Worth, TX | F44: 11000000 | G44: 11000000 | H44: 36438 | I44: =H44+35 -> 36473 | J44: 11000000 | K44: =H44+120 -> 36558 | L44: 11000000 | M44: 0 | N44: 36564
A45: 277 | B45: IN-LINE | C45: Tarrant County HFC | D45: Haltom Park Apts. | E45: Haltom City, TX | F45: 15000000
E50: TOTALS | F50: =SUM(F9:F47) -> 439759022 | G50: =SUM(G9:G47) -> 179359907 | J50: =SUM(J9:J48) -> 136359907 | L50: =SUM(L9:L48) -> 116425000 | M50: =SUM(M9:M48) -> 62934907
E52: In-Line | F52: =SUM(F50-G50) -> 260399115
E54: Available | F54: =+C1-G50+M50 -> -42261197 | G54: =F54-C3 -> -44708603

Sheet REGION 4
A1: SUBCEILING #4 | C1: 13722558 | N1: ='SC1 MRB'!N1 -> 43335.607
A2: REGION 4
A4: DOCKET# | B4: STATUS | C4: ISSUER | D4: PROJECT | E4: LOCATION | F4: REQUESTED | G4: RESERVED | H4: RESERVATION | I4: 35-DAY | J4: CERTIFIED | K4: 120-DAY | L4: ALLOCATION | M4: RELEASED | N4: RELEASE/
A5: or | F5: AMOUNT | G5: AMOUNT | H5: DATE | I5: DEADLINE | J5: AMOUNT | K5: DEADLINE | L5: AMOUNT | M5: AMOUNT | N5: UPDATE
A6: LOT# | N6: DATE
A7: PRIORITY 2
A9: 168 | B9: CANCELLED | C9: Pineywoods HFC | D9: Waterford Park | E9: Longview | F9: 10500000 | H9: 36182 | I9: =H9+35 -> 36217 | K9: =H9+120 -> 36302
A11: 2725 | B11: CLOSED | C11: East Texas HFC | D11: Southwest Pines | E11: Tyler | F11: 13722558 | G11: 13722558 | H11: 36309 | I11: =H11+35 -> 36344 | J11: 13722558 | K11: =H11+120 -> 36429 | L11: 13025000 | M11: =J11-L11 -> 697558 | N11: 36431
E21: TOTALS | F21: =SUM(F7:F18) -> 24222558 | G21: =SUM(G7:G18) -> 13722558 | J21: =SUM(J7:J19) -> 13722558 | L21: =SUM(L7:L19) -> 13025000 | M21: =SUM(M7:M19) -> 697558
E23: In-Line | F23: =SUM(F21-G21) -> 10500000
E25: Available | F25: =+C1-G21+M21 -> 697558

Sheet REGION 5
A1: SUBCEILING #4 | C1: 10003096 | N1: ='SC1 MRB'!N1 -> 43335.607
A2: REGION 5
A4: DOCKET# | B4: STATUS | C4: ISSUER | D4: PROJECT | E4: LOCATION | F4: REQUESTED | G4: RESERVED | H4: RESERVATION | I4: 35-DAY | J4: CERTIFIED | K4: 120-DAY | L4: ALLOCATION | M4: RELEASED | N4: RELEASE/
A5: or | F5: AMOUNT | G5: AMOUNT | H5: DATE | I5: DEADLINE | J5: AMOUNT | K5: DEADLINE | L5: AMOUNT | M5: AMOUNT | N5: UPDATE
A6: LOT# | N6: DATE
A7: PRIORITY 2
A9: 2648 | B9: CLOSED | C9: Jefferson County HFC | D9: The Shire | E9: Port Arthur | F9: 9941094 | G9: 9941094 | H9: 35796 | I9: =H9+35 -> 35831 | J9: 9941094 | K9: =H9+120 -> 35916 | L9: 9640000 | M9: =J9-L9 -> 301094 | N9: 36284
C15: TOTALS | F15: =SUM(F7:F12) -> 9941094 | G15: =SUM(G7:G13) -> 9941094 | J15: =SUM(J7:J13) -> 9941094 | L15: =SUM(L7:L13) -> 9640000 | M15: =SUM(M7:M13) -> 301094
C17: In-Line | F17: =SUM(F15-G15) -> 0
C19: Available | F19: =+C1-G15+M15 -> 363096

Sheet REGION 6
A1: SUBCEILING #4 | C1: 65597771 | N1: ='SC1 MRB'!N1 -> 43335.607
A2: REGION 6 | C2: 63039458 | D2: metro
C3: =C1-C2 -> 2558313 | D3: non-metro
A5: DOCKET# | B5: STATUS | C5: ISSUER | D5: PROJECT | E5: LOCATION | F5: REQUESTED | G5: RESERVED | H5: RESERVATION | I5: 35-DAY | J5: CERTIFIED | K5: 120-DAY | L5: ALLOCATION | M5: RELEASED | N5: RELEASE/
A6: or | F6: AMOUNT | G6: AMOUNT | H6: DATE | I6: DEADLINE | J6: AMOUNT | K6: DEADLINE | L6: AMOUNT | M6: AMOUNT | N6: UPDATE
A7: LOT# | N7: DATE
A8: PRIORITY 1
A10: 3 | B10: CANCELLED | C10: Harris County HFC | D10: Primrose Little York Apts. | E10: Houston, TX | F10: 15000000 | H10: 36175 | I10: =H10+35 -> 36210 | K10: =H10+120 -> 36295
A11: 2663 | B11: WITHDRAWN | C11: Harris County HFC | D11: Primrose at Reed Park Apts | E11: Houston, TX | F11: 15000000 | G11: 15000000 | H11: 36168 | I11: =H11+35 -> 36203 | J11: 15000000 | K11: =H11+120 -> 36288 | M11: 15000000 | N11: 36263
A12: 2649 | B12: CANCELLED | C12: Houston HFC | D12: Selinsky Villas Apartments | E12: Houston, TX | F12: 15000000 | G12: 15000000 | H12: 36161 | I12: =H12+35 -> 36196 | J12: 15000000 | K12: =H12+120 -> 36281 | M12: 15000000 | N12: 36288
A13: 2695 | B13: CANCELLED | C13: Harris County HFC | D13: Carter Woods Apartments | E13: Houston | F13: 10650000 | G13: 10650000 | H13: 36189 | I13: =H13+35 -> 36224 | K13: =H13+120 -> 36309 | M13: 10650000
A14: 17 | B14: WITHDRAWN | C14: Houston HFC | D14: Sycamore Ridge Apts. | E14: Houston, TX | F14: 15000000
A15: 2693 | B15: CLOSED | C15: Harris County HFC | D15: Kimberly Pointe Apartments | E15: Houston | F15: 10450000 | G15: 10450000 | H15: 36186 | I15: =H15+35 -> 36221 | J15: 10450000 | K15: =H15+120 -> 36306 | L15: 10450000 | M15: 0 | N15: 36307
A16: 2704 | B16: CLOSED | C16: Harris County HFC | D16: Shadow Ridge Apartments | E16: Houston | F16: 15000000 | G16: 15000000 | H16: 36209 | I16: =H16+35 -> 36244 | J16: 15000000 | K16: =H16+120 -> 36329 | L16: 12245000 | M16: =J16-L16 -> 2755000 | N16: 36330
A17: 22 | B17: CANCELLED | C17: Harris County HFC | D17: Primrose Woods II Apartments | E17: Houston | F17: 15000000
A18: 2713 | B18: CANCELLED | C18: Harris County HFC | D18: Primrose Kuykendahl Apts. | E18: Houston, TX | F18: 15000000 | G18: 15000000 | H18: 36274 | I18: =H18+35 -> 36309 | K18: =H18+120 -> 36394 | M18: 15000000 | N18: 36312
A19: 24 | B19: WITHDRAWN | C19: Houston HFC | D19: Webercrest Villas Apartments | E19: Houston, TX | F19: 15000000
A20: 28 | B20: WITHDRAWN | C20: Houston HFC | D20: Cambury Villas Apartments | E20: Houston, TX | F20: 15000000 | N20: 36293
A21: 2720 | B21: WITHDRAWN | C21: Houston HFC | D21: Jefferson House Apartments | E21: Houston, TX | F21: 10000000 | G21: 10000000 | H21: 36298 | I21: =H21+35 -> 36333 | J21: 10000000 | K21: =H21+120 -> 36418 | M21: 10000000 | N21: 36361
A22: 2721 | B22: CANCELLED | C22: Victory Street Public Facility Corp. | D22: Laurel Oaks Apts. | E22: Houston, TX | F22: 12000000 | G22: 12000000 | H22: 36298 | I22: =H22+35 -> 36333 | K22: =H22+120 -> 36418 | M22: 12000000 | N22: 36335
A23: 51 | B23: WITHDRAWN | C23: Houston HFC | D23: Airport l Apartments | E23: Houston, TX | F23: 14500000
A24: 53 | B24: WITHDRAWN | C24: Harris County HFC | D24: Richmond Grove Apartments | E24: Houston | F24: 15000000
A25: 2728 | B25: CANCELLED | C25: Houston HFC | D25: Rushcreek Villas Apartments | E25: Houston, TX | F25: 15000000 | G25: 15000000 | H25: 36315 | I25: =H25+35 -> 36350 | K25: =H25+120 -> 36435 | M25: 15000000 | N25: 36351
A26: 2727 | B26: CLOSED | C26: Houston HFC | D26: North Forest Trails Apartments | E26: Houston, TX | F26: 15000000 | G26: 15000000 | H26: 36315 | I26: =H26+35 -> 36350 | J26: 10000000 | K26: =H26+120 -> 36435 | L26: 7865000 | M26: =G26-L26 -> 7135000 | N26: 36438
A27: 60 | B27: CANCELLED | C27: Harris County HFC | D27: Vanderlane Villas | E27: Katy | F27: 15000000
A28: 2729 | B28: WITHDRAWN | C28: Harris County HFC | D28: Primrose Northview Park Apartments | E28: Houston | F28: 15000000 | G28: 15000000 | H28: 36315 | I28: =H28+35 -> 36350 | J28: 15000000 | K28: =H28+120 -> 36435 | M28: 15000000 | N28: 36424
A29: 2731 | B29: CLOSED | C29: Harris County HFC | D29: Empire Village Apartments | E29: Pasadena | F29: 9000000 | G29: 9000000 | H29: 36319 | I29: =H29+35 -> 36354 | J29: 9000000 | K29: =H29+120 -> 36439 | L29: 6400000 | M29: =J29-L29 -> 2600000 | N29: 36441
A30: 67 | B30: WITHDRAWN | C30: Houston HFC | D30: Airport IX Apartments | E30: Houston, TX | F30: 14500000
A31: 76 | B31: WITHDRAWN | C31: Houston HFC | D31: Courtney Place Apts | E31: Houston, TX | F31: 15000000
A32: 2733 | B32: CLOSED | C32: Victory Street Public Facility Corp. | D32: Willow Park | E32: Houston, TX | F32: 15000000 | G32: 15000000 | H32: 36322 | I32: =H32+35 -> 36357 | J32: 15000000 | K32: =H32+120 -> 36442 | L32: 14600000 | M32: =J32-L32 -> 400000 | N32: 36446
A33: 2735 | B33: CLOSED | C33: Houston HFC | D33: Sweetwater Point Apts | E33: Houston, TX | F33: 15000000 | G33: 15000000 | H33: 36340 | I33: =H33+35 -> 36375 | J33: 15000000 | K33: =H33+120 -> 36460 | L33: 12220000 | M33: =J33-L33 -> 2780000 | N33: 36460
A34: 2738 | B34: CLOSED | C34: Houston HFC | D34: Longboat Key Apartments | E34: Houston, TX | F34: 15000000 | G34: 15000000 | H34: 36351 | I34: =H34+35 -> 36386 | J34: 15000000 | K34: =H34+120 -> 36471 | L34: 13250000 | M34: =J34-L34 -> 1750000 | N34: 36470
A35: 99 | B35: WITHDRAWN | C35: Houston HFC | D35: The Bristol Apts. | E35: Houston, TX | F35: 12500000
A36: 2748 | B36: CLOSED | C36: Harris County HFC | D36: Northland Woods Apartments | E36: Houston | F36: 14500000 | G36: 15000000 | H36: 36392 | I36: =H36+35 -> 36427 | J36: 14500000 | K36: =H36+120 -> 36512 | L36: 12600000 | M36: =J36-L36 -> 1900000 | N36: 36863
A37: 2749 | B37: WITHDRAWN | C37: Houston HFC | D37: Mesa Road Apts. | E37: Houston, TX | F37: 15000000 | G37: 15000000 | H37: 36392 | I37: =H37+35 -> 36427 | J37: 12500000 | K37: =H37+120 -> 36512 | M37: 15000000 | N37: 36448
A38: 115 | B38: WITHDRAWN | C38: Harris County HFC | D38: Waterleaf Place Apartments | E38: Houston | F38: 15000000
A39: 123 | B39: WITHDRAWN | C39: Houston HFC | D39: Ritten Villas Apartments | E39: Houston, TX | F39: 12000000
A40: 127 | B40: CANCELLED | C40: Victory Street Public Facility Corp. | D40: Meridian Cypresswood Apts | E40: Houston, TX | F40: 15000000
A41: 134 | B41: WITHDRAWN | C41: Harris County HFC | D41: Barron Villas | E41: Houston | F41: 15000000
A42: 141 | B42: WITHDRAWN | C42: Harris County HFC | D42: Bammel Villas | E42: Houston | F42: 15000000
A43: 2754 | B43: CLOSED | C43: Harris County HFC | D43: Primrose Skyline Apts | E43: Houston, TX | F43: 15000000 | G43: 15000000 | H43: 36392 | I43: =H43+35 -> 36427 | J43: 15000000 | K43: =H43+120 -> 36512 | L43: 13150000 | M43: =J43-L43 -> 1850000 | N43: 36523
A44: 156 | B44: WITHDRAWN | C44: Houston HFC | D44: Airport V Apartments | E44: Houston, TX | F44: 14500000
A45: 2755 | B45: CLOSED | C45: Houston HFC | D45: Parkside Point Apts. | E45: Houston, TX | F45: 15000000 | G45: 15000000 | H45: 36392 | I45: =H45+35 -> 36427 | J45: 15000000 | K45: =H45+120 -> 36512 | L45: 12200000 | M45: =J45-L45 -> 2800000 | N45: 36515
A46: 164 | B46: WITHDRAWN | C46: Houston HFC | D46: Greenlow Villas Apartments | E46: Houston, TX | F46: 15000000
A47: 169 | B47: WITHDRAWN | C47: Montgomery County HFC | D47: Sawdust Villas | E47: Spring,TX | F47: 13500000
A48: 179 | B48: WITHDRAWN | C48: Harris County HFC | D48: Yale Village Apartments | E48: Houston | F48: 11129000
A49: 185 | B49: WITHDRAWN | C49: Houston HFC | D49: Jensen Parker Apts. | E49: Houston, TX | F49: 10000000
A50: 2757 | B50: CLOSED | C50: Houston HFC | D50: Sterlingshire Apartments | E50: Houston, TX | F50: 9000000 | G50: 9000000 | H50: 36398 | I50: =H50+35 -> 36433 | J50: 9000000 | K50: =H50+120 -> 36518 | L50: 7045000 | M50: =J50-L50 -> 1955000 | N50: 36523 | O50: 36526
A51: 208 | B51: WITHDRAWN | C51: Houston HFC | D51: Little York Villas Apartments | E51: Houston, TX | F51: 8500000
A52: 210 | B52: CANCELLED | C52: Houston HFC | D52: Orem Villas Apartments | E52: Houston, TX | F52: 15000000
A53: 2758 | B53: CANCELLED | C53: Victory Street Public Facility Corp. | D53: Little York Parc Apts. | E53: Houston, TX | F53: 14500000 | G53: 14500000 | H53: 36398 | I53: =H53+35 -> 36433 | J53: 14500000 | K53: =H53+120 -> 36518 | M53: 14500000
A54: 2759 | B54: CANCELLED | C54: Houston HFC | D54: Jenson Villas Apartments | E54: Houston, TX | F54: 12000000 | G54: 12000000 | H54: 36398 | I54: =H54+35 -> 36433 | J54: 12000000 | K54: =H54+120 -> 36518 | M54: 12000000 | N54: 36448
A55: 220 | B55: WITHDRAWN | C55: Harris County HFC | D55: Primrose Woods Apartments | E55: Houston | F55: 15000000
A56: 229 | B56: WITHDRAWN | C56: Houston HFC | D56: Northline Villas Apts. | E56: Houston, TX | F56: 10000000
A57: 242 | B57: CANCELLED | C57: Southeast Texas HFC | D57: Satsuma Gardens Apts. | E57: Pasadena, TX | F57: 9000000
A58: 243 | B58: WITHDRAWN | C58: Harris County HFC | D58: Jarrod Landing Apartments | E58: Houston | F58: 8112500
A59: 253 | B59: WITHDRAWN | C59: Houston HFC | D59: Avalon Green Apts | E59: Houston, TX | F59: 15000000
A60: 2761 | B60: WITHDRAWN | C60: Harris County HFC | D60: Jordan Cove Apartments | E60: Houston | F60: 9435000 | G60: 9435000 | H60: 36399 | I60: =H60+35 -> 36434 | J60: 9435000 | K60: =H60+120 -> 36519 | M60: 9435000 | N60: 36448
A61: 2762 | B61: CANCELLED | C61: Victory Street Public Facility Corp. | D61: Gessner Villas Apts | E61: Houston, TX | F61: 15000000 | G61: 15000000 | H61: 36399 | I61: =H61+35 -> 36434 | J61: 15000000 | K61: =H61+120 -> 36519 | M61: 15000000
A62: 273 | B62: WITHDRAWN | C62: Harris County HFC | D62: Kings Row Apartments | E62: Houston | F62: 8000000
A63: 2763 | B63: WITHDRAWN | C63: Harris County HFC | D63: Primrose at Reed Road Apts | E63: Houston, TX | F63: 15000000 | G63: 15000000 | H63: 36399 | I63: =H63+35 -> 36434 | J63: 15000000 | K63: =H63+120 -> 36519 | M63: 15000000 | N63: 36448
A64: 2764 | B64: CANCELLED | C64: Victory Street Public Facility Corp. | D64: Alta Reed Apts | E64: Houston, TX | F64: 14000000 | G64: 14000000 | H64: 36399 | I64: =H64+35 -> 36434 | J64: 14000000 | K64: =H64+120 -> 36519 | M64: 14000000
A65: 287 | B65: CANCELLED | C65: Southeast Texas HFC | D65: AHF-Bayway Townhomes | E65: Baytown, TX | F65: 5000000
A66: 2765 | B66: CANCELLED | C66: Harris County HFC | D66: Correy Terrace Apartments | E66: Houston | F66: 11500000 | G66: 11500000 | H66: 36399 | I66: =H66+35 -> 36434 | K66: =H66+120 -> 36519 | M66: 11500000
A68: PRIORITY 2
A70: 2765 | B70: CLOSED | C70: Houston HFC | D70: Little Nell Apts. | E70: Houston, TX | F70: 15000000 | G70: 15000000 | H70: 36404 | I70: =H70+35 -> 36439 | J70: 15000000 | K70: =H70+120 -> 36524 | L70: 13700000 | M70: =J70-L70 -> 1300000 | N70: 36516
A71: 2766 | B71: WITHDRAWN | C71: Houston HFC | D71: Lafayette Village Apts. | E71: Houston, TX | F71: 15000000 | G71: 15000000 | H71: 36405 | I71: =H71+35 -> 36440 | K71: =H71+120 -> 36525 | M71: 15000000 | N71: 36424
A72: 2769 | B72: CANCELLED | C72: Victory Street Public Facility Corp. | D72: Gulf Pointe Park Apts. | E72: Houston, TX | F72: 15000000 | G72: 15000000 | H72: 36406 | I72: =H72+35 -> 36441 | K72: =H72+120 -> 36526 | M72: 15000000 | N72: 36442
A73: 2774 | B73: CLOSED | C73: Harris County HFC | D73: Bayou Willow Apartments | E73: Pasadena | F73: 9000000 | G73: 9000000 | H73: 36418 | I73: =H73+35 -> 36453 | J73: 9000000 | K73: =H73+120 -> 36538 | L73: 7575000 | M73: =J73-L73 -> 1425000 | N73: 36511
A74: 106 | B74: WITHDRAWN | C74: Harris County HFC | D74: Lauren Cove Apartments | E74: Houston | F74: 13300000
A75: 2782 | B75: CLOSED | C75: Harris County HFC | D75: Wellington Park Apartments | E75: Houston | F75: 13500000 | G75: 13500000 | H75: 36441 | I75: =H75+35 -> 36476 | J75: 13500000 | K75: =H75+120 -> 36561 | L75: 13350000 | M75: =J75-L75 -> 150000 | N75: 36561
A76: 172 | B76: WITHDRAWN | C76: Houston HFC | D76: Idlewilde Apts. | E76: Houston, TX | F76: 15000000
A77: 2792 | B77: CLOSED | C77: Houston HFC | D77: Mayfair Apts. | E77: Houston, TX | F77: 11500000 | G77: 11500000 | H77: 36481 | I77: =H77+35 -> 36516 | J77: 11500000 | K77: =H77+120 -> 36601 | L77: 9500000 | M77: 2000000 | N77: 36603
A78: 2794 | B78: WITHDRAWN | C78: Harris County HFC | D78: Amber Lakes Apts. | E78: Houston, TX | F78: 11000000 | G78: 11000000 | H78: 36494 | I78: =H78+35 -> 36529 | J78: 11000000 | K78: =H78+120 -> 36614 | L78: 0 | M78: 11000000 | N78: 36595
A79: 266 | B79: IN-LINE | C79: Houston HFC | D79: Pinnacle Apts. | E79: Houston, TX | F79: 13500000
A80: 267 | B80: IN-LINE | C80: Harris County HFC | D80: Blueberry Hill Apts. | E80: Houston, TX | F80: 15000000
C84: TOTALS | F84: =SUM(F8:F81) -> 900076500 | G84: =SUM(G8:G81) -> 452535000 | J84: =SUM(J8:J82) -> 350385000 | L84: =SUM(L8:L82) -> 166150000 | M84: =SUM(M8:M82) -> 285885000
C86: In-Line | F86: =SUM(F84-G84) -> 447541500
C88: Available | F88: =+C1-G84+M84 -> -101052229

Sheet REGION 7
A1: SUBCEILING #4 | C1: 31220932 | G1: 2002 CF | H1: 250000 | I1: Travis County HFC | N1: ='SC1 MRB'!N1 -> 43335.607
A2: REGION 7 | C2: 22947385 | D2: metro | H2: 15000000 | I2: Capital Area HFC
C3: =C1-C2 -> 8273547 | D3: non-metro
A6: DOCKET# | B6: STATUS | C6: ISSUER | D6: PROJECT | E6: LOCATION | F6: REQUESTED | G6: RESERVED | H6: RESERVATION | I6: 35-DAY | J6: CERTIFIED | K6: 120-DAY | L6: ALLOCATION | M6: RELEASED | N6: RELEASE/
A7: or | F7: AMOUNT | G7: AMOUNT | H7: DATE | I7: DEADLINE | J7: AMOUNT | K7: DEADLINE | L7: AMOUNT | M7: AMOUNT | N7: UPDATE
A8: LOT# | N8: DATE
A9: PRIORITY 1
A11: 2686 | B11: CLOSED | C11: Capital Area HFC | D11: Caspita Apts. | E11: Cedar Park, TX | F11: 15000000 | G11: 15000000 | H11: 36182 | I11: =H11+35 -> 36217 | J11: 15000000 | K11: =H11+120 -> 36302 | L11: 14750000 | M11: =J11-L11 -> 250000 | N11: 36312
A12: 2710 | B12: CLOSED | C12: Capital Area HFC | D12: Cedar Park Ranch | E12: Cedar Park, TX | F12: 12000000 | G12: 12000000 | H12: 36253 | I12: =H12+35 -> 36288 | J12: 12000000 | K12: =H12+120 -> 36373 | L12: 10350000 | M12: =J12-L12 -> 1650000 | N12: 36377
A13: 2714 | B13: WITHDRAWN | C13: Austin HFC | D13: Travis Park Apts. | E13: Austin, TX | F13: 8999000 | G13: 8999000 | H13: 36274 | I13: =H13+35 -> 36309 | J13: 8999000 | K13: =H13+120 -> 36394 | M13: 8999000
A15: PRIORITY 2
A17: 2771 | B17: CANCELLED | C17: Capital Area HFC | D17: Colorado Station Apts. | E17: Smithville, TX | F17: 7500000 | G17: 7500000 | H17: 36407 | I17: =H17+35 -> 36442 | J17: 7500000 | K17: =H17+120 -> 36527 | L17: 0 | M17: 7500000 | N17: 36532
A18: 2650 | B18: WITHDRAWN | C18: Capital Area HFC | D18: Vistas Apts. | E18: Marble Falls, TX | F18: 6500000 | G18: 6500000 | H18: 36161 | I18: =H18+35 -> 36196 | J18: 6500000 | K18: =H18+120 -> 36281 | M18: 6500000
A19: 52 | B19: WITHDRAWN | C19: Austin HFC | D19: Trickey Apts. | E19: Austin, TX | F19: 15000000
A20: 83 | B20: WITHDRAWN | C20: Austin HFC | D20: Villas on Sixth Apt. Homes | E20: Austin, TX | F20: 10547000
A21: 89 | B21: WITHDRAWN | C21: Travis County HFC | D21: Fort Branch Lanidng II | E21: Austin, TX | F21: 15000000
A22: 90 | B22: CANCELLED | C22: Capital Area HFC | D22: Villas at Pecan Crossing | E22: Bastrop, TX | F22: 14000000
A23: 113 | B23: WITHDRAWN | C23: Capital Area HFC | D23: Highland Oaks Apts. | E23: Marble Falls, TX | F23: 6500000
A24: 147 | B24: WITHDRAWN | C24: Travis County HFC | D24: Tech Ridge Villas | E24: Austin, TX | F24: 15000000
A25: 158 | B25: CANCELLED | C25: Austin HFC | D25: Fallwell Apts. | E25: Austin, TX | F25: 15000000
A26: 2788 | B26: WITHDRAWN | C26: Austin HFC | D26: InterPort Apts. | E26: Austin, TX | F26: 15000000 | G26: 15000000 | H26: 36455 | I26: =H26+35 -> 36490 | J26: 15000000 | K26: =H26+120 -> 36575 | L26: 0 | M26: 15000000 | N26: 36572
A27: 2789 | B27: CANCELLED | C27: Travis County HFC | D27: Cherry Mountain Villas | E27: Lakeway, TX | F27: 15000000 | G27: 15000000 | H27: 36463 | I27: =H27+35 -> 36498 | J27: 15000000 | K27: =H27+120 -> 36583 | L27: 0 | M27: 15000000 | N27: 36595
A29: PRIORITY 3
A31: 2786 | B31: WITHDRAWn | C31: Travis County HFC | D31: Shadow Apts. | E31: Manor, TX | F31: 15000000 | G31: 15000000 | H31: 36455 | I31: =H31+35 -> 36490 | J31: 15000000 | K31: =H31+120 -> 36575 | L31: 0 | M31: 15000000 | N31: 36572
C34: TOTALS | F34: =SUM(F9:F33) -> 186046000 | G34: =SUM(G9:G33) -> 94999000 | J34: =SUM(J9:J33) -> 94999000 | L34: =SUM(L9:L33) -> 25100000 | M34: =SUM(M9:M33) -> 69899000
C36: In-Line | F36: =SUM(F34-G34) -> 91047000
C38: Available | F38: =+C1-G34+M34 -> 6120932

Sheet REGION 8A
A1: SUBCEILING #4 | C1: 26909738 | N1: ='SC1 MRB'!N1 -> 43335.607
A2: REGION 8A
A4: DOCKET# | B4: STATUS | C4: ISSUER | D4: PROJECT | E4: LOCATION | F4: REQUESTED | G4: RESERVED | H4: RESERVATION | I4: 35-DAY | J4: CERTIFIED | K4: 120-DAY | L4: ALLOCATION | M4: RELEASED | N4: RELEASE/
A5: or | F5: AMOUNT | G5: AMOUNT | H5: DATE | I5: DEADLINE | J5: AMOUNT | K5: DEADLINE | L5: AMOUNT | M5: AMOUNT | N5: UPDATE
A6: LOT# | N6: DATE
A7: PRIORITY 1
A9: 2664 | B9: CLOSED | C9: Bexar County HFC | D9: Wurzbach Manor Apts. | E9: San Antonio, TX | F9: 7600000 | G9: 7600000 | H9: 36168 | I9: =H9+35 -> 36203 | J9: 7600000 | K9: =H9+120 -> 36288 | L9: 7600000 | M9: 0 | N9: 36288
A11: PRIORITY 2
A13: 2687 | B13: CLOSED | C13: San Antonio HFC | D13: Southside Villas B | E13: San Antonio, TX | F13: 14000000 | G13: 14000000 | H13: 36183 | I13: =H13+35 -> 36218 | J13: 14000000 | K13: =H13+120 -> 36303 | L13: 13090000 | M13: =J13-L13 -> 910000 | N13: 36298
A14: 80 | B14: WITHDRAWN | C14: San Antonio HFC | D14: Southside Villas C | E14: San Antonio, TX | F14: 14000000
A15: 2740 | B15: WITHDRAWN | C15: Bexar County HFC | D15: Primrose SA West | E15: San Antonio, TX | F15: 15000000 | G15: 15000000 | H15: 36356 | I15: =H15+35 -> 36391 | J15: 15000000 | K15: =H15+120 -> 36476 | M15: 15000000
A16: 105 | B16: CANCELLED | C16: Bexar County HFC | D16: Blue Wing Villas | E16: San Antonio, TX | F16: 15000000
A17: 125 | B17: WITHDRAWN | C17: San Antonio HFC | D17: Southside Villas E | E17: San Antonio, TX | F17: 14000000
A18: 131 | B18: WITHDRAWN | C18: San Antonio HFC | D18: FDC Mission Ranch | E18: San Antonio, TX | F18: 14400000
A19: 137 | B19: WITHDRAWN | C19: Bexar County HFC | D19: Rimrock Villas | E19: San Antonio, TX | F19: 9000000
A20: 171 | B20: WITHDRAWN | C20: Bexar County HFC | D20: Primrose SA East | E20: San Antonio, TX | F20: 15000000
A21: 178 | B21: WITHDRAWN | C21: San Antonio HFC | D21: Southside Villas D | E21: San Antonio, TX | F21: 14000000
A22: 190 | B22: WITHDRAWN | C22: San Antonio HFC | D22: Southside Villas A | E22: San Antonio, TX | F22: 14000000
A23: 218 | B23: WITHDRAWN | C23: San Antonio HFC | D23: Southside Villas F | E23: San Antonio, TX | F23: 14000000
A24: 2760 | B24: CLOSED | C24: Bexar County HFC | D24: Primrose at Jefferson Plaza | E24: San Antonio, TX | F24: 15000000 | G24: 15000000 | H24: 36398 | I24: =H24+35 -> 36433 | J24: 15000000 | K24: =H24+120 -> 36518 | L24: 12760000 | M24: =J24-L24 -> 2240000 | N24: 36523
C32: TOTALS | F32: =SUM(F7:F29) -> 175000000 | G32: =SUM(G7:G29) -> 51600000 | J32: =SUM(J7:J30) -> 51600000 | L32: =SUM(L7:L30) -> 33450000 | M32: =SUM(M7:M30) -> 18150000
C34: In-Line | F34: =SUM(F32-G32) -> 123400000
C36: Available | F36: =+C1-G32+M32 -> -6540262
G38: =333.34*3/2 -> 500.01

Sheet REGION 8B
A1: SUBCEILING #4 | C1: 25585385 | N1: ='SC1 MRB'!N1 -> 43335.607
A2: REGION 8B
A4: DOCKET# | B4: STATUS | C4: ISSUER | D4: PROJECT | E4: LOCATION | F4: REQUESTED | G4: RESERVED | H4: RESERVATION | I4: 35-DAY | J4: CERTIFIED | K4: 120-DAY | L4: ALLOCATION | M4: RELEASED | N4: RELEASE/
A5: or | F5: AMOUNT | G5: AMOUNT | H5: DATE | I5: DEADLINE | J5: AMOUNT | K5: DEADLINE | L5: AMOUNT | M5: AMOUNT | N5: UPDATE
A6: LOT# | N6: DATE
A7: PRIORITY 1
B8: No applicants
C18: TOTALS | F18: =SUM(F7:F15) -> 0 | G18: =SUM(G7:G15) -> 0 | J18: =SUM(J7:J16) -> 0 | L18: =SUM(L7:L16) -> 0 | M18: =SUM(M7:M16) -> 0
C20: In-Line | F20: =SUM(F18-G18) -> 0
C22: Available | F22: =+C1-G18+M18 -> 25585385

Sheet REGION 9
A1: SUBCEILING #4 | C1: 7100790 | N1: ='SC1 MRB'!N1 -> 43335.607
A2: REGION 9
A4: DOCKET# | B4: STATUS | C4: ISSUER | D4: PROJECT | E4: LOCATION | F4: REQUESTED | G4: RESERVED | H4: RESERVATION | I4: 35-DAY | J4: CERTIFIED | K4: 120-DAY | L4: ALLOCATION | M4: RELEASED | N4: RELEASE/
A5: or | F5: AMOUNT | G5: AMOUNT | H5: DATE | I5: DEADLINE | J5: AMOUNT | K5: DEADLINE | L5: AMOUNT | M5: AMOUNT | N5: UPDATE
A6: LOT# | N6: DATE
A7: PRIORITY 3
A9: 2723 | B9: WITHDRAWN | C9: Midland County HFC | D9: Quail Ridge | E9: Midland | F9: 7100790 | G9: 7100790 | H9: 36309 | I9: =H9+35 -> 36344 | J9: 7100790 | K9: =H9+120 -> 36429 | M9: 7100790 | N9: 36420
E16: TOTALS | F16: =SUM(F7:F13) -> 7100790 | G16: =SUM(G7:G13) -> 7100790 | J16: =SUM(J7:J14) -> 7100790 | L16: =SUM(L7:L14) -> 0 | M16: =SUM(M7:M14) -> 7100790
E18: In-Line | F18: =SUM(F16-G16) -> 0
E20: Available | F20: =+C1-G16+M16 -> 7100790

Sheet REGION 10
A1: SUBCEILING #4 | C1: 9524075 | N1: ='SC1 MRB'!N1 -> 43335.607
A2: REGION 10
A4: DOCKET# | B4: STATUS | C4: ISSUER | D4: PROJECT | E4: LOCATION | F4: REQUESTED | G4: RESERVED | H4: RESERVATION | I4: 35-DAY | J4: CERTIFIED | K4: 120-DAY | L4: ALLOCATION | M4: RELEASED | N4: RELEASE/
A5: or | F5: AMOUNT | G5: AMOUNT | H5: DATE | I5: DEADLINE | J5: AMOUNT | K5: DEADLINE | L5: AMOUNT | M5: AMOUNT | N5: UPDATE
A6: LOT# | N6: DATE
A7: PRIORITY 1
C15: TOTALS | F15: =SUM(F7:F13) -> 0 | G15: =SUM(G7:G13) -> 0 | J15: =SUM(J7:J13) -> 0 | L15: =SUM(L7:L13) -> 0 | M15: =SUM(M7:M13) -> 0
C17: In-Line | F17: =SUM(F15-G15) -> 0
C19: Available | F19: =+C1-G15+M15 -> 9524075

Sheet September 1
A1: ='REGION 1'!F24+'REGION 2'!F16+'REGION 3'!F54+'REGION 4'!F25+'REGION 5'!F19+'REGION 6'!F88+'REGION 7'!F38+'REGION 8A'!F36+'REGION 8B'!F22+'REGION 9'!F20+'REGION 10'!F19+'REGION 7'!H2+'SC1 MRB'!D67+'State Voted'!D20+'Small Issue IDBs'!D33+'SC4 MF- TDHCA'!F118+'SC4 MF- TDHCA'!G1+'Student Loan Bonds'!D19+'SC6 OTHER'!F43 -> 2.1556785e+08 | B1: dollar amount available
A3: Lot | B3: Docket | C3: Issuer | D3: Project Name | E3: Requested | F3: Status | G3: Priority
A4: PRIORITY 1
A5: 3 | B5: - | C5: Harris County HFC | D5: Primrose Little York Apts. | E5: 15000000 | F5: Cancelled | G5: 1
A6: 5 | B6: 2647 | C6: Northwest Central Texas Housing Finance Corp. | D6: Cypress View Villas | E6: 10000000 | F6: Closed | G6: 1
A7: 6 | B7: 2663 | C7: Harris County HFC | D7: Primrose at Reed Park Apts | E7: 15000000 | F7: Cancelled | G7: 1
A8: 7 | B8: 2649 | C8: Houston HFC | D8: Selinsky Villas Apartments | E8: 15000000 | F8: Cancelled | G8: 1
A9: 8 | B9: 2676 | C9: City of Dallas HFC | D9: The Oaks IIl | E9: 15000000 | F9: Closed | G9: 1
A10: 9 | B10: 2695 | C10: Harris County HFC | D10: Carter Woods Apartments | E10: 10650000 | F10: Cancelled | G10: 1
A11: 11 | B11: 2687 | C11: San Antonio HFC | D11: Southside Villas B | E11: 14000000 | F11: Closed | G11: 2
A12: 14 | B12: 2662 | C12: Denton County HFC | D12: Quail Creek North | E12: 14300000 | F12: Closed | G12: 1
A13: 17 | B13: - | C13: Houston HFC | D13: Sycamore Ridge Apts. | E13: 15000000 | F13: Withdrawn | G13: 1
A14: 19 | B14: 2693 | C14: Harris County HFC | D14: Kimberly Pointe Apartments | E14: 10450000 | F14: Closed | G14: 1
A15: 20 | B15: 2704 | C15: Harris County HFC | D15: Shadow Ridge Apartments | E15: 15000000 | F15: Closed | G15: 1
A16: 22 | B16: - | C16: Harris County HFC | D16: Primrose Woods II Apartments | E16: 15000000 | F16: Cancelled | G16: 1
A17: 23 | B17: 2713 | C17: Harris County HFC | D17: Primrose Kuykendahl AptsApts. | E17: 15000000 | F17: Cancelled | G17: 1
A18: 24 | B18: - | C18: Houston HFC | D18: Webercrest Villas Apartments | E18: 15000000 | F18: Withdrawn | G18: 1
A19: 28 | B19: - | C19: Houston HFC | D19: Cambury Villas Apartments | E19: 15000000 | F19: Withdrawn | G19: 1
A20: 30 | B20: 2685 | C20: City of Dallas HFC | D20: Timber Creek | E20: 15000000 | F20: Cancelled | G20: 1
A21: 32 | B21: 2720 | C21: Houston HFC | D21: Jefferson House Apartments | E21: 10000000 | F21: Withdrawn | G21: 1
A22: 39 | B22: - | C22: City of Dallas HFC | D22: The Oaks II | E22: 15000000 | F22: Cancelled | G22: 1
A23: 42 | B23: 2650 | C23: Capital Area HFC | D23: Vistas Apts. | E23: 6500000 | F23: Withdrawn | G23: 2
A24: 43 | B24: 2702 | C24: Tarrant County HFC | D24: 2000 Sycamore Development | E24: 14394115 | F24: Closed | G24: 1
A25: 45 | B25: 2721 | C25: Victory Street Public Facility Corp. | D25: Laurel Oaks Apts. | E25: 12000000 | F25: Cancelled | G25: 1
A26: 47 | B26: 2686 | C26: Capital Area HFC | D26: Caspita Apts. | E26: 15000000 | F26: Closed | G26: 1
A27: 49 | B27: 2707 | C27: Tarrant County HFC | D27: 3000 Alemeda Development | E27: 12365792 | F27: Closed | G27: 1
A28: 51 | B28: - | C28: Houston HFC | D28: Airport l Apartments | E28: 14500000 | F28: Withdrawn | G28: 1
A29: 53 | B29: - | C29: Harris County HFC | D29: Richmond Grove Apartments | E29: 15000000 | F29: Withdrawn | G29: 1
A30: 54 | B30: 2696 | C30: Panhandle Regional HFC | D30: Residences at Wolflin Park | E30: 8400000 | F30: Withdrawn | G30: 2
A31: 56 | B31: 2728 | C31: Houston HFC | D31: Rushcreek Villas Apartments | E31: 15000000 | F31: Cancelled | G31: 1
A32: 57 | B32: 2727 | C32: Houston HFC | D32: North Forest Trails Apartments | E32: 15000000 | F32: Closed | G32: 1
A33: 60 | B33: - | C33: Harris County HFC | D33: Vanderlane Villas | E33: 15000000 | F33: Cancelled | G33: 1
A34: 62 | B34: 2729 | C34: Harris County HFC | D34: Primrose Northview Park Apartments | E34: 15000000 | F34: Withdrawn | G34: 1
A35: 63 | B35: 2731 | C35: Harris County HFC | D35: Empire Village Apartments | E35: 9000000 | F35: Closed | G35: 1
A36: 67 | B36: - | C36: Houston HFC | D36: Airport IX Apartments | E36: 14500000 | F36: Withdrawn | G36: 1
A37: 68 | B37: - | C37: Tarrant County HFC | D37: Continental Terrace Apts. | E37: 8000000 | F37: Withdrawn | G37: 1
A38: 70 | B38: 2664 | C38: Bexar County HFC | D38: Wurzbach Manor Apts. | E38: 7600000 | F38: Closed | G38: 1
A39: 76 | B39: - | C39: Houston HFC | D39: Courtney Place Apts | E39: 15000000 | F39: Withdrawn | G39: 1
A40: 78 | B40: 2732 | C40: City of Dallas HFC | D40: Hickory Creek D Housing_x000B_ | E40: 15000000 | F40: Closed | G40: 1
A41: 80 | B41: - | C41: San Antonio HFC | D41: Southside Villas C | E41: 14000000 | F41: Withdrawn | G41: 2
A42: 84 | B42: 2733 | C42: Victory Street Public Facility Corp. | D42: Willow Park | E42: 15000000 | F42: Closed | G42: 1
A43: 87 | B43: 2734 | C43: Houston HFC | D43: Sweetwater Point Apts | E43: 15000000 | F43: Closed | G43: 1
A44: 93 | B44: 2738 | C44: Houston HFC | D44: Longboat Key Apartments | E44: 15000000 | F44: Closed | G44: 1
A45: 94 | B45: 2740 | C45: Bexar County HFC | D45: Primrose SA West | E45: 15000000 | F45: Withdrawn | G45: 2
A46: 99 | B46: - | C46: Houston HFC | D46: The Bristol Apts. | E46: 12500000 | F46: Withdrawn | G46: 1
A47: 102 | B47: - | C47: City of Dallas HFC | D47: Primrose at Legendary Lane | E47: 15000000 | F47: Withdrawn | G47: 1
A48: 104 | B48: 2748 | C48: Harris County HFC | D48: Northland Woods Apartments | E48: 14500000 | F48: Closed | G48: 1
A49: 105 | B49: - | C49: Bexar County HFC | D49: Blue Wing Villas | E49: 15000000 | F49: Cancelled | G49: 2
A50: 112 | B50: 2749 | C50: Houston HFC | D50: Mesa Road Apts. | E50: 15000000 | F50: Withdrawn | G50: 1
A51: 113 | B51: - | C51: Capital Area HFC | D51: Highland Oaks Apts. | E51: 6500000 | F51: Withdrawn | G51: 2
A52: 115 | B52: - | C52: Harris County HFC | D52: Waterleaf Place Apartments | E52: 15000000 | F52: Withdrawn | G52: 1
A53: 117 | B53: - | C53: City of Dallas HFC | D53: Primose Langdon II | E53: 15000000 | F53: Withdrawn | G53: 1
A54: 118 | B54: - | C54: North Central Texas HFC | D54: Primrose Houston School II | E54: 15000000 | F54: Cancelled | G54: 1
A55: 119 | B55: - | C55: North Central Texas HFC | D55: Brook Hollow Town Homes | E55: 13600000 | F55: Cancelled | G55: 1
A56: 123 | B56: - | C56: Houston HFC | D56: Ritten Villas Apartments | E56: 12000000 | F56: Withdrawn | G56: 1
A57: 125 | B57: - | C57: San Antonio HFC | D57: Southside Villas E | E57: 14000000 | F57: Withdrawn | G57: 2
A58: 127 | B58: - | C58: Victory Street Public Facility Corp. | D58: Meridian Cypresswood Apts | E58: 15000000 | F58: Cancelled | G58: 1
A59: 131 | B59: - | C59: San Antonio HFC | D59: FDC Mission Ranch | E59: 14400000 | F59: Withdrawn | G59: 2
A60: 132 | B60: 2710 | C60: Capital Area HFC | D60: Cedar Park Ranch | E60: 12000000 | F60: Closed | G60: 1
A61: 133 | B61: 2750 | C61: City of Dallas HFC | D61: Southern Terrace | E61: 15000000 | F61: Closed | G61: 1
A62: 134 | B62: - | C62: Harris County HFC | D62: Barron Villas | E62: 15000000 | F62: Withdrawn | G62: 1
A63: 137 | B63: - | C63: Bexar County HFC | D63: Rimrock Villas | E63: 9000000 | F63: Withdrawn | G63: 2
A64: 141 | B64: - | C64: Harris County HFC | D64: Bammel Villas | E64: 15000000 | F64: Withdrawn | G64: 1
A65: 145 | B65: 2751 | C65: HFC of Ennis | D65: Ennis Senior Estates | E65: 13000000 | F65: Cancelled | G65: 1
A66: 150 | B66: 2752 | C66: City of Dallas HFC | D66: Hickory Creek A Housing_x000B_ | E66: 15000000 | F66: Cancelled | G66: 1
A67: 151 | B67: - | C67: Lubbock HFC | D67: Castle Garden Apts | E67: 4800000 | F67: Withdrawn | G67: 2
A68: 152 | B68: - | C68: City of Dallas HFC | D68: Villas of St. Augustine | E68: 14805000 | F68: Cancelled | G68: 1
A69: 153 | B69: 2753 | C69: City of Dallas HFC | D69: Preakness Ranch Seniors | E69: 15000000 | F69: Closed | G69: 1
A70: 154 | B70: 2754 | C70: Harris County HFC | D70: Primrose Skyline Apts | E70: 15000000 | F70: Closed | G70: 1
A71: 156 | B71: - | C71: Houston HFC | D71: Airport V Apartments | E71: 14500000 | F71: Withdrawn | G71: 1
A72: 157 | B72: 2755 | C72: Houston HFC | D72: Parkside Point Apts. | E72: 15000000 | F72: Closed | G72: 1
A73: 164 | B73: - | C73: Houston HFC | D73: Greenlow Villas Apartments | E73: 15000000 | F73: Withdrawn | G73: 1
A74: 168 | B74: - | C74: Pineywoods HFC | D74: Waterford Park Apts. | E74: 10500000 | F74: Cancelled | G74: 2
A75: 169 | B75: - | C75: Montgomery County HFC | D75: Sawdust Villas | E75: 13500000 | F75: Cancelled | G75: 1
A76: 171 | B76: - | C76: Bexar County HFC | D76: Primrose SA East | E76: 15000000 | F76: Withdrawn | G76: 2
A77: 173 | B77: 2756 | C77: Denton County HFC | D77: Quail Creek South | E77: 14300000 | F77: Withdrawn | G77: 1
A78: 178 | B78: - | C78: San Antonio HFC | D78: Southside Villas D | E78: 14000000 | F78: Withdrawn | G78: 2
A79: 179 | B79: - | C79: Harris County HFC | D79: Yale Village Apartments | E79: 11129000 | F79: Withdrawn | G79: 1
A80: 181 | B80: - | C80: Tarrant County HFC | D80: 1100 Sycamore Development | E80: 14394115 | F80: Withdrawn | G80: 1
A81: 183 | B81: - | C81: Panhandle Regional HFC | D81: West Amarillo Senior Housing | E81: 8400000 | F81: Withdrawn | G81: 2
A82: 185 | B82: - | C82: Houston HFC | D82: Jensen Parker Apts. | E82: 10000000 | F82: Withdrawn | G82: 1
A83: 186 | B83: - | C83: Northwest Central Texas Housing Finance Corp. | D83: Stagecoach Villas | E83: 10000000 | F83: Cancelled | G83: 1
A84: 190 | B84: - | C84: San Antonio HFC | D84: Southside Villas A | E84: 14000000 | F84: Withdrawn | G84: 2
A85: 198 | B85: - | C85: City of Dallas HFC | D85: Parks at Prairie Creek | E85: 15000000 | F85: Withdrawn | G85: 1
A86: 203 | C86: City of Dallas HFC | D86: Mission Verde Ranch Seniors | E86: 15000000 | F86: Cancelled | G86: 1
A87: 206 | B87: 2757 | C87: Houston HFC | D87: Sterlingshire Apartments | E87: 9000000 | F87: Closed | G87: 1
A88: 208 | B88: - | C88: Houston HFC | D88: Little York Villas Apartments | E88: 8500000 | F88: Withdrawn | G88: 1
A89: 210 | B89: - | C89: Houston HFC | D89: Orem Villas Apartments | E89: 15000000 | F89: Cancelled | G89: 1
A90: 213 | B90: - | C90: City of Dallas HFC | D90: Hickory Creek BHousing_x000B_ | E90: 15000000 | F90: Withdrawn | G90: 1
A91: 217 | B91: 2758 | C91: Victory Street Public Facility Corp. | D91: Little York Parc Apts. | E91: 14500000 | F91: Cancelled | G91: 1
A92: 218 | B92: - | C92: San Antonio HFC | D92: Southside Villas F | E92: 14000000 | F92: Withdrawn | G92: 2
A93: 219 | B93: 2759 | C93: Houston HFC | D93: Jenson Villas Apartments | E93: 12000000 | F93: Cancelled | G93: 1
A94: 220 | B94: - | C94: Harris County HFC | D94: Primrose Woods Apartments | E94: 15000000 | F94: Withdrawn | G94: 1
A95: 224 | B95: 2714 | C95: Austin HFC | D95: Travis Peak Apts. | E95: 8999000 | F95: Withdrawn | G95: 1
A96: 227 | B96: - | C96: North Central Texas HFC | D96: Forest Park Town Homes | E96: 13800000 | F96: Cancelled | G96: 1
A97: 229 | B97: - | C97: Houston HFC | D97: Northline Villas Apts. | E97: 10000000 | F97: Withdrawn | G97: 1
A98: 234 | B98: 2760 | C98: Bexar County HFC | D98: Primrose at Jefferson Plaza | E98: 15000000 | F98: Closed | G98: 2
A99: 242 | B99: - | C99: Southeast Texas HFC | D99: Satsuma Gardens Apts. | E99: 9000000 | F99: Cancelled | G99: 1
A100: 243 | B100: - | C100: Harris County HFC | D100: Jarrod Landing Apartments | E100: 8112500 | F100: Withdrawn | G100: 1
A101: 251 | C101: HFC of Ennis | D101: Ennis Senior Estates II | E101: 7000000 | F101: Cancelled | G101: 1
...

Sheet Student Loan Bonds
A1: SUBCEILING #5 | C1: 143747294 | L1: ='SC1 MRB'!N1 -> 43335.607
A2: STUDENT LOAN BONDS
A4: DOCKET# | B4: STATUS | C4: ISSUER | D4: REQUESTED | E4: RESERVED | F4: RESERVATION | G4: 35-DAY | H4: CERTIFIED | I4: 120-DAY | J4: ALLOCATION | K4: RELEASED | L4: RELEASE/
A5: or | C5: PROJECT | D5: AMOUNT | E5: AMOUNT | F5: DATE | G5: DEADLINE | H5: AMOUNT | I5: DEADLINE | J5: AMOUNT | K5: AMOUNT | L5: UPDATE
A6: LOT # | C6: LOCATION | L6: DATE
A8: 2651 | B8: CLOSED | C8: North Texas HEA | D8: 35000000 | E8: 35000000 | F8: 36161 | G8: =F8+35 -> 36196 | H8: 35000000 | I8: =F8+120 -> 36281 | J8: 35000000 | K8: 0 | L8: 36181
A9: 2665 | B9: CLOSED | C9: Central Texas HEA | D9: 35000000 | E9: 35000000 | F9: 36168 | G9: =F9+35 -> 36203 | H9: 35000000 | I9: =F9+120 -> 36288 | J9: 35000000 | K9: 0 | L9: 36209
A10: 2677 | B10: CLOSED | C10: Brazos HEA | D10: 35000000 | E10: 35000000 | F10: 36175 | G10: =F10+35 -> 36210 | H10: 35000000 | I10: =F10+120 -> 36295 | J10: 35000000 | K10: 0 | L10: 36224
A11: 2688 | B11: CLOSED | C11: Panhandle Plains HEA | D11: 35000000 | E11: 35000000 | F11: 36183 | G11: =F11+35 -> 36218 | H11: 35000000 | I11: =F11+120 -> 36303 | J11: 35000000 | K11: 0 | L11: 36244
A12: 2793 | B12: CLOSED | C12: South Texas HEA | D12: 35000000 | E12: 35000000 | F12: 36481 | G12: =F12+35 -> 36516 | H12: 35000000 | I12: =F12+120 -> 36601 | J12: 35000000 | K12: 0 | L12: 36566
C15: TOTALS | D15: =SUM(D8:D12) -> 175000000 | E15: =SUM(E8:E12) -> 175000000 | H15: =SUM(H8:H12) -> 175000000 | J15: =SUM(J8:J12) -> 175000000 | K15: =SUM(K9:K12) -> 0
C17: In-Line | D17: =SUM(D15-E15) -> 0
C19: Available | D19: =C1-E15+K15 -> -31252706

Sheet SC6 OTHER
A1: SUBCEILING #6 | C1: 424707913 | G1: LOCALS = | H1: =C1-H2 -> 4.1621375e+08 | N1: =NOW() -> 43335.607
A2: ALL OTHER ISSUES | G2: Water Projects | H2: =SUM(C1*0.02) -> 8494158.3 | I2: 36021
A4: DOCKET# | B4: STATUS | C4: ISSUER | D4: PROJECT | E4: LOCATION | F4: REQUESTED | G4: RESERVED | H4: RESERVATION | I4: 35-DAY | J4: CERTIFIED | K4: 120-DAY | L4: ALLOCATION | M4: RELEASED | N4: RELEASE/
A5: or | F5: AMOUNT | G5: AMOUNT | H5: DATE | I5: DEADLINE | J5: AMOUNT | K5: DEADLINE | L5: AMOUNT | M5: AMOUNT | N5: UPDATE
A6: LOT # | N6: DATE
A7: 2678 | B7: CLOSED | C7: Port of Corpus Christi Authority of Nueces Co. | D7: Flint Hills Resources | E7: Corpus Christi | F7: 25000000 | G7: 25000000 | H7: 36175 | I7: =H7+35 -> 36210 | J7: 25000000 | K7: =H7+120 -> 36295 | L7: 19500000 | M7: =J7-L7 -> 5500000 | N7: 36260
A8: 2652 | B8: CLOSED | C8: Gulf Coast IDA | D8: BP Global Power Corp. | E8: Texas City, TX | F8: 25000000 | G8: 25000000 | H8: 36161 | I8: =H8+35 -> 36196 | J8: 25000000 | K8: =H8+120 -> 36281 | L8: 23000000 | M8: =J8-L8 -> 2000000 | N8: 36280
A9: 2666 | B9: CLOSED | C9: Port of Port Arthur Navigation Dist. of Jefferson Co. | D9: BASF Corp/ATOFINA | E9: Port Arthur, TX | F9: 25000000 | G9: 25000000 | H9: 36168 | I9: =H9+35 -> 36203 | J9: 25000000 | K9: =H9+120 -> 36288 | L9: 25000000 | M9: 0 | N9: 36288
A10: 2689 | B10: CLOSED | C10: Gulf Coast IDA | D10: BP Amoco Chemical Co. | E10: Pasadena | F10: 25000000 | G10: 25000000 | H10: 36183 | I10: =H10+35 -> 36218 | J10: 25000000 | K10: =H10+120 -> 36303 | L10: 21000000 | M10: =J10-L10 -> 4000000 | N10: 36298
A11: 2697 | B11: CLOSED | C11: Gulf Coast Waste Disposal Authority | D11: Waste Management of Texas | E11: Lewisville, TX | F11: 15000000 | G11: 15000000 | H11: 36189 | I11: =H11+35 -> 36224 | J11: 10000000 | K11: =H11+120 -> 36309 | L11: 10000000 | M11: 5000000 | N11: 36299
A12: 2698 | B12: CLOSED | C12: Brazos Harbor IDC | D12: BASF Corp | E12: Freeport, TX | F12: 25000000 | G12: 25000000 | H12: 36189 | I12: =H12+35 -> 36224 | J12: 25000000 | K12: =H12+120 -> 36309 | L12: 25000000 | M12: 0 | N12: 36288
A13: 2653 | B13: CLOSED | C13: Gulf Coast Waste Disposal Authority | D13: Exxon Mobil Corporation | E13: Baytown, TX | F13: 25000000 | G13: 25000000 | H13: 36161 | I13: =H13+35 -> 36196 | J13: 25000000 | K13: =H13+120 -> 36281 | L13: 25000000 | M13: 0 | N13: 36259
A14: 2654 | B14: CANCELLED | C14: Gulf Coast Waste Disposal Authority | D14: CNA Holdings, Inc. | E14: Pasadena, TX | F14: 25000000 | G14: 25000000 | H14: 36161 | I14: =H14+35 -> 36196 | K14: =H14+120 -> 36281 | L14: 0 | M14: 25000000 | N14: 36197
A15: 2679 | B15: CLOSED | C15: Brazos River Authority | D15: TXU Energy Company | F15: 25000000 | G15: 25000000 | H15: 36175 | I15: =H15+35 -> 36210 | J15: 25000000 | K15: =H15+120 -> 36295 | L15: 21576662 | M15: =J15-L15 -> 3423337.6 | N15: 36250
A16: 2667 | B16: CANCELLED | C16: Hale County IDC | D16: Brandon Bouma | E16: Plainview, TX | F16: 2000000 | G16: 2000000 | H16: 36168 | I16: =H16+35 -> 36203 | J16: 2000000 | K16: =H16+120 -> 36288 | L16: 0 | M16: 2000000 | N16: 36298
A17: 2690 | B17: WITHDRAWN | C17: Brazos River Harbor Navigation Dist. of Brazoria County | D17: The Dow Chemical Co. Plant A | E17: Freeport, TX | F17: 25000000 | G17: 25000000 | H17: 36183 | I17: =H17+35 -> 36218 | J17: 25000000 | K17: =H17+120 -> 36303 | L17: 0 | M17: 25000000 | N17: 36285
A18: 2699 | B18: CLOSED | C18: Gulf Coast Waste Disposal Authority | D18: BP Products North America, Inc. | E18: Texas City, TX | F18: 25000000 | G18: 25000000 | H18: 36189 | I18: =H18+35 -> 36224 | J18: 25000000 | K18: =H18+120 -> 36309 | L18: 25000000 | M18: 0 | N18: 36298
A19: 2668 | B19: CLOSED | C19: Gulf Coast Waste Disposal Authority | D19: American Acryl L.P. | E19: Pasadena, TX | F19: 25000000 | G19: 25000000 | H19: 36168 | I19: =H19+35 -> 36203 | J19: 25000000 | K19: =H19+120 -> 36288 | L19: 19000000 | M19: =J19-L19 -> 6000000 | N19: 36286
A20: 2691 | B20: WITHDRAWN | C20: Brazos River Harbor Navigation Dist. of Brazoria County | D20: The Dow Chemical Co.-Oyster Creek | E20: Freeport, TX | F20: 25000000 | G20: 25000000 | H20: 36183 | I20: =H20+35 -> 36218 | J20: 25000000 | K20: =H20+120 -> 36303 | L20: 0 | M20: 25000000 | N20: 36285
A21: 2692 | B21: CLOSED | C21: Gulf Coast Waste Disposal Authority | D21: Waste Management of Texas | E21: Alvin, TX | F21: 12000000 | G21: 12000000 | H21: 36183 | I21: =H21+35 -> 36218 | J21: 12000000 | K21: =H21+120 -> 36303 | L21: 12000000 | M21: 0 | N21: 36299
A22: 2700 | B22: CLOSED | C22: Gulf Coast Waste Disposal Authority | D22: Waste Management of Texas | E22: Austin, TX | F22: 12000000 | G22: 12000000 | H22: 36189 | I22: =H22+35 -> 36224 | J22: 12000000 | K22: =H22+120 -> 36309 | L22: 12000000 | M22: 0 | N22: 36299
A23: 2680 | B23: CLOSED | C23: IDC of Port of Corpus Christi | D23: CITGO Petroleum Corp. | E23: Corpus Christi, TX | F23: 25000000 | G23: 25000000 | H23: 36175 | I23: =H23+35 -> 36210 | J23: 25000000 | K23: =H23+120 -> 36295 | L23: 14200000 | M23: =J23-L23 -> 10800000 | N23: 36301
A24: 2669 | B24: CANCELLED | C24: Gulf Coast Waste Disposal Authority | D24: Dura Therm, Inc. | E24: San Leon, TX | F24: 10000000 | G24: 10000000 | H24: 36168 | I24: =H24+35 -> 36203 | J24: 10000000 | K24: =H24+120 -> 36288 | L24: 0 | M24: 10000000 | N24: 36298
A25: 2681 | B25: CLOSED | C25: Lower Neches Valley Authority IDC | D25: Onyx Environmental Services | E25: Port Arthur, TX | F25: 25000000 | G25: 25000000 | H25: 36175 | I25: =H25+35 -> 36210 | J25: 25000000 | K25: =H25+120 -> 36295 | L25: 20600000 | M25: =G25-L25 -> 4400000 | N25: 36298
A26: 2703 | B26: CLOSED | C26: Harris County IDC | D26: Deer Park Refining Ltd Partnership | E26: Deer Park, TX | F26: 25000000 | G26: 25000000 | H26: 36209 | I26: =H26+35 -> 36244 | J26: 25000000 | K26: =H26+120 -> 36329 | L26: 25000000 | M26: 0 | N26: 36333
A27: 2712 | B27: CLOSED | C27: Brazos Harbor IDC | D27: Phillips Petroleum Co. | E27: Brazoria, TX | F27: 25000000 | G27: 25000000 | H27: 36265 | I27: =H27+35 -> 36300 | J27: 25000000 | K27: =H27+120 -> 36385 | L27: 25000000 | M27: 0 | N27: 36378
A28: 2718 | B28: RESERVED | C28: Jewett EDC | D28: Nucor Corporation | E28: Jewett, TX | F28: 25000000 | G28: 25000000 | H28: 36288 | I28: =H28+35 -> 36323 | J28: 25000000 | K28: =H28+120 -> 36408 | L28: 25000000 | M28: 0 | N28: 36392
A29: 2717 | B29: WITHDRAWN | C29: Gulf Coast Waste Disposal Authority | D29: Waste Corporation of Texas | E29: Harris County | F29: 25000000 | G29: 25000000 | H29: 36286 | I29: =H29+35 -> 36321 | J29: 25000000 | K29: =H29+120 -> 36406 | M29: 25000000
A30: 2722 | B30: CANCELLED | C30: Gulf Coast Waste Disposal Authority | D30: CITGO Petroleum Corp. | E30: Pasadena, TX | F30: 25000000 | G30: 25000000 | H30: 36299 | I30: =H30+35 -> 36334 | K30: =H30+120 -> 36419 | M30: 25000000 | N30: 36335
A31: 2726 | B31: CLOSED | C31: Gulf Coast Waste Disposal Authority | D31: BP Amoco Chemical Co. | E31: Alvin, TX | F31: 25000000 | G31: 25000000 | H31: 36315 | I31: =H31+35 -> 36350 | J31: 25000000 | K31: =H31+120 -> 36435 | L31: 18600000 | M31: =J31-L31 -> 6400000 | N31: 36410
A32: 272 | B32: WITHDRAWN | C32: Port of Corpus Christi Authority of Nueces Co. | D32: CNA Holdings | E32: Bishop, TX | F32: 25000000
A33: 2744 | B33: CLOSED | C33: Gulf Coast Waste Disposal Authority | D33: Waste Management of Texas | F33: 25000000 | G33: 25000000 | H33: 36382 | I33: =H33+35 -> 36417 | J33: 25000000 | K33: =H33+120 -> 36502 | L33: 25000000 | M33: 0 | N33: 36487
A34: 285 | B34: IN-LINE | C34: Brazos River Harbor Navigation Dist. of Brazoria County | D34: The Dow Chemical Co. | E34: Freeport, TX | F34: 25000000
A35: 292 | B35: IN-LINE | C35: Port Arthur Navigation District IDC | D35: The Premcor Refining Group | E35: Port Arthur, TX | F35: 25000000
C39: TOTALS | F39: =SUM(F7:F38) -> 651000000 | G39: =SUM(G7:G38) -> 576000000 | L39: =SUM(L7:L38) -> 3.9147666e+08 | M39: =SUM(M7:M38) -> 1.8452334e+08
C41: In-Line | F41: =SUM(F39-G39) -> 75000000
C43: Available | F43: =C1-G39+M39 -> 33231251
