Workbook

Sheet Totals
A3: STATUS OF 2020 ALLOCATION PROGRAM AS OF - | C3: 42908
B5: =SUM(C5:I5) -> 1 | C5: 0.3225 | D5: 0.1 | E5: 0.02 | F5: 0.02625 | G5: 0.0525 | H5: 0.18375 | I5: 0.295
C6: SC 1 | D6: SC 2 | E6: SC 3 | F6: SC 4 | G6: SC 4 | H6: SC 4 | I6: SC 5 | J6: August 15th
B7: TOTAL | C7: MRB's | D7: State Voted | E7: IDBs | F7: TSAHC - MF | G7: TDHCA - MF | H7: Local HFC's MF | I7: All Other | J7: Collapse
A8: 2020 STATE CEILING | B8: =28995881*105 -> 3044567505 | C8: =ROUND(C5*$B$8,0)+1 -> 981873021 | D8: =ROUND(D5*$B$8,0) -> 304456751 | E8: =ROUND(E5*$B$8,0) -> 60891350 | F8: =ROUND(F5*$B$8,0) -> 79919897 | G8: =ROUND(G5*$B$8,0) -> 159839794 | H8: =ROUND(H5*$B$8,0) -> 559439279 | I8: =ROUND(I5*$B$8,0)-1 -> 898147413 | J8: ='Aug 15'!B1 -> 9.82595e+08
A10: ELIGIBLE REQUESTS TO DATE | B10: =SUM(C10:J10) -> 7.6782576e+09 | C10: ='SC1 MRB'!$H$20 -> 1611872267 | D10: =+'SC2 State Voted'!F9 -> 100000000 | E10: =+'SC3 Small Issue IDBs'!F11 -> 0 | F10: ='SC4 TSAHC'!F19 -> 153120000 | G10: =+'SC4 MF- TDHCA'!F29 -> 250800000 | H10: ='REGION 1'!F9+'REGION 2'!F8+'REGION 3'!F15+'REGION 4'!F8+'REGION 5'!F8+'REGION 6'!F16+'REGION 7'!F16+'REGION 9'!F14+'REGION 10'!F8+'REGION 11'!F8+'REGION 12'!F9+'REGION 13'!F8+'SC4 MF- Local Collapse'!F44 -> 9.9420765e+08 | I10: ='SC5 OTHER'!$F$76 -> 2280757648 | J10: ='Aug 15'!F50 -> 2287500000
A12: RESERVATIONS TO DATE | B12: =SUM(C12:J12) -> 7.3516326e+09 | C12: ='SC1 MRB'!$I$20 -> 1611872267 | D12: =+'SC2 State Voted'!G9 -> 100000000 | E12: =+'SC3 Small Issue IDBs'!G11 -> 0 | F12: ='SC4 TSAHC'!G19 -> 153120000 | G12: ='SC4 MF- TDHCA'!G29 -> 250800000 | H12: ='REGION 1'!G9+'REGION 2'!G8+'REGION 3'!G15+'REGION 4'!G8+'REGION 5'!G8+'REGION 6'!G16+'REGION 7'!G16+'REGION 8'!G8+'REGION 9'!G14+'REGION 10'!G8+'REGION 11'!G8+'REGION 12'!G9+'REGION 13'!G8+'SC4 MF- Local Collapse'!G44 -> 9.9420765e+08 | I12: ='SC5 OTHER'!$G$76 -> 2280757648 | J12: ='Aug 15'!I50 -> 1960875000
A14: CERTIFIED TO DATE | B14: =SUM(C14:J14) -> 5637073934 | C14: ='SC1 MRB'!L20 -> 1453571286 | D14: ='SC2 State Voted'!J9 -> 100000000 | E14: ='SC3 Small Issue IDBs'!J11 -> 0 | F14: ='SC4 TSAHC'!J19 -> 153120000 | G14: ='SC4 MF- TDHCA'!J29 -> 250800000 | H14: ='REGION 1'!J9+'REGION 2'!J8+'REGION 3'!J15+'REGION 4'!J8+'REGION 5'!J8+'REGION 6'!J16+'REGION 7'!J16+'REGION 8'!J8+'REGION 9'!J14+'REGION 10'!J8+'REGION 11'!J8+'REGION 12'!J9+'REGION 13'!J8+'SC4 MF- Local Collapse'!J44 -> 851950000 | I14: ='SC5 OTHER'!J76 -> 1847257648 | J14: ='Aug 15'!L50 -> 980375000
A16: ALLOCATIONS TO DATE | B16: =SUM(C16:J16) -> 1.1230898e+09 | C16: ='SC1 MRB'!$N$20 -> 0 | D16: =+'SC2 State Voted'!L9 -> 69990169 | E16: =+'SC3 Small Issue IDBs'!L11 -> 0 | F16: ='SC4 TSAHC'!L19 -> 9872000 | G16: =+'SC4 MF- TDHCA'!L29 -> 158800000 | H16: ='REGION 1'!L10+'REGION 2'!L8+'REGION 3'!L7+'REGION 4'!L8+'REGION 5'!L8+'REGION 6'!L16+'REGION 7'!L16+'REGION 8'!L8+'REGION 11'!L8+'REGION 12'!L9+'REGION 9'!L14+'REGION 10'!L8+'REGION 13'!L8+'SC4 MF- Local Collapse'!L44 -> 264964000 | I16: ='SC5 OTHER'!L76 -> 4.5276665e+08 | J16: ='Aug 15'!N50 -> 166697000
A18: RESERVATIONS RELEASED | B18: =SUM(C18:J18) -> 4.4030881e+09 | C18: ='SC1 MRB'!$O$20 -> 758300227 | D18: =+'SC2 State Voted'!M9 -> 30009831 | E18: =+'SC3 Small Issue IDBs'!M11 -> 0 | F18: ='SC4 TSAHC'!M19 -> 104748000 | G18: =+'SC4 MF- TDHCA'!M29 -> 92000000 | H18: ='REGION 1'!M9+'REGION 2'!M8+'REGION 3'!M15+'REGION 4'!M8+'REGION 5'!M8+'REGION 6'!M16+'REGION 7'!M16+'REGION 8'!M8+'REGION 9'!M14+'REGION 10'!M8+'REGION 11'!M8+'REGION 12'!M9+'REGION 13'!M8+'SC4 MF- Local Collapse'!M44 -> 6.2249365e+08 | I18: ='SC5 OTHER'!M76 -> 1.7212334e+09 | J18: ='Aug 15'!O50 -> 1074303000
A20: UNSATISFIED REQUESTS | B20: =SUM(C20:J20) -> 191625000 | C20: =+C10-C12 -> 0 | D20: =+D10-D12 -> 0 | E20: =+E10-E12 -> 0 | F20: =+F10-F12 -> 0 | G20: =+G10-G12 -> 0 | H20: =+H10-H12 -> 0 | I20: =+I10-I12 -> 0 | J20: ='Aug 15'!F52 -> 191625000
A22: AVAILABLE ALLOCATION 2020 | B22: ='Aug 15'!F59 -> 96023000 | C22: =+C8-C12+C18 -> 128300981 | D22: =+D8-D12+D18 -> 2.3446658e+08 | E22: =+E8-E12+E18 -> 60891350 | F22: =+F8-F12+F18+'SC4 TSAHC'!E27 -> 31547897 | G22: =+G8-G12+G18+'SC4 MF- TDHCA'!E39 -> 1039794 | H22: =+H8-H12+H18+'SC4 MF- Local Collapse'!E53 -> 187725279 | I22: =+I8-I12+I18+'SC5 OTHER'!E88 -> 3.3862312e+08 | J22: =J8-J12+J18+'Aug 15'!D59 -> 96023000
A24: CARRYFORWARD 2017 | B24: =SUM(C24:I24) -> 82005056 | C24: 0 | D24: 0 | E24: N/A | F24: 0 | G24: 0 | H24: ='2017 CF'!M12+'2017 CF'!M21 -> 52090308 | I24: ='2017 CF'!M26 -> 29914748
A25: CARRYFORWARD 2018 | B25: =SUM(C25:I25) -> 295907040 | C25: ='2018 CF'!M31 -> 108355040 | D25: ='2018 CF'!M37 -> 0 | E25: N/A | F25: ='2018 CF'!M44 -> 0 | G25: 0 | H25: ='2018 CF'!M14+'2018 CF'!M48-'2018 CF'!M44 -> 187552000 | I25: 0
A26: CARRYFORWARD 2019 | B26: =SUM(C26:I26) -> 8.374247e+08 | C26: ='2019 CF'!M40 -> 7.6128834e+08 | D26: 0 | E26: N/A | F26: ='2019 CF'!M47+'2019 CF'!M48+'2019 CF'!M49+'2019 CF'!M55 -> 0 | G26: ='2019 CF'!M45+'2019 CF'!M50+'2019 CF'!M54 -> 0 | H26: ='2019 CF'!M18+'2019 CF'!M65 -> 76136362 | I26: ='2019 CF'!M70 -> 0
B28: =SUM(B22:B26) -> 1.3113598e+09 | C28: =SUM(C22:C27) -> 9.9794436e+08 | D28: =SUM(D22:D27) -> 2.3446658e+08 | E28: =SUM(E22:E27) -> 60891350 | F28: =SUM(F22:F27) -> 31547897 | G28: =SUM(G22:G27) -> 1039794 | H28: =SUM(H22:H27) -> 5.0350395e+08 | I28: =SUM(I22:I27) -> 3.6853787e+08

Sheet 2020 CF
B1: 2020 TRADITIONAL CARRYFORWARD
A2: DOCKET# | B2: STATUS | C2: ISSUER | D2: PROJECT | E2: LOCATION | F2: REQUESTED | G2: DESIGNATED | H2: CONFIRMATION | I2: FEE | J2: CERTIFIED | L2: CLOSED | M2: CARRYFORWARD | N2: RELEASE/
A3: or | F3: AMOUNT | G3: AMOUNT | H3: DATE | I3: DEADLINE | J3: AMOUNT | K3: DEADLINE | L3: AMOUNT | M3: REMAINING | N3: UPDATE
A4: LOT # | N4: DATE
A5: Priority 5
A6: 20CF-009 | B6: CF | C6: Travis County HFC | D6: Meadow Apartments | E6: Austin | F6: 35000000 | G6: 35000000 | H6: 42738 | I6: 42753 | J6: =G6 -> 35000000 | K6: 43829 | M6: =J6 -> 35000000
A7: 20CF-011 | B7: CF | C7: Las Varas Public Facility Corporation | D7: St. John's Square Apartments | E7: San Antonio | F7: 50000000 | G7: 50000000 | H7: 42738 | I7: 42753 | J7: =G7 -> 50000000 | K7: 43829 | M7: =J7 -> 50000000
A8: 20CF-003 | B8: CF | C8: Strategic Housing HFC of Travis County | D8: Yager Flats | E8: Manor | F8: 45000000 | G8: =F24-85000000 -> 11023000 | H8: 42738 | I8: 42753 | J8: =G8 -> 11023000 | K8: 43829 | M8: =J8 -> 11023000
A9: 20CF-012 | B9: In-Line | C9: Austin HFC | D9: The Rebekah | E9: Austin | F9: 40000000
A10: 20CF-013 | B10: In-Line | C10: Victory Street PFC | D10: EADO 800 Lofts | E10: Houston | F10: 48000000
A12: Priority 6
A13: 20CF-001 | B13: In-Line | C13: Capital Area HFC | D13: Grand Avenue Flats | E13: Austin | F13: 45000000
A14: 20CF-004 | B14: In-Line | C14: Austin Affordable PFC, Inc | D14: Kingswood Apartments | E14: Austin | F14: 50000000
A15: 20CF-005 | B15: In-Line | C15: Austin Affordable PFC, Inc | D15: Ridge at East Village | E15: Austin | F15: 50000000
A16: 20CF-006 | B16: In-Line | C16: Travis County HFC | D16: The Residences at Howard Lane | E16: Austin | F16: 48000000
A17: 20CF-007 | B17: In-Line | C17: Capital Area HFC | D17: Espero Landing / Asperanza Heights | E17: Georgetown | F17: 50000000
A18: 20CF-008 | B18: In-Line | C18: Travis County HFC | D18: Capitol View Flats | E18: Austin | F18: 50000000
A19: 20CF-010 | B19: In-Line | C19: Travis County HFC | D19: Crystal Bend Apartments | E19: Pflugerville | F19: 50000000
F21: =SUM(F5:F19) -> 561000000 | G21: =SUM(G6:G19) -> 96023000 | L21: =SUM(L7:L13) -> 0
D24: Amount Available for Traditional Carryforward | F24: ='Aug 15'!F59 -> 96023000
B29: 2020 NON TRADITIONAL CARRYFORWARD
A30: DOCKET# | B30: STATUS | C30: ISSUER | D30: PROJECT | E30: LOCATION | F30: REQUESTED | G30: RESERVED | I30: 35-DAY | J30: CERTIFIED | L30: ALLOCATION | M30: CARRYFORWARD | N30: RELEASE/
A31: or | F31: AMOUNT | G31: AMOUNT | H31: DATE | I31: DEADLINE | J31: AMOUNT | K31: DEADLINE | L31: AMOUNT | M31: REMAINING | N31: UPDATE
A32: LOT # | M32: (NET) | N32: DATE
A33: SC 1
A34: 4638 | B34: CF | C34: TSAHC | D34: Single Family Bonds or MCCs | E34: Statewide | F34: 98187302 | G34: 98187302 | H34: 42584 | I34: =H34+35 -> 42619 | J34: 98187302 | K34: =H34+210 -> 42794 | M34: =J34-L34 -> 98187302
A35: 4641 | B35: CF | C35: Southeast Texas HFC | D35: 2021 MCC Program | E35: Multi-Counties | F35: 25000000 | G35: 25000000 | H35: 42588 | I35: =H35+35 -> 42623 | J35: 25000000 | K35: =H35+210 -> 42798 | M35: =J35-L35 -> 25000000
A36: 4642 | B36: CF | C36: TDHCA (assigned by Harris County HFC) | D36: Qualified Mortgage Bonds/ MCCs | E36: Statewide | F36: 51000000 | G36: 51000000 | H36: 42588 | I36: =H36+35 -> 42623 | J36: 51000000 | K36: =H36+210 -> 42798 | M36: =J36-L36 -> 51000000
A37: 4643 | B37: CF | C37: TDHCA | D37: Qualified Mortgage Bonds | E37: Statewide | F37: 115000000 | G37: 115000000 | H37: 42588 | I37: =H37+35 -> 42623 | J37: 115000000 | K37: =H37+210 -> 42798 | M37: =J37-L37 -> 115000000
A38: 4644 | B38: CF | C38: TDHCA | D38: Qualified Mortgage Bonds/MCCs | E38: Statewide | F38: 212356465 | G38: 212356465 | H38: 42588 | I38: =H38+35 -> 42623 | J38: 212356465 | K38: =H38+210 -> 42798 | M38: =J38-L38 -> 212356465
A39: 4645 | B39: CF | C39: TDHCA | D39: Qualified Mortgage Bonds/MCCs | E39: Statewide | F39: 556329254 | G39: 480329254 | H39: 42588 | I39: =H39+35 -> 42623 | J39: 352028273 | K39: =H39+210 -> 42798 | M39: =J39-L39 -> 352028273
J41: =SUM(J34:J40) -> 853572040 | L41: =SUM(L34:L40) -> 0 | M41: =SUM(M34:M40) -> 853572040
A44: Residential Rental
A45: 4633 | B45: CF | C45: Victory Street Public Facility Corporation | D45: 2100 Memorial Apartments | E45: Houston | F45: 35000000 | G45: 35000000 | H45: 42557 | I45: =H45+35 -> 42592 | J45: 35000000 | K45: =H45+180 -> 42737 | M45: =J45-L45 -> 35000000
A46: 4634 | B46: CF | C46: Trinity River PFC | D46: Cowan Place Apartments | E46: Fort Worth | F46: 20000000 | G46: 20000000 | H46: 42557 | I46: =H46+35 -> 42592 | J46: 20000000 | K46: =H46+180 -> 42737 | M46: =J46-L46 -> 20000000
A47: 4635 | B47: CF | C47: Travis County Housing Finance Corporation | D47: Old Manor Road Senior Apartments | E47: Austin | F47: 30000000 | G47: 30000000 | H47: 42563 | I47: =H47+35 -> 42598 | J47: 30000000 | K47: =H47+180 -> 42743 | M47: =J47-L47 -> 30000000
A48: 4646 | B48: CF | C48: TSAHC | D48: Pine Terrace Apartments | E48: Mount Pleasant | F48: 3300000 | G48: 3300000 | H48: 42598 | I48: =H48+35 -> 42633 | J48: 3300000 | K48: =H48+180 -> 42778 | M48: =J48-L48 -> 3300000
A49: 4647 | B49: CF | C49: TSAHC | D49: Trinity Oaks Apartments | E49: Sulphur Springs | F49: 2200000 | G49: 2200000 | H49: 42598 | I49: =H49+35 -> 42633 | J49: 2200000 | K49: =H49+180 -> 42778 | M49: =J49-L49 -> 2200000
A50: 4648 | B50: CF | C50: TSAHC | D50: Marshall Apartments | E50: Austin | F50: 16500000 | G50: 16500000 | H50: 42598 | I50: =H50+35 -> 42633 | J50: 16500000 | K50: =H50+180 -> 42778 | M50: =J50-L50 -> 16500000
A51: 4649 | B51: CF | C51: TSAHC | D51: Fawn Ridge Apartments | E51: The Woodlands | F51: 16500000 | G51: 16500000 | H51: 42598 | I51: =H51+35 -> 42633 | J51: 16500000 | K51: =H51+180 -> 42778 | M51: =J51-L51 -> 16500000
...

Sheet Aug 15
A1: 41865 | B1: ='SC1 MRB'!F26+'SC2 State Voted'!F13+'SC3 Small Issue IDBs'!F15+'SC4 TSAHC'!F23+'SC4 MF- TDHCA'!F33+'SC4 MF- Local Collapse'!F48+'SC5 OTHER'!F80 -> 9.82595e+08
A2: Collapse
A4: DOCKET# | B4: STATUS | F4: REQUESTED | G4: UTILIZATION | H4: ELIGIBLE | I4: RESERVED | J4: RESERVATION | K4: 35-DAY | L4: CERTIFIED | M4: CLOSING | N4: ALLOCATION | O4: RELEASED | P4: RELEASE/
A5: or | F5: AMOUNT | G5: PERCENTAGE | H5: AMOUNT | I5: AMOUNT | J5: DATE | K5: DEADLINE | L5: AMOUNT | M5: DEADLINE | N5: AMOUNT | O5: AMOUNT | P5: UPDATE
A6: LOT # | C6: ISSUER | D6: PROJECT | E6: LOCATION | P6: DATE
A7: 4651 | B7: CF | C7: Strategic Housing HFC of Travis County | D7: Wildhorse Flats Apartments | E7: Austin | F7: 50000000 | G7: N/A | H7: 50000000 | I7: 50000000 | J7: 42599 | K7: =J7+35 -> 42634 | L7: 50000000 | M7: =J7+180 -> 42779
A8: 4652 | B8: CF | C8: Rowlett Housing Finance Corporation | D8: Cypress Creek Apartment Homes | E8: Rowlett | F8: 35000000 | G8: N/A | H8: 35000000 | I8: 35000000 | J8: 42599 | K8: =J8+35 -> 42634 | L8: 35000000 | M8: =J8+180 -> 42779
A9: 4653 | B9: CLOSED | C9: Capital Area Housing Finance Corporation | D9: Redwood | E9: San Marcos | F9: 50000000 | G9: N/A | H9: 50000000 | I9: 50000000 | J9: 42599 | K9: =J9+35 -> 42634 | L9: 50000000 | M9: =J9+180 -> 42779 | N9: 35797000 | O9: =I9-N9 -> 14203000 | P9: 42725
A10: 4654 | B10: CF | C10: North Central Texas HFC | D10: Gala at Waxahachie | E10: Waxahachie | F10: 25000000 | G10: N/A | H10: 25000000 | I10: 25000000 | J10: 42599 | K10: =J10+35 -> 42634 | L10: 25000000 | M10: =J10+180 -> 42779
A11: 4655 | B11: WITHDRAWN | C11: San Antonio Housing Trust Finance Corporation | D11: Cattleman Square Lofts Apartments | E11: San Antonio | F11: 15000000 | G11: N/A | H11: 15000000 | I11: 15000000 | J11: 42599 | K11: =J11+35 -> 42634 | L11: 15000000 | M11: =J11+180 -> 42779 | N11: 0 | O11: =I11-N11 -> 15000000 | P11: 42661
A12: 4656 | B12: WITHDRAWN | C12: Travis County Housing Finance Corporation | D12: Springdale Manor | E12: Austin | F12: 20000000 | G12: N/A | H12: 20000000 | I12: 20000000 | J12: 42599 | K12: =J12+35 -> 42634 | L12: 16500000 | M12: =J12+180 -> 42779 | N12: 0 | O12: =I12-N12 -> 20000000 | P12: 42689
A13: 4657 | B13: CF | C13: City of Dallas Housing Finance Corporation | D13: The Ridge at Lancaster | E13: Dallas | F13: 50000000 | G13: N/A | H13: 50000000 | I13: 50000000 | J13: 42599 | K13: =J13+35 -> 42634 | L13: 50000000 | M13: =J13+180 -> 42779
A14: 4658 | B14: CLOSED | C14: City of Dallas Housing Finance Corporation | D14: Ridgecrest Terrace Apartments | E14: Dallas | F14: 40000000 | G14: N/A | H14: 40000000 | I14: 40000000 | J14: 42599 | K14: =J14+35 -> 42634 | L14: 40000000 | M14: =J14+180 -> 42779 | N14: 22600000 | O14: =I14-N14 -> 17400000 | P14: 42721 | Q14: 2019 CF
A15: 4659 | B15: CF | C15: Strategic Housing HFC of Travis County | D15: Austin Manor Apts (Phase II) | E15: Austin | F15: 10000000 | G15: N/A | H15: 10000000 | I15: 10000000 | J15: 42599 | K15: =J15+35 -> 42634 | L15: 10000000 | M15: =J15+180 -> 42779
A16: 4660 | B16: CLOSED | C16: TDHCA | D16: Legacy Riverside Senior Living Community | E16: Fort Worth | F16: 40000000 | G16: N/A | H16: 40000000 | I16: 40000000 | J16: 42606 | K16: =J16+35 -> 42641 | L16: 40000000 | M16: =J16+180 -> 42786 | N16: 40000000 | O16: =I16-N16 -> 0 | P16: 42725
A17: 4661 | B17: RESERVED | C17: Travis County Housing Finance Corporation | D17: Montopolis Apartments | E17: Austin | F17: 39000000 | G17: N/A | H17: 39000000 | I17: 39000000 | J17: 42606 | K17: =J17+35 -> 42641 | L17: 39000000 | M17: =J17+180 -> 42786 | N17: 39000000 | O17: =I17-N17 -> 0 | P17: 42732
A18: 4662 | B18: CF | C18: TDHCA | D18: The Terrace at Southern Oaks Apts | E18: Dallas | F18: 45000000 | G18: N/A | H18: 45000000 | I18: 45000000 | J18: 42609 | K18: =J18+35 -> 42644 | L18: 45000000 | M18: =J18+180 -> 42789
A19: 4663 | B19: CLOSED | C19: Denton County Housing Finance Corporation | D19: EMLI at Pecan Creek Apartments | E19: Aubrey | F19: 30000000 | G19: N/A | H19: 30000000 | I19: 30000000 | J19: 42609 | K19: =J19+35 -> 42644 | L19: 30000000 | M19: =J19+180 -> 42789 | N19: 7300000 | O19: =I19-N19 -> 22700000 | P19: 42693
A20: 4664 | B20: CF | C20: Odessa Housing Finance Corporation | D20: Cove in Odessa Apt | E20: Odessa | F20: 30000000 | G20: N/A | H20: 30000000 | I20: 30000000 | J20: 42613 | K20: =J20+35 -> 42648 | L20: 30000000 | M20: =J20+180 -> 42793
A21: 4665 | B21: CF | C21: Capital Area Housing Finance Corporation | D21: Legacy Senior Residences | E21: Round Rock | F21: 30000000 | G21: N/A | H21: 30000000 | I21: 30000000 | J21: 42616 | K21: =J21+35 -> 42651 | L21: 30000000 | M21: =J21+180 -> 42796
A22: 4666 | B22: CF | C22: TDHCA | D22: Murdeaux Villas | E22: Dallas | F22: 35000000 | G22: N/A | H22: 35000000 | I22: 35000000 | J22: 42628 | K22: =J22+35 -> 42663 | L22: 35000000 | M22: =J22+180 -> 42808
A23: 4667 | B23: CF | C23: TDHCA | D23: The Montage Apts | E23: San Antonio | F23: 35000000 | G23: N/A | H23: 35000000 | I23: 35000000 | J23: 42628 | K23: =J23+35 -> 42663 | L23: 35000000 | M23: =J23+180 -> 42808
A24: 4668 | B24: WITHDRAWN | C24: Capital Area Housing Finance Corporation | D24: Merritt Headwaters | E24: Dripping Springs | F24: 28000000 | G24: N/A | H24: 28000000 | I24: 28000000 | J24: 42628 | K24: =J24+35 -> 42663 | L24: 0 | M24: =J24+180 -> 42808 | N24: 0 | O24: =I24-N24 -> 28000000 | P24: 42656
A25: 4669 | B25: CF | C25: Bexar County Housing Finance Corporation | D25: Applewood Ranch Apartments | E25: San Antonio | F25: 35000000 | G25: N/A | H25: 35000000 | I25: 35000000 | J25: 42628 | K25: =J25+35 -> 42663 | L25: 35000000 | M25: =J25+180 -> 42808
A26: 4670 | B26: CF | C26: TDHCA | D26: Oso Bay Apartments | E26: Corpus Christi | F26: 14000000 | G26: N/A | H26: 14000000 | I26: 14000000 | J26: 42628 | K26: =J26+35 -> 42663 | L26: 14000000 | M26: =J26+180 -> 42808
A27: 4671 | B27: CLOSED | C27: Angelina and Neches River Authority IDC | D27: Jefferson Enterprise Energy, LLC Sewage and Solid Waste Disposal Facilities | E27: Lufkin | F27: 100000000 | G27: N/A | H27: 100000000 | I27: 100000000 | J27: 42633 | K27: =J27+35 -> 42668 | L27: 30000000 | M27: =J27+150 -> 42783 | N27: 22000000 | O27: =I27-N27 -> 78000000 | P27: 42732
A28: 4672 | B28: CF | C28: Austin Housing Finance Corporation | D28: City Heights | E28: Austin | F28: 22000000 | G28: N/A | H28: 22000000 | I28: 22000000 | J28: 42658 | K28: =J28+35 -> 42693 | L28: 22000000 | M28: =J28+180 -> 42838
A29: 4673 | B29: CF | C29: Hidalgo Housing Development Corporation | D29: Progreso Heights Apartments | E29: Progreso | F29: 14000000 | G29: N/A | H29: 14000000 | I29: 14000000 | J29: 42658 | K29: =J29+35 -> 42693 | L29: 14000000 | M29: =J29+180 -> 42838
A30: 4674 | B30: CF | C30: TDHCA | D30: Cedar Ridge Apartments | E30: Leander | F30: 18000000 | G30: N/A | H30: 18000000 | I30: 18000000 | J30: 42658 | K30: =J30+35 -> 42693 | L30: 18000000 | M30: =J30+180 -> 42838
A31: 4675 | B31: CF | C31: TDHCA | D31: Shiloh Village Apartments | E31: Dallas | F31: 25000000 | G31: N/A | H31: 25000000 | I31: 25000000 | J31: 42658 | K31: =J31+35 -> 42693 | L31: 25000000 | M31: =J31+180 -> 42838
A32: 4676 | B32: CF | C32: TDHCA | D32: Pleasant Hill Apartments | E32: Austin | F32: 20000000 | G32: N/A | H32: 20000000 | I32: 20000000 | J32: 42658 | K32: =J32+35 -> 42693 | L32: 20000000 | M32: =J32+180 -> 42838
A33: 4677 | B33: WITHDRAWN | C33: San Antonio Housing Trust Finance Corporation | D33: Country Club Village Apts | E33: San Antonio | F33: 30000000 | G33: N/A | H33: 30000000 | I33: 30000000 | J33: 42658 | K33: =J33+35 -> 42693 | L33: 0 | M33: =J33+180 -> 42838 | N33: 0 | O33: =I33-N33 -> 30000000 | P33: 42675
A34: 4678 | B34: CF | C34: San Antonio Housing Trust Finance Corporation | D34: Echo East Apartments | E34: San Antonio | F34: 20000000 | G34: N/A | H34: 20000000 | I34: 20000000 | J34: 42658 | K34: =J34+35 -> 42693 | L34: 20000000 | M34: =J34+180 -> 42838
A35: 4679 | B35: WITHDRAWN | C35: Victory Street Public Facility Corporation | D35: Historic Oaks of Allen Parkway Village | E35: Houston | F35: 29000000 | G35: N/A | H35: 29000000 | I35: 29000000 | J35: 42658 | K35: =J35+35 -> 42693 | L35: 0 | M35: =J35+180 -> 42838 | N35: 0 | O35: =I35-N35 -> 29000000 | P35: 42661
A36: 20-154 | B36: WITHDRAWN | C36: Victory Street Public Facility Corporation | D36: Allen Parkway Village Apartments | E36: Houston | F36: 35000000 | G36: N/A
A37: 4680 | B37: WITHDRAWN | C37: Austin Housing Finance Corporation | D37: Espero Austin at Rutland | E37: Austin | F37: 20000000 | G37: N/A | H37: 20000000 | I37: 20000000 | J37: 42662 | K37: =J37+35 -> 42697 | L37: 0 | M37: =J37+180 -> 42842 | N37: 0 | O37: =I37-N37 -> 20000000 | P37: 42671
A38: 4681 | B38: CF | C38: TSAHC | D38: Sandpiper Cove Apartments | E38: Galveston | F38: 37500000 | G38: N/A | H38: 37500000 | I38: 37500000 | J38: 42662 | K38: =J38+35 -> 42697 | L38: 37500000 | M38: =J38+180 -> 42842
A39: 4682 | B39: CF | C39: Bexar Management and Development Corporation | D39: Kallison Ranch Apartments | E39: San Antonio | F39: 50000000 | G39: N/A | H39: 50000000 | I39: 50000000 | J39: 42664 | K39: =J39+35 -> 42699 | L39: 50000000 | M39: =J39+180 -> 42844
A40: 20-162 | B40: WITHDRAWN | C40: Travis County Housing Finance Corporation | D40: Enclave on Ross Apartments | E40: Del Valle | F40: 40000000 | G40: N/A
A41: 4684 | B41: CF | C41: Las Varas Public Facility Corporation | D41: Watson Road Apartments | E41: San Antonio | F41: 38000000 | G41: N/A | H41: 38000000 | I41: 38000000 | J41: 42672 | K41: =J41+35 -> 42707 | L41: 38000000 | M41: =J41+180 -> 42852
...

Sheet SC1 MRB
A1: SUBCEILING #1 | C1: =Totals!C8 -> 981873021
A2: MORTGAGE REVENUE BONDS
J3: TSHAC - total - 10% | K3: =C1*0.1 -> 98187302
J4: TDHCA - 33.34% | K4: =C1*0.3334 -> 3.2735647e+08
A6: DOCKET# | B6: STATUS | C6: ISSUER | D6: PROJECT | E6: LOCATION | F6: REQUESTED | G6: UTILIZATION | H6: ELIGIBLE | I6: RESERVED | J6: RESERVATION | K6: 35-DAY | L6: CERTIFIED | M6: 210-DAY | N6: ALLOCATION | O6: RELEASED | P6: RELEASE/
A7: or | F7: AMOUNT | G7: PERCENTAGE | H7: AMOUNT | I7: AMOUNT | J7: DATE | K7: DEADLINE | L7: AMOUNT | M7: DEADLINE | N7: AMOUNT | O7: AMOUNT | P7: UPDATE
A8: LOT # | P8: DATE
A9: 4541 | B9: WITHDRAWN | C9: Harris County Housing Finance Corporation | D9: Mortgage Revenue Bonds/ MCCs | E9: Harris County | F9: 30000000 | G9: 1 | H9: 30000000 | I9: 30000000 | J9: 42371 | K9: =J9+35 -> 42406 | L9: 0 | M9: =J9+210 -> 42581 | N9: 0 | O9: =I9-N9 -> 30000000 | P9: 42404
A10: 4566 | B10: CLOSED | C10: TDHCA | D10: Qualified Mortgage Bonds | E10: Statewide | F10: 400000000 | G10: N/A | H10: 400000000 | I10: 400000000 | J10: 42390 | K10: =J10+35 -> 42425 | L10: 400000000 | M10: =J10+210 -> 42600 | N10: 0 | O10: =I10-N10 -> 400000000 | P10: 42411 | Q10: 2018 & 2019 CF
A11: 4611 | B11: CLOSED | C11: TDHCA | D11: Qualified Mortgage Bonds | E11: Statewide | F11: 185000000 | G11: N/A | H11: 185000000 | I11: 185000000 | J11: 42497 | K11: =J11+35 -> 42532 | L11: 185000000 | M11: =J11+210 -> 42707 | N11: 0 | O11: =I11-N11 -> 185000000 | P11: 42559 | Q11: 2019 CF
A12: 4637 | B12: CLOSED | C12: Garland Housing Finance Corporation | D12: 2020 MCC Program | E12: Garland | F12: 14999246 | G12: N/A | H12: 14999246 | I12: 14999246 | J12: 42580 | K12: =J12+35 -> 42615 | L12: 14999246 | M12: =J12+210 -> 42790 | N12: 0 | O12: =I12-N12 -> 14999246 | P12: 42584 | Q12: 2018 CF
A13: 4638 | B13: CF | C13: TSAHC | D13: Single Family Bonds or MCCs | E13: Statewide | F13: 98187302 | G13: N/A | H13: 98187302 | I13: 98187302 | J13: 42584 | K13: =J13+35 -> 42619 | L13: 98187302 | M13: =J13+210 -> 42794
A14: 4641 | B14: CF | C14: Southeast Texas HFC | D14: 2021 MCC Program | E14: Multi-Counties | F14: 25000000 | G14: N/A | H14: 25000000 | I14: 25000000 | J14: 42588 | K14: =J14+35 -> 42623 | L14: 25000000 | M14: =J14+210 -> 42798
A15: 4642 | B15: CF | C15: TDHCA (assigned by Harris County HFC) | D15: Qualified Mortgage Bonds/ MCCs | E15: Statewide | F15: 51000000 | G15: N/A | H15: 51000000 | I15: 51000000 | J15: 42588 | K15: =J15+35 -> 42623 | L15: 51000000 | M15: =J15+210 -> 42798
A16: 4643 | B16: CF | C16: TDHCA | D16: Qualified Mortgage Bonds | E16: Statewide | F16: 115000000 | G16: N/A | H16: 115000000 | I16: 115000000 | J16: 42588 | K16: =J16+35 -> 42623 | L16: 115000000 | M16: =J16+210 -> 42798
A17: 4644 | B17: CF | C17: TDHCA | D17: Qualified Mortgage Bonds/MCCs | E17: Statewide | F17: 212356465 | G17: N/A | H17: 212356465 | I17: 212356465 | J17: 42588 | K17: =J17+35 -> 42623 | L17: 212356465 | M17: =J17+210 -> 42798
A18: 4645 | B18: CF | C18: TDHCA | D18: Qualified Mortgage Bonds/MCCs | E18: Statewide | F18: 556329254 | G18: N/A | H18: 480329254 | I18: 480329254 | J18: 42588 | K18: =J18+35 -> 42623 | L18: 352028273 | M18: =J18+210 -> 42798 | O18: =H18-L18 -> 128300981 | P18: 42623
C20: TOTALS | F20: =SUM(F9:F19) -> 1687872267 | H20: =SUM(H9:H19) -> 1611872267 | I20: =SUM(I9:I19) -> 1611872267 | L20: =SUM(L9:L19) -> 1453571286 | N20: =SUM(N9:N19) -> 0 | O20: =SUM(O9:O19) -> 758300227
C22: In-Line | F22: =H20-I20 -> 0
C26: Available | F26: =C1-I20+O20+E30 -> 128300981 | G26: Any available amount after 8/15 is reflected on the Aug 15 Tab

Sheet SC2 State Voted
A1: SUBCEILING #2 | C1: =Totals!D8 -> 304456751
A2: STATE VOTED ISSUES
A4: DOCKET# | B4: STATUS | C4: ISSUER | D4: PROJECT | E4: LOCATION | F4: REQUESTED | G4: RESERVED | H4: RESERVATION | I4: 35-DAY | J4: CERTIFIED | K4: 210-DAY | L4: ALLOCATION | M4: RELEASED | N4: RELEASE/
A5: or | F5: AMOUNT | G5: AMOUNT | H5: DATE | I5: DEADLINE | J5: AMOUNT | K5: DEADLINE | L5: AMOUNT | M5: AMOUNT | N5: UPDATE
A6: LOT # | N6: DATE
A7: 4559 | B7: CLOSED | C7: Texas Higher Education Coordinating Board | D7: State of Texas College Student Loan Bonds | E7: Statewide | F7: 100000000 | G7: 100000000 | H7: 42381 | I7: =H7+35 -> 42416 | J7: 100000000 | K7: =H7+210 -> 42591 | L7: 69990169 | M7: =J7-L7 -> 30009831 | N7: 42556 | O7: 2018 CF
C9: TOTALS | F9: =SUM(F7:F8) -> 100000000 | G9: =SUM(G7:G8) -> 100000000 | J9: =SUM(J7:J8) -> 100000000 | L9: =SUM(L7:L8) -> 69990169 | M9: =SUM(M7:M8) -> 30009831
C11: In-Line | F11: =SUM(F9-G9) -> 0
C13: Available | F13: =C1-G9+M9+E16 -> 2.3446658e+08 | G13: Any available amount after 8/15 is reflected on the Aug 15 Tab

Sheet SC3 Small Issue IDBs
A1: SUBCEILING #3 | C1: =Totals!E8 -> 60891350
A2: QUALIFIED SMALL ISSUE
A4: DOCKET# | B4: STATUS | F4: REQUESTED | G4: RESERVED | H4: RESERVATION | I4: 35-DAY | J4: CERTIFIED | K4: 150-DAY | L4: ALLOCATION | M4: RELEASED | N4: RELEASE/
A5: or | F5: AMOUNT | G5: AMOUNT | H5: DATE | I5: DEADLINE | J5: AMOUNT | K5: DEADLINE | L5: AMOUNT | M5: AMOUNT | N5: UPDATE
A6: LOT # | C6: ISSUER | D6: PROJECT | E6: LOCATION | N6: DATE
C11: TOTALS | F11: =SUM(F7:F10) -> 0 | G11: =SUM(G7:G10) -> 0 | J11: =SUM(J7:J10) -> 0 | L11: =SUM(L7:L10) -> 0 | M11: =SUM(M7:M10) -> 0
C13: In-Line | F13: =F11-G11 -> 0
C15: Available | F15: =+C1-G11+M11 -> 60891350 | G15: Any available amount after 8/15 is reflected on the Aug 15 Tab

Sheet SC4 TSAHC
A1: SUBCEILING #4 | C1: =Totals!F8 -> 79919897
A2: RESIDENTIAL RENTAL PROJECTS
A4: DOCKET# | B4: STATUS | C4: ISSUER | D4: PROJECT | E4: LOCATION | F4: REQUESTED | G4: RESERVED | H4: RESERVATION | I4: 35-DAY | J4: CERTIFIED | K4: 180-DAY | L4: ALLOCATION | M4: RELEASED | N4: RELEASE/
A5: or | F5: AMOUNT | G5: AMOUNT | H5: DATE | I5: DEADLINE | J5: AMOUNT | K5: DEADLINE | L5: AMOUNT | M5: AMOUNT | N5: UPDATE
A6: LOT# | N6: DATE
A7: 4561 | B7: CLOSED | C7: TSAHC | D7: Hamilton Valley Rural Development Portfolio (22 properties) | E7: Scattered Site | F7: 39120000 | G7: 39120000 | H7: 42381 | I7: =H7+35 -> 42416 | J7: 39120000 | K7: =H7+180 -> 42561 | L7: 0 | M7: 39120000 | N7: 42550 | O7: 2019 CF
A8: 4564 | B8: CLOSED | C8: TSAHC | D8: Ventura at Fairgrounds | E8: Midland | F8: 40000000 | G8: 40000000 | H8: 42390 | I8: =H8+35 -> 42425 | J8: 40000000 | K8: =H8+180 -> 42570 | L8: 0 | M8: =J8-L8 -> 40000000 | N8: 42532 | O8: 2018 CF | P8: 2019 CF
A9: 4597 | B9: WITHDRAWN | C9: TSAHC | D9: East Texas Seniors - Trinity Oaks Apartments Phase I & II | E9: Sulphur Springs | F9: 2129000 | G9: 2129000 | H9: 42452 | I9: =H9+35 -> 42487 | J9: 2129000 | K9: =H9+180 -> 42632 | M9: =J9-L9 -> 2129000 | N9: 42591
A10: 4598 | B10: WITHDRAWN | C10: TSAHC | D10: East Texas Seniors - Pine Terrace Apartments Phase I & II | E10: Mount Pleasant | F10: 3371000 | G10: 3371000 | H10: 42452 | I10: =H10+35 -> 42487 | J10: 3371000 | K10: =H10+180 -> 42632 | M10: =J10-L10 -> 3371000 | N10: 42591
A11: 4615 | B11: CLOSED | C11: TSAHC | D11: Shady Oaks Manor Apts | E11: Fort Worth | F11: 15000000 | G11: 15000000 | H11: 42516 | I11: =H11+35 -> 42551 | J11: 15000000 | K11: =H11+180 -> 42696 | L11: 9872000 | M11: =J11-L11 -> 5128000 | N11: 42657 | O11: 2019 CF
A12: 4623 | B12: WITHDRAWN | C12: TSAHC | D12: W. Leo Daniels Towers | E12: Houston | F12: 15000000 | G12: 15000000 | H12: 42531 | I12: =H12+35 -> 42566 | J12: 15000000 | K12: =H12+180 -> 42711 | M12: =J12-L12 -> 15000000 | N12: 42679
A13: 4646 | B13: CF | C13: TSAHC | D13: Pine Terrace Apartments | E13: Mount Pleasant | F13: 3300000 | G13: 3300000 | H13: 42598 | I13: =H13+35 -> 42633 | J13: 3300000 | K13: =H13+180 -> 42778
A14: 4647 | B14: CF | C14: TSAHC | D14: Trinity Oaks Apartments | E14: Sulphur Springs | F14: 2200000 | G14: 2200000 | H14: 42598 | I14: =H14+35 -> 42633 | J14: 2200000 | K14: =H14+180 -> 42778
A15: 4648 | B15: CF | C15: TSAHC | D15: Marshall Apartments | E15: Austin | F15: 16500000 | G15: 16500000 | H15: 42598 | I15: =H15+35 -> 42633 | J15: 16500000 | K15: =H15+180 -> 42778
A16: 4649 | B16: CF | C16: TSAHC | D16: Fawn Ridge Apartments | E16: The Woodlands | F16: 16500000 | G16: 16500000 | H16: 42598 | I16: =H16+35 -> 42633 | J16: 16500000 | K16: =H16+180 -> 42778
A17: 20-160 | B17: In-Line | C17: TSAHC | D17: Sandpiper Cove Apartments | E17: Galveston
F19: =SUM(F7:F18) -> 153120000 | G19: =SUM(G7:G18) -> 153120000 | J19: =SUM(J7:J18) -> 153120000 | L19: =SUM(L7:L18) -> 9872000 | M19: =SUM(M7:M18) -> 104748000
C21: In-Line | F21: =SUM(F19-G19) -> 0
D23: Available | F23: =C1-G19+M19+E26 -> 31547897 | G23: Any available amount after 8/15 is reflected on the Aug 15 Tab

Sheet SC4 MF- TDHCA
A1: SUBCEILING #4 | C1: =Totals!G8 -> 159839794
A2: RESIDENTIAL RENTAL PROJECTS
A4: DOCKET# | B4: STATUS | C4: ISSUER | D4: PROJECT | E4: LOCATION | F4: REQUESTED | G4: RESERVED | H4: RESERVATION | I4: 35-DAY | J4: CERTIFIED | K4: 180-DAY | L4: ALLOCATION | M4: RELEASED | N4: RELEASE/
A5: or | F5: AMOUNT | G5: AMOUNT | H5: DATE | I5: DEADLINE | J5: AMOUNT | K5: DEADLINE | L5: AMOUNT | M5: AMOUNT | N5: UPDATE
A6: LOT# | N6: DATE
A7: 4565 | B7: WITHDRAWN | C7: TDHCA | D7: FishPond at Corpus Christi | E7: Corpus Christi | F7: 10000000 | G7: 10000000 | H7: 42390 | I7: =H7+35 -> 42425 | J7: 10000000 | K7: =H7+180 -> 42570 | L7: 0 | M7: =J7-L7 -> 10000000 | N7: 42507
A8: 4578 | B8: WITHDRAWN | C8: TDHCA | D8: Oaks on Clark Apartments | E8: San Antonio | F8: 12000000 | G8: 12000000 | H8: 42419 | I8: =H8+35 -> 42454 | J8: 12000000 | K8: =H8+180 -> 42599 | L8: 0 | M8: =J8-L8 -> 12000000 | N8: 42462
A9: 4581 | B9: CLOSED | C9: TDHCA | D9: The Reserves at San Marcos | E9: San Marcos | F9: 41000000 | G9: 41000000 | H9: 42424 | I9: =H9+35 -> 42459 | J9: 41000000 | K9: =H9+180 -> 42604 | L9: 0 | M9: =J9-L9 -> 41000000 | N9: 42538 | O9: 2019 CF
A10: 4594 | B10: CLOSED | C10: TDHCA | D10: The Walzem Apartments | E10: San Antonio | F10: 20000000 | G10: 20000000 | H10: 42440 | I10: =H10+35 -> 42475 | J10: 20000000 | K10: =H10+180 -> 42620 | L10: 20000000 | M10: =J10-L10 -> 0 | N10: 42560
A11: 4595 | B11: CLOSED | C11: TDHCA | D11: Vermillion Apartments | E11: Houston | F11: 29000000 | G11: 29000000 | H11: 42445 | I11: =H11+35 -> 42480 | J11: 29000000 | K11: =H11+180 -> 42625 | L11: 28000000 | M11: =J11-L11 -> 1000000 | N11: 42620
A12: 4599 | B12: CLOSED | C12: TDHCA | D12: Pecan Grove Apartments | E12: Sequin | F12: 26000000 | G12: 26000000 | H12: 42462 | I12: =H12+35 -> 42497 | J12: 26000000 | K12: =H12+180 -> 42642 | L12: 26000000 | M12: =J12-L12 -> 0 | N12: 42608
A13: 4603 | B13: CLOSED | C13: TDHCA | D13: Oaks on Clark Apartments | E13: San Antonio | F13: 10000000 | G13: 10000000 | H13: 42467 | I13: =H13+35 -> 42502 | J13: 10000000 | K13: =H13+180 -> 42647 | L13: 0 | M13: =J13-L13 -> 10000000 | N13: 42510 | O13: 2019 CF
A14: 4604 | B14: CLOSED | C14: TDHCA | D14: Granada Terrace Apartments | E14: South Houston | F14: 16000000 | G14: 16000000 | H14: 42474 | I14: =H14+35 -> 42509 | J14: 16000000 | K14: =H14+180 -> 42654 | L14: 16000000 | M14: =J14-L14 -> 0 | N14: 42649
A15: 4608 | B15: CLOSED | C15: TDHCA | D15: Scott Street Lofts | E15: Houston | F15: 18000000 | G15: 18000000 | H15: 42496 | I15: =H15+35 -> 42531 | J15: 18000000 | K15: =H15+180 -> 42676 | L15: 18000000 | M15: =J15-L15 -> 0 | N15: 42560
A16: 4609 | B16: CLOSED | C16: TDHCA | D16: 333 Holly | E16: The Woodlands | F16: 36800000 | G16: 36800000 | H16: 42496 | I16: =H16+35 -> 42531 | J16: 36800000 | K16: =H16+180 -> 42676 | L16: 18800000 | M16: =J16-L16 -> 18000000 | N16: 42545 | O16: 2019 CF
A17: 4610 | B17: CLOSED | C17: TDHCA | D17: The Pines Apartments | E17: The Woodlands | F17: 22000000 | G17: 22000000 | H17: 42497 | I17: =H17+35 -> 42532 | J17: 22000000 | K17: =H17+180 -> 42677 | L17: 22000000 | M17: =J17-L17 -> 0 | N17: 42545
A18: 4612 | B18: CLOSED | C18: TDHCA | D18: FishPond at Corpus Christi | E18: Corpus Christi | F18: 10000000 | G18: 10000000 | H18: 42509 | I18: =H18+35 -> 42544 | J18: 10000000 | K18: =H18+180 -> 42689 | L18: 10000000 | M18: =J18-L18 -> 0 | N18: 42678
A19: 20-116 | B19: In-Line | C19: TDHCA | D19: Legacy Riverside Senior Living Community | E19: Fort Worth
A20: 20-118 | B20: In-Line | C20: TDHCA | D20: The Terrace at Southern Oaks Apts | E20: Dallas
A21: 20-129 | B21: In-Line | C21: TDHCA | D21: Murdeaux Villas | E21: Dallas
A22: 20-130 | B22: In-Line | C22: TDHCA | D22: The Montage Apts | E22: San Antonio
A23: 20-137 | B23: In-Line | C23: TDHCA | D23: Oso Bay Apartments | E23: Corpus Christi
A24: 20-148 | B24: In-Line | C24: TDHCA | D24: Cedar Ridge Apartments | E24: Leander
A25: 20-149 | B25: In-Line | C25: TDHCA | D25: Shiloh Village Apartments | E25: Dallas
A26: 20-150 | B26: In-Line | C26: TDHCA | D26: Pleasant Hill Apartments | E26: Austin
C29: TOTALS | F29: =SUM(F7:F28) -> 250800000 | G29: =SUM(G7:G28) -> 250800000 | J29: =SUM(J7:J28) -> 250800000 | L29: =SUM(L7:L28) -> 158800000 | M29: =SUM(M7:M28) -> 92000000
C31: In-Line | F31: =F29-G29 -> 0
C33: Available | F33: =+C1-G29+M29 -> 1039794 | G33: Any available amount after 8/15 is reflected on the Aug 15 Tab

Sheet SC4 MF- Local Collapse
A1: SUBCEILING #4 | C1: ='REGION 1'!F13+'REGION 2'!F12+'REGION 3'!F20+'REGION 4'!F12+'REGION 5'!F12+'REGION 6'!F20+'REGION 7'!F20+'REGION 8'!F12+'REGION 9'!F18+'REGION 10'!F12+'REGION 11'!F12+'REGION 12'!F13+'REGION 13'!F12 -> 416975279
A2: March 1 Local Collapse
A4: DOCKET# | B4: STATUS | C4: ISSUER | D4: PROJECT | E4: LOCATION | F4: REQUESTED | G4: RESERVED | H4: RESERVATION | I4: 35-DAY | J4: CERTIFIED | K4: 180-DAY | L4: ALLOCATION | M4: RELEASED | N4: RELEASE/
A5: or | F5: AMOUNT | G5: AMOUNT | H5: DATE | I5: DEADLINE | J5: AMOUNT | K5: DEADLINE | L5: AMOUNT | M5: AMOUNT | N5: UPDATE
A6: PRIORITY 1
A7: 4585 | B7: CLOSED | C7: Travis County Housing Finance Corporation | D7: Cascades at Onion Creek | E7: Austin | F7: 35000000 | G7: 35000000 | H7: 42431 | I7: =H7+35 -> 42466 | J7: 35000000 | K7: =H7+180 -> 42611 | L7: 30000000 | M7: =G7-L7 -> 5000000 | N7: 42595
A8: 4586 | B8: CLOSED | C8: Travis County Housing Finance Corporation | D8: Spring Villas Apartments | E8: Austin | F8: 45000000 | G8: 45000000 | H8: 42431 | I8: =H8+35 -> 42466 | J8: 45000000 | K8: =H8+180 -> 42611 | L8: 45000000 | M8: =G8-L8 -> 0 | N8: 42608
A9: 4587 | B9: WITHDRAWN | C9: Capital Area Housing Finance Corporation | D9: Redwood | E9: San Marcos | F9: 50000000 | G9: 50000000 | H9: 42431 | I9: =H9+35 -> 42466 | J9: 50000000 | K9: =H9+180 -> 42611 | L9: 0 | M9: =G9-L9 -> 50000000 | N9: 42481
A10: 4588 | B10: WITHDRAWN | C10: The Southeast Texas Housing Finance Corporation | D10: The Monarch at Bay Prairie | E10: Bay City | F10: 15000000 | G10: 15000000 | H10: 42431 | I10: =H10+35 -> 42466 | K10: =H10+180 -> 42611 | L10: 0 | M10: =G10-L10 -> 15000000 | N10: 42433
A11: 4589 | B11: CLOSED | C11: Capital Area Housing Finance Corporation | D11: Legacy Senior Residences | E11: Round Rock | F11: 20000000 | G11: 20000000 | H11: 42431 | I11: =H11+35 -> 42466 | J11: 20000000 | K11: =H11+180 -> 42611 | L11: 0 | M11: =G11-L11 -> 20000000 | N11: 42608
A12: 4590 | B12: CLOSED | C12: San Antonio Housing Trust Finance Corporation | D12: Greenline North Apartments | E12: San Antonio | F12: 50000000 | G12: 50000000 | H12: 42431 | I12: =H12+35 -> 42466 | J12: 50000000 | K12: =H12+180 -> 42611 | L12: 31000000 | M12: =G12-L12 -> 19000000 | N12: 42608
A13: 4591 | B13: WITHDRAWN | C13: San Antonio Housing Trust Finance Corporation | D13: Preserve at the Port Apartments | E13: San Antonio | F13: 37000000 | G13: 37000000 | H13: 42431 | I13: =H13+35 -> 42466 | J13: 37000000 | K13: =H13+180 -> 42611 | M13: =G13-L13 -> 37000000 | N13: 42607
A14: 4592 | B14: CLOSED | C14: Harris County Housing Finance Corporation | D14: Pinewood Apartments | E14: Houston | F14: 30000000 | G14: 30000000 | H14: 42431 | I14: =H14+35 -> 42466 | J14: 30000000 | K14: =H14+180 -> 42611 | L14: 30000000 | M14: =G14-L14 -> 0 | N14: 42608
A15: 4600 | B15: WITHDRAWN | C15: Travis County Housing Finance Corporation | D15: Agave East Apartments | E15: Del Valle | F15: 35000000 | G15: 35000000 | H15: 42467 | I15: =H15+35 -> 42502 | J15: 34000000 | K15: =H15+180 -> 42647 | M15: =G15-L15 -> 35000000 | N15: 42616
A16: 4601 | B16: CLOSED | C16: Odessa Housing Finance Corporation | D16: Vera at Odessa Apartments | E16: Odessa | F16: 35000000 | G16: 35000000 | H16: 42467 | I16: =H16+35 -> 42502 | J16: 35000000 | K16: =H16+180 -> 42647 | L16: 33000000 | M16: =G16-L16 -> 2000000 | N16: 42643
A17: 4602 | B17: WITHDRAWN | C17: San Antonio Housing Trust Finance Corporation | D17: Echo East Apartments | E17: San Antonio | F17: 20000000 | G17: 20000000 | H17: 42467 | I17: =H17+35 -> 42502 | J17: 20000000 | K17: =H17+180 -> 42647 | L17: 0 | M17: =G17-L17 -> 20000000 | N17: 42588
A18: 4606 | B18: CLOSED | C18: San Antonio Housing Trust Finance Corporation | D18: Northview Apartments | E18: San Antonio | F18: 25000000 | G18: 25000000 | H18: 42482 | I18: =H18+35 -> 42517 | J18: 25000000 | K18: =H18+180 -> 42662 | L18: 21250000 | M18: =J18-L18 -> 3750000 | N18: 42655
A19: 4628 | B19: WITHDRAWN | C19: The Cameron County Housing Finance Corporation | D19: Sunland Country Apartments | E19: Harlingen | F19: 20000000 | G19: 20000000 | H19: 42552 | I19: =H19+35 -> 42587 | J19: 16000000 | K19: =H19+180 -> 42732 | M19: =G19-L19 -> 20000000 | N19: 42689
A20: 4629 | B20: CLOSED | C20: Houston Housing Finance Corporation | D20: Avenue on 34th Apartments | E20: Houston | F20: 12000000 | G20: 12000000 | H20: 42552 | I20: =H20+35 -> 42587 | J20: 12000000 | K20: =H20+180 -> 42732 | L20: 9000000 | M20: =G20-L20 -> 3000000 | N20: 42648
A21: 4635 | B21: CF | C21: Travis County Housing Finance Corporation | D21: Old Manor Road Senior Apartments | E21: Austin | F21: 30000000 | G21: 30000000 | H21: 42563 | I21: =H21+35 -> 42598 | J21: 30000000 | K21: =H21+180 -> 42743
A22: 20-087 | B22: In-Line | C22: Strategic Housing HFC of Travis County | D22: Wildhorse Flats Apartments | E22: Austin
A23: 4607 | B23: WITHDRAWN | C23: Capital Area Housing Finance Corporation | D23: Champions Crossing Apartments | E23: San Marcos | F23: 17500000 | G23: 17500000 | H23: 42482 | I23: =H23+35 -> 42517 | J23: 0 | K23: =H23+180 -> 42662 | L23: 0 | M23: =G23-L23 -> 17500000 | N23: 42515
A24: 20-094 | B24: In-Line | C24: Rowlett Housing Finance Corporation | D24: Cypress Creek Apartment Homes | E24: Rowlett
A25: 20-100 | B25: In-Line | C25: Capital Area Housing Finance Corporation | D25: Redwood | E25: San Marcos
A26: 20-105 | B26: In-Line | C26: North Central Texas HFC | D26: Gala at Waxahachie | E26: Waxahachie
A27: 20-107 | B27: In-Line | C27: San Antonio Housing Trust Finance Corporation | D27: Cattleman Square Lofts Apartments | E27: San Antonio
A28: 20-109 | B28: In-Line | C28: Travis County Housing Finance Corporation | D28: Springdale Manor | E28: Austin
A29: 20-111 | B29: In-Line | C29: City of Dallas Housing Finance Corporation | D29: The Ridge at Lancaster | E29: Dallas
A30: 20-112 | B30: In-Line | C30: City of Dallas Housing Finance Corporation | D30: Ridgecrest Terrace Apartments | E30: Dallas
A31: 20-114 | B31: In-Line | C31: Strategic Housing HFC of Travis County | D31: Austin Manor Apts (Phase II) | E31: Austin
A32: 20-117 | B32: In-Line | C32: Travis County Housing Finance Corporation | D32: Montopolis Apartments | E32: Austin
A33: 20-123 | B33: In-Line | C33: Denton County Housing Finance Corporation | D33: EMLI at Pecan Creek Apartments | E33: Aubrey
A34: 20-127 | B34: In-Line | C34: Odessa Housing Finance Corporation | D34: Cove in Odessa Apt | E34: Odessa
A35: 20-128 | B35: In-Line | C35: Capital Area Housing Finance Corporation | D35: Legacy Senior Residences | E35: Round Rock
... A42: 20-162 | B42: In-Line | C42: Travis County Housing Finance Corporation | D42: Enclave on Ross Apartments | E42: Del Valle
D44: TOTALS | F44: =SUM(F7:F43) -> 476500000 | G44: =SUM(G7:G43) -> 476500000 | J44: =SUM(J7:J43) -> 439000000 | L44: =SUM(L7:L43) -> 199250000 | M44: =SUM(M7:M43) -> 247250000
D46: In-Line | F46: =F44-G44 -> 0
D48: Available | F48: =+C1-G44+M44+E53 -> 187725279 | G48: Any available amount after 8/15 is reflected on the Aug 15 Tab
E53: =SUM(E50:E52) -> 0
F54: Total CF Used

Sheet REGION 1
A1: SUBCEILING #4 | C1: 20923029
A2: REGION 1
A4: DOCKET# | B4: STATUS | C4: ISSUER | D4: PROJECT | E4: LOCATION | F4: REQUESTED | G4: RESERVED | H4: RESERVATION | I4: 35-DAY | J4: CERTIFIED | K4: 180-DAY | L4: ALLOCATION | M4: RELEASED | N4: RELEASE/
A5: or | F5: AMOUNT | G5: AMOUNT | H5: DATE | I5: DEADLINE | J5: AMOUNT | K5: DEADLINE | L5: AMOUNT | M5: AMOUNT | N5: UPDATE
A6: PRIORITY 1
A7: 4582 | B7: CLOSED | C7: Panhandle Regional HFC | D7: Blue Water Gardens Apts | E7: Hereford | F7: 16750000 | G7: 16750000 | H7: 42426 | I7: =H7+35 -> 42461 | J7: 16750000 | K7: =H7+180 -> 42606 | L7: 13000000 | M7: =J7-L7 -> 3750000 | N7: 42606
D9: TOTALS | F9: =SUM(F7:F8) -> 16750000 | G9: =SUM(G7:G8) -> 16750000 | J9: =SUM(J7:J8) -> 16750000 | L9: =SUM(L7:L8) -> 13000000 | M9: =SUM(M7:M8) -> 3750000
D11: In-Line | F11: 0
D13: Available | F13: =+C1-G9+M9 -> 7923029 | G13: Any available amount after 8/15 is reflected on the Aug 15 Tab

Sheet REGION 2
A1: SUBCEILING #4 | C1: 14713253
A2: REGION 2
A4: DOCKET# | B4: STATUS | C4: ISSUER | D4: PROJECT | E4: LOCATION | F4: REQUESTED | G4: RESERVED | H4: RESERVATION | I4: 35-DAY | J4: CERTIFIED | K4: 180-DAY | L4: ALLOCATION | M4: RELEASED | N4: RELEASE/
A5: or | F5: AMOUNT | G5: AMOUNT | H5: DATE | I5: DEADLINE | J5: AMOUNT | K5: DEADLINE | L5: AMOUNT | M5: AMOUNT | N5: UPDATE
A6: PRIORITY 1
D8: TOTALS | F8: =SUM(F7:F7) -> 0 | G8: =SUM(G7:G7) -> 0 | J8: =SUM(J7:J7) -> 0 | L8: =SUM(L7:L7) -> 0 | M8: =SUM(M7:M7) -> 0
D10: In-Line | F10: 0
D12: Available | F12: =+C1-G8+M8 -> 14713253 | G12: Any available amount after 8/15 is reflected on the Aug 15 Tab

Sheet REGION 3
A1: SUBCEILING #4 | C1: 1.4724442e+08
A2: REGION 3
A4: DOCKET# | B4: STATUS | C4: ISSUER | D4: PROJECT | E4: LOCATION | F4: REQUESTED | G4: RESERVED | H4: RESERVATION | I4: 35-DAY | J4: CERTIFIED | K4: 180-DAY | L4: ALLOCATION | M4: RELEASED | N4: RELEASE/
A5: or | F5: AMOUNT | G5: AMOUNT | H5: DATE | I5: DEADLINE | J5: AMOUNT | K5: DEADLINE | L5: AMOUNT | M5: AMOUNT | N5: UPDATE
A6: PRIORITY 1
A7: 4536 | B7: WITHDRAWN | C7: North Central Texas Housing Finance Corporation | D7: Gala at Fate | E7: Fate | F7: 25000000 | G7: 25000000 | H7: 42370 | I7: =H7+35 -> 42405 | J7: 25000000 | K7: =H7+180 -> 42550 | M7: =J7-L7 -> 25000000 | N7: 42427
A8: 4548 | B8: CLOSED | C8: McKinney Housing Finance Corporation | D8: McKinney Flats | E8: McKinney | F8: 32000000 | G8: 32000000 | H8: 42371 | I8: =H8+35 -> 42406 | J8: 32000000 | K8: =H8+180 -> 42551 | L8: 28750000 | M8: =J8-L8 -> 3250000 | N8: 42550
A9: 4554 | B9: CANCELLED | C9: Rowlett Housing Finance Corporation | D9: Residences at Merritt Hill | E9: Rowlett | F9: 33000000 | G9: 33000000 | H9: 42374 | I9: =H9+35 -> 42409 | J9: 33000000 | K9: =H9+180 -> 42554 | M9: =J9-L9 -> 33000000 | N9: 42554
A10: 4572 | B10: WITHDRAWN | C10: Denton County Housing Finance Corporation | D10: EMLI at Pecan Creek Apartments | E10: Aubrey | F10: 20000000 | G10: 20000000 | H10: 42406 | I10: =H10+35 -> 42441 | J10: 20000000 | K10: =H10+180 -> 42586 | M10: =J10-L10 -> 20000000 | N10: 42546
A11: 4573 | B11: CLOSED | C11: McKinney Housing Finance Corporation | D11: Kinwood Apartments | E11: McKinney | F11: 30000000 | G11: 30000000 | H11: 42406 | I11: =H11+35 -> 42441 | J11: 30000000 | K11: =H11+180 -> 42586 | L11: 30000000 | M11: =J11-L11 -> 0 | N11: 42584
A12: 4584 | B12: CLOSED | C12: North Central Texas Housing Finance Corporation | D12: Gala at Fate | E12: Fate | F12: 25000000 | G12: 25000000 | H12: 42431 | I12: =H12+35 -> 42466 | J12: 25000000 | K12: =H12+180 -> 42611 | L12: 5000000 | M12: =J12-L12 -> 20000000 | N12: 42587 | O12: 2018 CF
D15: TOTALS | F15: =SUM(F7:F14) -> 165000000 | G15: =SUM(G7:G14) -> 165000000 | J15: =SUM(J7:J14) -> 165000000 | L15: =SUM(L7:L14) -> 63750000 | M15: =SUM(M7:M14) -> 101250000
D17: In-Line | F17: =F15-G15 -> 0
D20: Available | F20: =+C1-G15+M15+E24 -> 83494418 | G20: Any available amount after 8/15 is reflected on the Aug 15 Tab

Sheet REGION 4
A1: SUBCEILING #4 | C1: 27244693
A2: REGION 4
A4: DOCKET# | N4: RELEASE/
A5: or | B5: STATUS | C5: ISSUER | D5: PROJECT | E5: LOCATION | F5: REQUESTED | G5: RESERVED | H5: RESERVATION | I5: 35-DAY | J5: CERTIFIED | K5: 180-DAY | L5: ALLOCATION | M5: RELEASED | N5: UPDATE
A6: LOT# | F6: AMOUNT | G6: AMOUNT | H6: DATE | I6: DEADLINE | J6: AMOUNT | K6: DEADLINE | L6: AMOUNT | M6: AMOUNT | N6: DATE
D8: TOTALS | F8: =SUM(F7:F7) -> 0 | G8: =SUM(G7:G7) -> 0 | J8: =SUM(J7:J7) -> 0 | L8: =SUM(L7:L7) -> 0 | M8: =SUM(M7:M7) -> 0
D10: In-Line | F10: =SUM(F8-G8) -> 0
D12: Available | F12: =+C1-G8+M8 -> 27244693 | G12: Any available amount after 8/15 is reflected on the Aug 15 Tab

Sheet REGION 5
A1: SUBCEILING #4 | C1: 19916038
A2: REGION 5
A4: DOCKET# | N4: RELEASE/
A5: or | B5: STATUS | C5: ISSUER | D5: PROJECT | E5: LOCATION | F5: REQUESTED | G5: RESERVED | H5: RESERVATION | I5: 35-DAY | J5: CERTIFIED | K5: 180-DAY | L5: ALLOCATION | M5: RELEASED | N5: UPDATE
A6: LOT# | F6: AMOUNT | G6: AMOUNT | H6: DATE | I6: DEADLINE | J6: AMOUNT | K6: DEADLINE | L6: AMOUNT | M6: AMOUNT | N6: DATE
D8: TOTALS | F8: =SUM(F7:F7) -> 0 | G8: =SUM(G7:G7) -> 0 | J8: =SUM(J7:J7) -> 0 | L8: =SUM(L7:L7) -> 0 | M8: =SUM(M7:M7) -> 0
D10: In-Line | F10: =SUM(F8-G8) -> 0
D12: Available | F12: =+C1-G8+M8 -> 19916038 | G12: Any available amount after 8/15 is reflected on the Aug 15 Tab

Sheet REGION 6
A1: SUBCEILING #4 | C1: 1.3023746e+08
A2: REGION 6
A4: DOCKET# | B4: STATUS | C4: ISSUER | D4: PROJECT | E4: LOCATION | F4: REQUESTED | G4: RESERVED | H4: RESERVATION | I4: 35-DAY | J4: CERTIFIED | K4: 180-DAY | L4: ALLOCATION | M4: RELEASED | N4: RELEASE/
A5: or | F5: AMOUNT | G5: AMOUNT | H5: DATE | I5: DEADLINE | J5: AMOUNT | K5: DEADLINE | L5: AMOUNT | M5: AMOUNT | N5: UPDATE
A6: LOT# | N6: DATE
A7: 4531 | B7: WITHDRAWN | C7: Houston Housing Finance Corporation | D7: The St. Joe Apartments | E7: Houston | F7: 51757648 | G7: 51757648 | H7: 42370 | I7: =H7+35 -> 42405 | K7: =H7+180 -> 42550 | M7: =G7-L7 -> 51757648 | N7: 42404
A8: 4535 | B8: CLOSED | C8: Houston Housing Finance Corporation | D8: New Hope Housing Avenue J Apartments | E8: Houston | F8: 23000000 | G8: 23000000 | H8: 42370 | I8: =H8+35 -> 42405 | J8: 23000000 | K8: =H8+180 -> 42550 | L8: 18500000 | M8: =G8-L8 -> 4500000 | N8: 42545
A9: 4542 | B9: WITHDRAWN | C9: Houston Housing Finance Corporation | D9: Avenue on 34th Apartments | E9: Houston | F9: 8000000 | G9: 8000000 | H9: 42371 | I9: =H9+35 -> 42406 | K9: =H9+180 -> 42551 | M9: =G9-L9 -> 8000000 | N9: 42404
A10: 4570 | B10: WITHDRAWN | C10: Montgomery County Housing Finance Corporation | D10: 333 Holly | E10: The Woodlands | F10: 50000000 | G10: 50000000 | H10: 42404 | I10: =H10+35 -> 42439 | J10: 50000000 | K10: =H10+180 -> 42584 | M10: =G10-L10 -> 50000000 | N10: 42467
A11: 4571 | B11: WITHDRAWN | C11: Montgomery County Housing Finance Corporation | D11: The Pines | E11: The Woodlands | F11: 30000000 | G11: 30000000 | H11: 42404 | I11: =H11+35 -> 42439 | J11: 30000000 | K11: =H11+180 -> 42584 | M11: =G11-L11 -> 30000000 | N11: 42467
A12: 4577 | B12: CLOSED | C12: Harris County Housing Finance Corporation | D12: Enclave at Lake Pointe Apartments | E12: Houston | F12: 14200000 | G12: 14200000 | H12: 42411 | I12: =H12+35 -> 42446 | J12: 14200000 | K12: =H12+180 -> 42591 | L12: 14200000 | M12: =G12-L12 -> 0 | N12: 42592
A13: 20-041 | B13: In-Line | C13: The Southeast Texas Housing Finance Corporation | D13: The Monarch at Bay Prairie | E13: Bay City
A14: 20-064 | B14: In-Line | C14: Harris County Housing Finance Corporation | D14: Pinewood Apartments | E14: Houston
D16: TOTALS | F16: =SUM(F7:F15) -> 1.7695765e+08 | G16: =SUM(G7:G15) -> 1.7695765e+08 | J16: =SUM(J7:J15) -> 117200000 | L16: =SUM(L7:L15) -> 32700000 | M16: =SUM(M7:M15) -> 1.4425765e+08
D18: In-Line | F18: =F16-G16 -> 0
D20: Available | F20: =+C1-G16+M16 -> 97537464 | G20: Any available amount after 8/15 is reflected on the Aug 15 Tab

Sheet REGION 7
A1: SUBCEILING #4 | C1: 36139777
A2: REGION 7
A4: DOCKET# | N4: RELEASE/
A5: or | B5: STATUS | C5: ISSUER | D5: PROJECT | E5: LOCATION | F5: REQUESTED | G5: RESERVED | H5: RESERVATION | I5: 35-DAY | J5: CERTIFIED | K5: 180-DAY | L5: ALLOCATION | M5: RELEASED | N5: UPDATE
A6: LOT# | F6: AMOUNT | G6: AMOUNT | H6: DATE | I6: DEADLINE | J6: AMOUNT | K6: DEADLINE | L6: AMOUNT | M6: AMOUNT | N6: DATE
A7: 4539 | B7: CLOSED | C7: Austin Housing Finance Corporation | D7: Vi Collina | E7: Austin | F7: 24000000 | G7: 24000000 | H7: 42370 | I7: =H7+35 -> 42405 | J7: 24000000 | K7: =H7+180 -> 42550 | L7: 7314000 | M7: =J7-L7 -> 16686000 | N7: 42545 | O7: 2017 & 2018 CF
A8: 4562 | B8: CANCELLED | C8: Capital Area Housing Finance Corporation | D8: Grand Avenue Flats | E8: Austin | F8: 45000000 | G8: 45000000 | H8: 42382 | I8: =H8+35 -> 42417 | K8: =H8+180 -> 42562 | M8: =G8-L8 -> 45000000 | N8: 42418
A9: 20-033 | B9: In-Line | C9: Travis County Housing Finance Corporation | D9: Cascades at Onion Creek | E9: Austin
A10: 4583 | B10: CLOSED | C10: Capital Area Housing Finance Corporation | D10: Riverstone | E10: San Marcos | F10: 50000000 | G10: 50000000 | H10: 42426 | I10: =H10+35 -> 42461 | J10: 50000000 | K10: =H10+180 -> 42606 | M10: =J10-L10 -> 50000000 | N10: 42530
A11: 20-038 | B11: In-Line | C11: Travis County Housing Finance Corporation | D11: Spring Villas Apartments | E11: Austin
A12: 20-039 | B12: In-Line | C12: Capital Area Housing Finance Corporation | D12: Redwood | E12: San Marcos
A13: 20-045 | B13: In-Line | C13: Capital Area Housing Finance Corporation | D13: Legacy Senior Residences | E13: Round Rock
A14: 20-066 | B14: In-Line | C14: Travis County Housing Finance Corporation | D14: Agave East Apartments | E14: Del Valle
D16: TOTALS | F16: =SUM(F7:F15) -> 119000000 | G16: =SUM(G7:G15) -> 119000000 | J16: =SUM(J7:J15) -> 74000000 | L16: =SUM(L7:L15) -> 7314000 | M16: =SUM(M7:M15) -> 111686000
D18: In-Line | F18: =F16-G16 -> 0
D20: Available | F20: =+C1-G16+M16+E23 -> 28825777 | G20: Any available amount after 8/15 is reflected on the Aug 15 Tab

Sheet REGION 8
A1: SUBCEILING #4 | C1: 25846095
A2: REGION 8
A4: DOCKET# | B4: STATUS | C4: ISSUER | D4: PROJECT | E4: LOCATION | F4: REQUESTED | G4: RESERVED | H4: RESERVATION | I4: 35-DAY | J4: CERTIFIED | K4: 180-DAY | L4: ALLOCATION | M4: RELEASED | N4: RELEASE/
A5: or | F5: AMOUNT | G5: AMOUNT | H5: DATE | I5: DEADLINE | J5: AMOUNT | K5: DEADLINE | L5: AMOUNT | M5: AMOUNT | N5: UPDATE
A6: LOT# | N6: DATE
D8: TOTALS | F8: =SUM(F7:F7) -> 0 | G8: =SUM(G7:G7) -> 0 | J8: =SUM(J7:J7) -> 0 | L8: =SUM(L7:L7) -> 0 | M8: =SUM(M7:M7) -> 0
D10: In-Line | F10: 0
D12: Available | F12: =SUM(C1-G8+M8) -> 25846095 | G12: Any available amount after 8/15 is reflected on the Aug 15 Tab

Sheet REGION 9
A1: SUBCEILING #4 | C1: 48503385
A2: REGION 9
A4: DOCKET# | B4: STATUS | C4: ISSUER | D4: PROJECT | E4: LOCATION | F4: REQUESTED | G4: RESERVED | H4: RESERVATION | I4: 35-DAY | J4: CERTIFIED | K4: 180-DAY | L4: ALLOCATION | M4: RELEASED | N4: RELEASE/
A5: or | F5: AMOUNT | G5: AMOUNT | H5: DATE | I5: DEADLINE | J5: AMOUNT | K5: DEADLINE | L5: AMOUNT | M5: AMOUNT | N5: UPDATE
A6: LOT# | N6: DATE
A7: 4552 | B7: CLOSED | C7: San Antonio Housing Trust Finance Corporation | D7: Artisan at Parkdale Apartments | E7: San Antonio | F7: 25000000 | G7: 25000000 | H7: 42374 | I7: =H7+35 -> 42409 | J7: 25000000 | K7: =H7+180 -> 42554 | L7: 18000000 | M7: =J7-L7 -> 7000000 | N7: 42544
A8: 4560 | B8: CLOSED | C8: San Antonio Housing Trust Finance Corporation | D8: Pan American Apartments | E8: San Antonio | F8: 15000000 | G8: 15000000 | H8: 42381 | I8: =H8+35 -> 42416 | J8: 15000000 | K8: =H8+180 -> 42561 | L8: 7700000 | M8: =J8-L8 -> 7300000 | N8: 42542 | O8: 2018CF
A9: 20-051 | B9: In-Line | C9: San Antonio Housing Trust Finance Corporation | D9: Greenline North Apartments | E9: San Antonio
A10: 20-061 | B10: In-Line | C10: San Antonio Housing Trust Finance Corporation | D10: Preserve at the Port Apartments | E10: San Antonio
A11: 20-073 | B11: In-Line | C11: San Antonio Housing Trust Finance Corporation | D11: Echo East Apartments | E11: San Antonio
A12: 20-074 | B12: In-Line | C12: San Antonio Housing Trust Finance Corporation | D12: Northview Apartments | E12: San Antonio
D14: TOTALS | F14: =SUM(F7:F13) -> 40000000 | G14: =SUM(G7:G13) -> 40000000 | J14: =SUM(J7:J13) -> 40000000 | L14: =SUM(L7:L13) -> 25700000 | M14: =SUM(M7:M13) -> 14300000
D16: In-Line | F16: =F14-G14 -> 0
D18: Available | F18: =SUM(C1-G14+M14) -> 22803385 | G18: Any available amount after 8/15 is reflected on the Aug 15 Tab

Sheet REGION 10
A1: SUBCEILING #4 | C1: 19636319
A2: REGION 10
A4: DOCKET# | B4: STATUS | C4: ISSUER | D4: PROJECT | E4: LOCATION | F4: REQUESTED | G4: RESERVED | H4: RESERVATION | I4: 35-DAY | J4: CERTIFIED | K4: 180-DAY | L4: ALLOCATION | M4: RELEASED | N4: RELEASE/
A5: or | F5: AMOUNT | G5: AMOUNT | H5: DATE | I5: DEADLINE | J5: AMOUNT | K5: DEADLINE | L5: AMOUNT | M5: AMOUNT | N5: UPDATE
A6: LOT# | N6: DATE
C8: TOTALS | F8: =SUM(F7:F7) -> 0 | G8: =SUM(G7:G7) -> 0 | J8: =SUM(J7:J7) -> 0 | L8: =SUM(L7:L7) -> 0 | M8: =SUM(M7:M7) -> 0
C10: In-Line | F10: =SUM(F8-G8) -> 0
C12: Available | F12: =+C1-G8+M8 -> 19636319 | G12: Any available amount after 8/15 is reflected on the Aug 15 Tab

Sheet REGION 11
A1: SUBCEILING #4 | C1: 36027890
A2: REGION 11
A4: DOCKET# | B4: STATUS | C4: ISSUER | D4: PROJECT | E4: LOCATION | F4: REQUESTED | G4: RESERVED | H4: RESERVATION | I4: 35-DAY | J4: CERTIFIED | K4: 180-DAY | L4: ALLOCATION | M4: RELEASED | N4: RELEASE/
A5: or | F5: AMOUNT | G5: AMOUNT | H5: DATE | I5: DEADLINE | J5: AMOUNT | K5: DEADLINE | L5: AMOUNT | M5: AMOUNT | N5: UPDATE
A6: LOT# | N6: DATE
D8: TOTALS | F8: =SUM(F7:F7) -> 0 | G8: =SUM(G7:G7) -> 0 | J8: =SUM(J7:J7) -> 0 | L8: =SUM(L7:L7) -> 0 | M8: =SUM(M7:M7) -> 0
D10: In-Line | F10: =SUM(F8-G8) -> 0
D12: Available | F12: =+C1-G8+M8 -> 36027890 | G12: Any available amount after 8/15 is reflected on the Aug 15 Tab

Sheet REGION 12
A1: SUBCEILING #4 | C1: 14097870
A2: REGION 12
A4: DOCKET# | B4: STATUS | C4: ISSUER | D4: PROJECT | E4: LOCATION | F4: REQUESTED | G4: RESERVED | H4: RESERVATION | I4: 35-DAY | J4: CERTIFIED | K4: 180-DAY | L4: ALLOCATION | M4: RELEASED | N4: RELEASE/
A5: or | F5: AMOUNT | G5: AMOUNT | H5: DATE | I5: DEADLINE | J5: AMOUNT | K5: DEADLINE | L5: AMOUNT | M5: AMOUNT | N5: UPDATE
A6: LOT# | N6: DATE
A7: 20-067 | B7: In-Line | C7: Odessa Housing Finance Corporation | D7: Vera at Odessa Apartments | E7: Odessa
D9: TOTALS | F9: =SUM(F7:F8) -> 0 | G9: =SUM(G7:G8) -> 0 | J9: =SUM(J7:J8) -> 0 | L9: =SUM(L7:L8) -> 0 | M9: =SUM(M7:M8) -> 0
D11: In-Line | F11: =SUM(F9-G9) -> 0
D13: Available | F13: =+C1-G9+M9 -> 14097870 | G13: Any available amount after 8/15 is reflected on the Aug 15 Tab

Sheet REGION 13
A1: SUBCEILING #4 | C1: 18909048
A2: REGION 13
A4: DOCKET# | B4: STATUS | C4: ISSUER | D4: PROJECT | E4: LOCATION | F4: REQUESTED | G4: RESERVED | H4: RESERVATION | I4: 35-DAY | J4: CERTIFIED | K4: 180-DAY | L4: ALLOCATION | M4: RELEASED | N4: RELEASE/
A5: or | F5: AMOUNT | G5: AMOUNT | H5: DATE | I5: DEADLINE | J5: AMOUNT | K5: DEADLINE | L5: AMOUNT | M5: AMOUNT | N5: UPDATE
A6: LOT# | N6: DATE
D8: TOTALS | F8: =SUM(F7:F7) -> 0 | G8: =SUM(G7:G7) -> 0 | J8: =SUM(J7:J7) -> 0 | L8: =SUM(L7:L7) -> 0 | M8: =SUM(M7:M7) -> 0
D10: In-Line | F10: =SUM(F8-G8) -> 0
D12: Available | F12: =+C1+F11-G8+M8 -> 18909048 | G12: Any available amount after 8/15 is reflected on the Aug 15 Tab

Sheet SC5 OTHER
C1: =Totals!I8 -> 898147413
A2: ALL OTHER ISSUES
A4: DOCKET# | B4: STATUS | C4: ISSUER | D4: PROJECT | E4: LOCATION | F4: REQUESTED | G4: RESERVED | H4: RESERVATION | I4: 35-DAY | J4: CERTIFIED | K4: CLOSING | L4: ALLOCATION | M4: RELEASED | N4: RELEASE/
A5: or | F5: AMOUNT | G5: AMOUNT | H5: DATE | I5: DEADLINE | J5: AMOUNT | K5: DEADLINE | L5: AMOUNT | M5: AMOUNT | N5: UPDATE
A6: LOT # | N6: DATE
A7: 4530 | B7: CLOSED | C7: Port Aransas Public Finance Corporation | D7: Palladium Port Aransas | E7: Port Aransas | F7: 19000000 | G7: 19000000 | H7: 42370 | I7: =H7+35 -> 42405 | J7: 19000000 | K7: =H7+180 -> 42550 | L7: 17700000 | M7: =J7-L7 -> 1300000 | N7: 42546
A8: 4532 | B8: CLOSED | C8: Las Varas Public Facility Corporation | D8: 1604 Lofts Apartments | E8: Converse | F8: 38000000 | G8: 38000000 | H8: 42370 | I8: =H8+35 -> 42405 | J8: 38000000 | K8: =H8+180 -> 42550 | L8: 21000000 | M8: =J8-L8 -> 17000000 | N8: 42545 | O8: 2019 CF
A9: 4533 | B9: CLOSED | C9: Harris County Housing Authority PFC | D9: The Arbor at Wayforest | E9: Houston | F9: 20000000 | G9: 20000000 | H9: 42370 | I9: =H9+35 -> 42405 | J9: 20000000 | K9: =H9+180 -> 42550 | L9: 20000000 | M9: =J9-L9 -> 0 | N9: 42556
A10: 4534 | B10: CLOSED | C10: Brazoria County Industrial Development Corporation | D10: Gladieux Metals Solid Waste Disposal Facility | E10: Freeport | F10: 50000000 | G10: 50000000 | H10: 42370 | I10: =H10+35 -> 42405 | J10: 50000000 | K10: =H10+150 -> 42520 | L10: 38500000 | M10: =J10-L10 -> 11500000 | N10: 42515
A11: 4537 | B11: WITHDRAWN | C11: Las Varas Public Facility Corporation | D11: Alazan Courts Apartments | E11: San Antonio | F11: 44000000 | G11: 44000000 | H11: 42370 | I11: =H11+35 -> 42405 | J11: 0 | K11: =H11+180 -> 42550 | L11: 0 | M11: =G11-L11 -> 44000000 | N11: 42371
A12: 4538 | B12: CLOSED | C12: Brazos Higher Education Authority, Inc. | D12: Student Loan Bonds Series 2020 | E12: Statewide | F12: 100000000 | G12: 100000000 | H12: 42370 | I12: =H12+35 -> 42405 | J12: 33500000 | K12: =H12+210 -> 42580 | L12: 3467072.4 | M12: =G12-L12 -> 96532928 | N12: 42434
A13: 4540 | B13: WITHDRAWN | C13: Hurst Public Facility Corporation | D13: Gala at Central Park Apartments | E13: Hurst | F13: 15000000 | G13: 15000000 | H13: 42371 | I13: =H13+35 -> 42406 | J13: 15000000 | K13: =H13+180 -> 42551 | L13: 0 | M13: =G13-L13 -> 15000000 | N13: 42469
A14: 4543 | B14: CLOSED | C14: Las Varas Public Facility Corporation | D14: Tampico Apartments | E14: San Antonio | F14: 23000000 | G14: 23000000 | H14: 42371 | I14: =H14+35 -> 42406 | J14: 23000000 | K14: =H14+180 -> 42551 | L14: 23000000 | M14: =G14-L14 -> 0 | N14: 42557
A15: 4544 | B15: CANCELLED | C15: Mission Economic Development Corporation | D15: Zume, Inc. Project, Series 2020 | E15: Dallas | F15: 100000000 | G15: 100000000 | H15: 42371 | I15: =H15+35 -> 42406 | J15: 100000000 | K15: =H15+150 -> 42521 | L15: 0 | M15: =G15-L15 -> 100000000 | N15: 42521
A16: 4545 | B16: CLOSED | C16: Las Varas Public Facility Corporation | D16: Traders Flats | E16: San Antonio | F16: 38000000 | G16: 38000000 | H16: 42371 | I16: =H16+35 -> 42406 | J16: 38000000 | K16: =H16+180 -> 42551 | L16: 0 | M16: =G16-L16 -> 38000000 | N16: 42536 | O16: 2018 2019 CF
A17: 4546 | B17: CLOSED | C17: Austin Affordable PFC, Inc | D17: The Estates at Owen Tech | E17: Austin | F17: 20000000 | G17: 20000000 | H17: 42371 | I17: =H17+35 -> 42406 | J17: 20000000 | K17: =H17+180 -> 42551 | L17: 1250000 | M17: =G17-L17 -> 18750000 | N17: 42551 | O17: 2019 CF
